BEGIN:VCALENDAR
VERSION:2.0
PRODID:-//Daniel R Olsen Post 594 - ECPv6.15.20//NONSGML v1.0//EN
CALSCALE:GREGORIAN
METHOD:PUBLISH
X-WR-CALNAME:Daniel R Olsen Post 594
X-ORIGINAL-URL:https://post594.org
X-WR-CALDESC:Events for Daniel R Olsen Post 594
REFRESH-INTERVAL;VALUE=DURATION:PT1H
X-Robots-Tag:noindex
X-PUBLISHED-TTL:PT1H
BEGIN:VTIMEZONE
TZID:America/Chicago
BEGIN:DAYLIGHT
TZOFFSETFROM:-0600
TZOFFSETTO:-0500
TZNAME:CDT
DTSTART:20230312T080000
END:DAYLIGHT
BEGIN:STANDARD
TZOFFSETFROM:-0500
TZOFFSETTO:-0600
TZNAME:CST
DTSTART:20231105T070000
END:STANDARD
BEGIN:DAYLIGHT
TZOFFSETFROM:-0600
TZOFFSETTO:-0500
TZNAME:CDT
DTSTART:20240310T080000
END:DAYLIGHT
BEGIN:STANDARD
TZOFFSETFROM:-0500
TZOFFSETTO:-0600
TZNAME:CST
DTSTART:20241103T070000
END:STANDARD
BEGIN:DAYLIGHT
TZOFFSETFROM:-0600
TZOFFSETTO:-0500
TZNAME:CDT
DTSTART:20250309T080000
END:DAYLIGHT
BEGIN:STANDARD
TZOFFSETFROM:-0500
TZOFFSETTO:-0600
TZNAME:CST
DTSTART:20251102T070000
END:STANDARD
END:VTIMEZONE
BEGIN:VEVENT
DTSTART;TZID=America/Chicago:20240711T080000
DTEND;TZID=America/Chicago:20240711T170000
DTSTAMP:20260425T063638
CREATED:20240328T184034Z
LAST-MODIFIED:20240328T184516Z
UID:4793-1720684800-1720717200@post594.org
SUMMARY:2024 American Legion Dept of MN Convention
DESCRIPTION:What: 2024 American Legion Department of Minnesota Convention \nWhere: Willmar Conference Center\, Willmar\, Minnesota \nWhen: July 11-13\, with a few pre-convention department committee meetings on 10 July. \nWho: Hosted by Willmar Post 167. \nMore details at https://mnlegion.org/department-convention/
URL:https://post594.org/event/2024-american-legion-dept-of-mn-convention/
LOCATION:Willmar Conference Center\, 240 23rd St SE\, Willmar\, MN\, 56201\, United States
CATEGORIES:Calendar,Training
END:VEVENT
END:VCALENDAR