BEGIN:VCALENDAR
VERSION:2.0
PRODID:-//Daniel R Olsen Post 594 - ECPv6.15.20//NONSGML v1.0//EN
CALSCALE:GREGORIAN
METHOD:PUBLISH
X-ORIGINAL-URL:https://post594.org
X-WR-CALDESC:Events for Daniel R Olsen Post 594
REFRESH-INTERVAL;VALUE=DURATION:PT1H
X-Robots-Tag:noindex
X-PUBLISHED-TTL:PT1H
BEGIN:VTIMEZONE
TZID:America/Chicago
BEGIN:DAYLIGHT
TZOFFSETFROM:-0600
TZOFFSETTO:-0500
TZNAME:CDT
DTSTART:20240310T080000
END:DAYLIGHT
BEGIN:STANDARD
TZOFFSETFROM:-0500
TZOFFSETTO:-0600
TZNAME:CST
DTSTART:20241103T070000
END:STANDARD
BEGIN:DAYLIGHT
TZOFFSETFROM:-0600
TZOFFSETTO:-0500
TZNAME:CDT
DTSTART:20250309T080000
END:DAYLIGHT
BEGIN:STANDARD
TZOFFSETFROM:-0500
TZOFFSETTO:-0600
TZNAME:CST
DTSTART:20251102T070000
END:STANDARD
BEGIN:DAYLIGHT
TZOFFSETFROM:-0600
TZOFFSETTO:-0500
TZNAME:CDT
DTSTART:20260308T080000
END:DAYLIGHT
BEGIN:STANDARD
TZOFFSETFROM:-0500
TZOFFSETTO:-0600
TZNAME:CST
DTSTART:20261101T070000
END:STANDARD
END:VTIMEZONE
BEGIN:VEVENT
DTSTART;TZID=America/Chicago:20251111T081500
DTEND;TZID=America/Chicago:20251111T100000
DTSTAMP:20260423T203458
CREATED:20251010T025731Z
LAST-MODIFIED:20251010T025821Z
UID:6414-1762848900-1762855200@post594.org
SUMMARY:Eagan High School Veterans Day Program
DESCRIPTION:The Students\, Faculty\, and Staff of Eagan High School would like to cordially invite you to our 18th Annual Veterans Day recognition assembly Tuesday\, November 11\, 2025 at 9:00 a.m. in the main gymnasium of Eagan High School. Our hope is to pay tribute to the almost 22 million living Veterans and the millions of active personnel across the globe who exemplify the true character of the American spirit. \n8:15 a.m. – a social hour with coffee\, juice and cinnamon rolls. It will be held in our student commons for Veterans and their families. \n9:10 a.m. – a 50-minute assembly will be held with military personnel from the United States Armed Services as well as the Eagan High School student body. \nSeating will be available in the gymnasium beginning at 9:00 a.m. for those planning to attend the assembly but not the social hour prior. \nParking is plentiful and will be reserved for Veterans in our lower student lot. \nEagan High School is located off of Hwy 35E on the corner of Diffley Road and Braddock Trail in Eagan. \nNo rsvp is required. \nVeterans Day Invitation 25
URL:https://post594.org/event/eagan-high-school-veterans-day-program/
LOCATION:Eagan High School\, 4185 Braddock Trail\, Eagan\, MN\, 55123\, United States
CATEGORIES:Community,Veterans Day
END:VEVENT
END:VCALENDAR