BEGIN:VCALENDAR
VERSION:2.0
PRODID:-//Daniel R Olsen Post 594 - ECPv6.15.20//NONSGML v1.0//EN
CALSCALE:GREGORIAN
METHOD:PUBLISH
X-WR-CALNAME:Daniel R Olsen Post 594
X-ORIGINAL-URL:https://post594.org
X-WR-CALDESC:Events for Daniel R Olsen Post 594
REFRESH-INTERVAL;VALUE=DURATION:PT1H
X-Robots-Tag:noindex
X-PUBLISHED-TTL:PT1H
BEGIN:VTIMEZONE
TZID:America/Chicago
BEGIN:DAYLIGHT
TZOFFSETFROM:-0600
TZOFFSETTO:-0500
TZNAME:CDT
DTSTART:20240310T080000
END:DAYLIGHT
BEGIN:STANDARD
TZOFFSETFROM:-0500
TZOFFSETTO:-0600
TZNAME:CST
DTSTART:20241103T070000
END:STANDARD
BEGIN:DAYLIGHT
TZOFFSETFROM:-0600
TZOFFSETTO:-0500
TZNAME:CDT
DTSTART:20250309T080000
END:DAYLIGHT
BEGIN:STANDARD
TZOFFSETFROM:-0500
TZOFFSETTO:-0600
TZNAME:CST
DTSTART:20251102T070000
END:STANDARD
BEGIN:DAYLIGHT
TZOFFSETFROM:-0600
TZOFFSETTO:-0500
TZNAME:CDT
DTSTART:20260308T080000
END:DAYLIGHT
BEGIN:STANDARD
TZOFFSETFROM:-0500
TZOFFSETTO:-0600
TZNAME:CST
DTSTART:20261101T070000
END:STANDARD
END:VTIMEZONE
BEGIN:VEVENT
DTSTART;TZID=America/Chicago:20251203T110000
DTEND;TZID=America/Chicago:20251203T120000
DTSTAMP:20260423T185404
CREATED:20251127T002153Z
LAST-MODIFIED:20251127T002305Z
UID:6693-1764759600-1764763200@post594.org
SUMMARY:Veteran's Village Ribbon Cutting Ceremony
DESCRIPTION:Join the Minnesota Assistance Council for Veterans (MACV) for a ribbon-cutting ceremony celebrating the grand opening of Veteran Village! \nYou are invited to join MACV\, Housing First Minnesota Foundation\, Lennar\, Mount Calvary Lutheran Church\, and our valued partners as we celebrate the grand opening of Veteran Village in Eagan—Minnesota’s first multi-unit housing complex designed to support Veterans and their families served by MACV. \nThis special event will take place on Wednesday\, December 3\, at 11:00 a.m. at 3930 Rahn Road\, Eagan\, MN 55122. Parking is limited\, so we encourage attendees to carpool when possible. The celebration will be held outdoors\, and we recommend dressing appropriately for the weather. \nThe morning will include a live performance of the National Anthem\, remarks from project leaders\, an official ribbon-cutting ceremony to commemorate the grand opening\, and guided tours of select units. Guests will also have time to connect with fellow donors\, partners\, and supporters who helped bring this project to life. \nWe are especially excited to share that Lenny\, the Veteran Village facility dog\, will be joining us to help mark this meaningful day! \nVeteran Village represents teamwork\, perseverance\, and the lasting impact of shared purpose—a place where Minnesota Veterans and their families can find stability\, community\, and hope. We look forward to celebrating this milestone with you.
URL:https://post594.org/event/veterans-village-ribbon-cutting-ceremony/
LOCATION:Veterans Village\, 3930 Rahn Road\, Eagan\, MN\, 55122\, United States
CATEGORIES:Calendar,Community
END:VEVENT
BEGIN:VEVENT
DTSTART;TZID=America/Chicago:20251212T070000
DTEND;TZID=America/Chicago:20251212T090000
DTSTAMP:20260423T185404
CREATED:20251116T051655Z
LAST-MODIFIED:20251116T051814Z
UID:6585-1765522800-1765530000@post594.org
SUMMARY:Fisher House - Making Breakfast
DESCRIPTION:Members of Post 594 make breakfast for the guests of the Minneapolis VA Fisher House.
URL:https://post594.org/event/fisher-house-making-breakfast/
LOCATION:Fisher House\, 5045 E 54th St\,\, Minneapolis\, MN\, 55417\, United States
CATEGORIES:Community
END:VEVENT
BEGIN:VEVENT
DTSTART;TZID=America/Chicago:20251213T120000
DTEND;TZID=America/Chicago:20251213T160000
DTSTAMP:20260423T185404
CREATED:20251211T205416Z
LAST-MODIFIED:20251211T205620Z
UID:6772-1765627200-1765641600@post594.org
SUMMARY:Gift Wrapping Fundraiser
DESCRIPTION:Post 594 on Saturday\, December 13\, 2025\, from Noon until 4:00 p.m.\, will be doing “free” gift wrapping for shoppers in exchange for a donation to Post 594 at the Twin Cities Premium Outlet in Eagan. The gift wrapping will be set up in Space 710\, right next to the Calvin Klein store.
URL:https://post594.org/event/gift-wrapping-fundraiser/
LOCATION:Twin Cities Premium Outlets\, 3965 Eagan Outlets Pkwy\, Eagan\, MN\, 55122\, United States
CATEGORIES:Community
END:VEVENT
END:VCALENDAR