BEGIN:VCALENDAR
VERSION:2.0
PRODID:-//Daniel R Olsen Post 594 - ECPv6.15.20//NONSGML v1.0//EN
CALSCALE:GREGORIAN
METHOD:PUBLISH
X-ORIGINAL-URL:https://post594.org
X-WR-CALDESC:Events for Daniel R Olsen Post 594
REFRESH-INTERVAL;VALUE=DURATION:PT1H
X-Robots-Tag:noindex
X-PUBLISHED-TTL:PT1H
BEGIN:VTIMEZONE
TZID:America/Chicago
BEGIN:DAYLIGHT
TZOFFSETFROM:-0600
TZOFFSETTO:-0500
TZNAME:CDT
DTSTART:20250309T080000
END:DAYLIGHT
BEGIN:STANDARD
TZOFFSETFROM:-0500
TZOFFSETTO:-0600
TZNAME:CST
DTSTART:20251102T070000
END:STANDARD
BEGIN:DAYLIGHT
TZOFFSETFROM:-0600
TZOFFSETTO:-0500
TZNAME:CDT
DTSTART:20260308T080000
END:DAYLIGHT
BEGIN:STANDARD
TZOFFSETFROM:-0500
TZOFFSETTO:-0600
TZNAME:CST
DTSTART:20261101T070000
END:STANDARD
BEGIN:DAYLIGHT
TZOFFSETFROM:-0600
TZOFFSETTO:-0500
TZNAME:CDT
DTSTART:20270314T080000
END:DAYLIGHT
BEGIN:STANDARD
TZOFFSETFROM:-0500
TZOFFSETTO:-0600
TZNAME:CST
DTSTART:20271107T070000
END:STANDARD
END:VTIMEZONE
BEGIN:VEVENT
DTSTART;TZID=America/Chicago:20260612T070000
DTEND;TZID=America/Chicago:20260612T090000
DTSTAMP:20260423T154224
CREATED:20251116T052818Z
LAST-MODIFIED:20251116T052818Z
UID:6599-1781247600-1781254800@post594.org
SUMMARY:Fisher House – Making Breakfast
DESCRIPTION:Members of Post 594 make breakfast for the guests of the Minneapolis VA Fisher House.
URL:https://post594.org/event/fisher-house-making-breakfast-7/
LOCATION:Fisher House\, 5045 E 54th St\,\, Minneapolis\, MN\, 55417\, United States
CATEGORIES:Community
END:VEVENT
BEGIN:VEVENT
DTSTART;VALUE=DATE:20260616
DTEND;VALUE=DATE:20260617
DTSTAMP:20260423T154224
CREATED:20260317T230901Z
LAST-MODIFIED:20260317T230901Z
UID:7061-1781568000-1781654399@post594.org
SUMMARY:Flag Retirement Ceremony
DESCRIPTION:More details coming soon. Location and time to be determined.
URL:https://post594.org/event/flag-retirement-ceremony-5/
CATEGORIES:Calendar,Community
END:VEVENT
END:VCALENDAR