BEGIN:VCALENDAR
VERSION:2.0
PRODID:-//Daniel R Olsen Post 594 - ECPv6.15.20//NONSGML v1.0//EN
CALSCALE:GREGORIAN
METHOD:PUBLISH
X-WR-CALNAME:Daniel R Olsen Post 594
X-ORIGINAL-URL:https://post594.org
X-WR-CALDESC:Events for Daniel R Olsen Post 594
REFRESH-INTERVAL;VALUE=DURATION:PT1H
X-Robots-Tag:noindex
X-PUBLISHED-TTL:PT1H
BEGIN:VTIMEZONE
TZID:America/Chicago
BEGIN:DAYLIGHT
TZOFFSETFROM:-0600
TZOFFSETTO:-0500
TZNAME:CDT
DTSTART:20220313T080000
END:DAYLIGHT
BEGIN:STANDARD
TZOFFSETFROM:-0500
TZOFFSETTO:-0600
TZNAME:CST
DTSTART:20221106T070000
END:STANDARD
BEGIN:DAYLIGHT
TZOFFSETFROM:-0600
TZOFFSETTO:-0500
TZNAME:CDT
DTSTART:20230312T080000
END:DAYLIGHT
BEGIN:STANDARD
TZOFFSETFROM:-0500
TZOFFSETTO:-0600
TZNAME:CST
DTSTART:20231105T070000
END:STANDARD
BEGIN:DAYLIGHT
TZOFFSETFROM:-0600
TZOFFSETTO:-0500
TZNAME:CDT
DTSTART:20240310T080000
END:DAYLIGHT
BEGIN:STANDARD
TZOFFSETFROM:-0500
TZOFFSETTO:-0600
TZNAME:CST
DTSTART:20241103T070000
END:STANDARD
END:VTIMEZONE
BEGIN:VEVENT
DTSTART;TZID=America/Chicago:20231020T090000
DTEND;TZID=America/Chicago:20231020T150000
DTSTAMP:20260425T193816
CREATED:20230930T221935Z
LAST-MODIFIED:20230930T222914Z
UID:4257-1697792400-1697814000@post594.org
SUMMARY:Blood Drive 2023
DESCRIPTION:Join Daniel R Olsen Post 594 for an American Red Cross Blood Drive on October 20\, 2023 from 9:00 am to 3:00 pm. \nCall 1-800-RED CROSS (1-800-733-2767) or visit RedCrossBlood.org and enter Post 594 to schedule an appointment. \nNote: Fall into giving blood Oct 1 thru 20 and get a $15 Amazon.com Gift Card by email.  See rcblood.org/together for more information.
URL:https://post594.org/event/blood-drive-2023/
LOCATION:Eagan Community Center\, 1501 Central Pkwy\, Eagan\, MN\, 55121\, United States
CATEGORIES:Calendar,Community
ORGANIZER;CN="Mike Peiffer":MAILTO:mdpeif@q.com
END:VEVENT
END:VCALENDAR