BEGIN:VCALENDAR
VERSION:2.0
PRODID:-//Daniel R Olsen Post 594 - ECPv6.15.20//NONSGML v1.0//EN
CALSCALE:GREGORIAN
METHOD:PUBLISH
X-ORIGINAL-URL:https://post594.org
X-WR-CALDESC:Events for Daniel R Olsen Post 594
REFRESH-INTERVAL;VALUE=DURATION:PT1H
X-Robots-Tag:noindex
X-PUBLISHED-TTL:PT1H
BEGIN:VTIMEZONE
TZID:America/Chicago
BEGIN:DAYLIGHT
TZOFFSETFROM:-0600
TZOFFSETTO:-0500
TZNAME:CDT
DTSTART:20240310T080000
END:DAYLIGHT
BEGIN:STANDARD
TZOFFSETFROM:-0500
TZOFFSETTO:-0600
TZNAME:CST
DTSTART:20241103T070000
END:STANDARD
BEGIN:DAYLIGHT
TZOFFSETFROM:-0600
TZOFFSETTO:-0500
TZNAME:CDT
DTSTART:20250309T080000
END:DAYLIGHT
BEGIN:STANDARD
TZOFFSETFROM:-0500
TZOFFSETTO:-0600
TZNAME:CST
DTSTART:20251102T070000
END:STANDARD
BEGIN:DAYLIGHT
TZOFFSETFROM:-0600
TZOFFSETTO:-0500
TZNAME:CDT
DTSTART:20260308T080000
END:DAYLIGHT
BEGIN:STANDARD
TZOFFSETFROM:-0500
TZOFFSETTO:-0600
TZNAME:CST
DTSTART:20261101T070000
END:STANDARD
END:VTIMEZONE
BEGIN:VEVENT
DTSTART;TZID=America/Chicago:20250911T180000
DTEND;TZID=America/Chicago:20250911T190000
DTSTAMP:20260424T022806
CREATED:20250724T203356Z
LAST-MODIFIED:20250724T203356Z
UID:6151-1757613600-1757617200@post594.org
SUMMARY:9/11 Remembrance & Memorial event
DESCRIPTION:The event will feature a Joint Legion / Police / Fire Honor Guard; Eagan Police and Fire static display; a keynote by Eagan Fire Chief Hugo Searle. \nThe event is hosted by American Legion Post 594 and Eagan Lions Club.
URL:https://post594.org/event/9-11-remembrance-memorial-event/
LOCATION:Eagan Central Park\, 1501 Central Parkway\, Eagan\, MN\, 55121\, United States
CATEGORIES:Calendar,Community,Military Days
END:VEVENT
END:VCALENDAR