BEGIN:VCALENDAR
VERSION:2.0
PRODID:-//Daniel R Olsen Post 594 - ECPv6.15.20//NONSGML v1.0//EN
CALSCALE:GREGORIAN
METHOD:PUBLISH
X-ORIGINAL-URL:https://post594.org
X-WR-CALDESC:Events for Daniel R Olsen Post 594
REFRESH-INTERVAL;VALUE=DURATION:PT1H
X-Robots-Tag:noindex
X-PUBLISHED-TTL:PT1H
BEGIN:VTIMEZONE
TZID:America/Chicago
BEGIN:DAYLIGHT
TZOFFSETFROM:-0600
TZOFFSETTO:-0500
TZNAME:CDT
DTSTART:20230312T080000
END:DAYLIGHT
BEGIN:STANDARD
TZOFFSETFROM:-0500
TZOFFSETTO:-0600
TZNAME:CST
DTSTART:20231105T070000
END:STANDARD
BEGIN:DAYLIGHT
TZOFFSETFROM:-0600
TZOFFSETTO:-0500
TZNAME:CDT
DTSTART:20240310T080000
END:DAYLIGHT
BEGIN:STANDARD
TZOFFSETFROM:-0500
TZOFFSETTO:-0600
TZNAME:CST
DTSTART:20241103T070000
END:STANDARD
BEGIN:DAYLIGHT
TZOFFSETFROM:-0600
TZOFFSETTO:-0500
TZNAME:CDT
DTSTART:20250309T080000
END:DAYLIGHT
BEGIN:STANDARD
TZOFFSETFROM:-0500
TZOFFSETTO:-0600
TZNAME:CST
DTSTART:20251102T070000
END:STANDARD
END:VTIMEZONE
BEGIN:VEVENT
DTSTART;TZID=America/Chicago:20241111T180000
DTEND;TZID=America/Chicago:20241111T200000
DTSTAMP:20260423T203635
CREATED:20241015T174205Z
LAST-MODIFIED:20241015T174230Z
UID:5296-1731348000-1731355200@post594.org
SUMMARY:Flag Inspection Event - Nov 2024
DESCRIPTION:You are invited to join us on the evening of Monday\, November 11\, 2024 (Veterans Day)\, for a flag education and inspection event with our local Scout troops. We’ll spend some time talking about the importance of respect for our flag\, followed by inspection and folding of all the flags we have collected since June. This is a fun and collaborative event\, and a great opportunity to support our Post mission and values around youth education.  Feel free to reach out to Commander Rayman with any questions. \nEvent details: \nFlag Education & Inspection\nMonday\, 11/11/24\, 6:00 p.m.\nSaints Martha & Mary Episcopal Church 4180 Lexington Avenue S.\, Eagan
URL:https://post594.org/event/flag-inspection-event-nov-2024/
LOCATION:Saints Martha & Mary Episcopal Church\, 4180 Lexington Avenue S.\, Eagan\, 55123\, United States
CATEGORIES:Calendar,Community
ORGANIZER;CN="John Rayman":MAILTO:jpretiredle05@gmail.com
END:VEVENT
BEGIN:VEVENT
DTSTART;TZID=America/Chicago:20241111T103000
DTEND;TZID=America/Chicago:20241111T110000
DTSTAMP:20260423T203635
CREATED:20241110T050729Z
LAST-MODIFIED:20241110T050729Z
UID:5365-1731321000-1731322800@post594.org
SUMMARY:Ecumen Hospice Veterans Day event
DESCRIPTION:The Post 594 Color Guard will participate in a Veterans Day event at the Ecumen Hospice in Inver Grove Heights at 10:30 am.
URL:https://post594.org/event/ecumen-hospice-veterans-day-event/
LOCATION:MN
CATEGORIES:Calendar,Community,Veterans Day
END:VEVENT
BEGIN:VEVENT
DTSTART;TZID=America/Chicago:20241111T090000
DTEND;TZID=America/Chicago:20241111T093000
DTSTAMP:20260423T203635
CREATED:20241110T050509Z
LAST-MODIFIED:20241110T050533Z
UID:5363-1731315600-1731317400@post594.org
SUMMARY:Blue Cross / Blue Shield Veterans Day
DESCRIPTION:The Post 594 Color Guard will be participating in the Blue Cross / Blue Shield Veterans Day event at 9:00 am.
URL:https://post594.org/event/blue-cross-blue-shield-veterans-day/
LOCATION:MN
CATEGORIES:Calendar,Community,Veterans Day
END:VEVENT
BEGIN:VEVENT
DTSTART;TZID=America/Chicago:20241023T090000
DTEND;TZID=America/Chicago:20241023T150000
DTSTAMP:20260423T203635
CREATED:20241002T201528Z
LAST-MODIFIED:20241002T201612Z
UID:5270-1729674000-1729695600@post594.org
SUMMARY:Blood Drive
DESCRIPTION:The Daniel R. Olsen Post 594 is having an American Red Cross Blood Drive on Wednesday\, October 23\, 2024 from 9:00 am to 3:00 pm.  It will be held at the Eagan Community Center\, 1501 Central Pkwy\, Eagan\, MN 55121. \n  \nYou \nOctober 2024 Blood Drive Flyer \nYou can also scan the QR Code below to schedule an appointment: \nBood Drive QR Code
URL:https://post594.org/event/blood-drive-2/
LOCATION:Eagan Community Center\, 1501 Central Pkwy\, Eagan\, MN\, 55121\, United States
CATEGORIES:Community
ORGANIZER;CN="Mike Peiffer":MAILTO:mdpeif@q.com
END:VEVENT
BEGIN:VEVENT
DTSTART;TZID=America/Chicago:20241019T083000
DTEND;TZID=America/Chicago:20241019T093000
DTSTAMP:20260423T203635
CREATED:20241017T130208Z
LAST-MODIFIED:20241017T130445Z
UID:5310-1729326600-1729330200@post594.org
SUMMARY:Street Cleanup – Fall 2024
DESCRIPTION:The fall street cleanup will take place on Saturday\, 10/19/24. Volunteers clean up trash on Duckwood Drive between Denmark Ave and Pilot Knob Ave. Anyone interested in participating should report to the south end of the Eagan Walmart parking lot that morning at 8:30 am.
URL:https://post594.org/event/street-cleanup-fall-2024/
LOCATION:Walmart\, 1360 Town Centre Dr.\, Eagan\, MN\, 55123\, United States
CATEGORIES:Calendar,Community
END:VEVENT
BEGIN:VEVENT
DTSTART;TZID=America/Chicago:20240911T170000
DTEND;TZID=America/Chicago:20240911T180000
DTSTAMP:20260423T203635
CREATED:20240906T233901Z
LAST-MODIFIED:20240906T233901Z
UID:5176-1726074000-1726077600@post594.org
SUMMARY:9/11 Tribute & Memorial Ceremony
DESCRIPTION:Details on the Eagan 9/11 Tribute & Memorial Ceremony can be found at https://post594.org/wp/2024/09/06/9-11-tribute-memorial-ceremony/
URL:https://post594.org/event/9-11-tribute-memorial-ceremony/
LOCATION:Eagan Tribute and Memorial Plaza\, 1507 Central Parkway\, Eagan\, MN\, 55121\, United States
CATEGORIES:Community,Military Days
ORGANIZER;CN="John Rayman":MAILTO:jpretiredle05@gmail.com
END:VEVENT
BEGIN:VEVENT
DTSTART;TZID=America/Chicago:20240818T080000
DTEND;TZID=America/Chicago:20240818T170000
DTSTAMP:20260423T203635
CREATED:20240328T175631Z
LAST-MODIFIED:20240328T175631Z
UID:4757-1723968000-1724000400@post594.org
SUMMARY:Von Hanson’s Brat Fundraiser
DESCRIPTION:More details coming.
URL:https://post594.org/event/von-hansons-brat-fundraiser-2/
LOCATION:Von Hanson’s Meats\, 1320 Duckwood Dr\, Eagan\, MN\, 55123\, United States
CATEGORIES:Calendar,Community
END:VEVENT
BEGIN:VEVENT
DTSTART;TZID=America/Chicago:20240818T080000
DTEND;TZID=America/Chicago:20240818T160000
DTSTAMP:20260423T203635
CREATED:20240817T012301Z
LAST-MODIFIED:20240817T012301Z
UID:5127-1723968000-1723996800@post594.org
SUMMARY:Von Hanson's Brat Sale 2024
DESCRIPTION:Come by Von Hanson’s in Eagan for a great grilled Brat or Hot Dog. Your purchase will support Post 594 in our efforts to help veterans and their families.
URL:https://post594.org/event/von-hansons-brat-sale-2024-2/
LOCATION:Von Hanson’s Meats\, 1320 Duckwood Dr\, Eagan\, MN\, 55123\, United States
CATEGORIES:Calendar,Community
ORGANIZER;CN="John Rayman":MAILTO:jpretiredle05@gmail.com
END:VEVENT
BEGIN:VEVENT
DTSTART;TZID=America/Chicago:20240817T080000
DTEND;TZID=America/Chicago:20240817T170000
DTSTAMP:20260423T203635
CREATED:20240328T175538Z
LAST-MODIFIED:20240328T175700Z
UID:4755-1723881600-1723914000@post594.org
SUMMARY:Von Hanson’s Brat Fundraiser
DESCRIPTION:More details coming.
URL:https://post594.org/event/von-hansons-brat-fundraiser/
LOCATION:Von Hanson’s Meats\, 1320 Duckwood Dr\, Eagan\, MN\, 55123\, United States
CATEGORIES:Calendar,Community
END:VEVENT
BEGIN:VEVENT
DTSTART;TZID=America/Chicago:20240817T080000
DTEND;TZID=America/Chicago:20240817T160000
DTSTAMP:20260423T203635
CREATED:20240817T011633Z
LAST-MODIFIED:20240817T011633Z
UID:5125-1723881600-1723910400@post594.org
SUMMARY:Von Hanson's Brat Sale 2024
DESCRIPTION:Come by Von Hanson’s in Eagan for a great grilled Brat or Hot Dog. Your purchase will supporrt Post 594 in our efforts to help veterans and their families.
URL:https://post594.org/event/von-hansons-brat-sale-2024/
LOCATION:Von Hanson’s Meats\, 1320 Duckwood Dr\, Eagan\, MN\, 55123\, United States
CATEGORIES:Calendar,Community
ORGANIZER;CN="John Rayman":MAILTO:jpretiredle05@gmail.com
END:VEVENT
BEGIN:VEVENT
DTSTART;TZID=America/Chicago:20240814T160000
DTEND;TZID=America/Chicago:20240814T200000
DTSTAMP:20260423T203635
CREATED:20240606T182110Z
LAST-MODIFIED:20240606T182110Z
UID:4944-1723651200-1723665600@post594.org
SUMMARY:Eagan Market Fest Community Night Community Outreach
DESCRIPTION:Come to the Eagan Market Fest event today and learn more about the American Legion and Post 594.  Members will be available to answer your questions.
URL:https://post594.org/event/eagan-market-fest-community-night-community-outreach-2/
LOCATION:Eagan Central Park\, 1501 Central Parkway\, Eagan\, MN\, 55121\, United States
CATEGORIES:Calendar,Community
ORGANIZER;CN="John Rayman":MAILTO:jpretiredle05@gmail.com
END:VEVENT
BEGIN:VEVENT
DTSTART;TZID=America/Chicago:20240710T160000
DTEND;TZID=America/Chicago:20240710T200000
DTSTAMP:20260423T203635
CREATED:20240606T181958Z
LAST-MODIFIED:20240606T181958Z
UID:4942-1720627200-1720641600@post594.org
SUMMARY:Eagan Market Fest Community Night Community Outreach
DESCRIPTION:Come to the Eagan Market Fest event today and learn more about the American Legion and Post 594.  Members will be available to answer your questions.
URL:https://post594.org/event/eagan-market-fest-community-night-community-outreach/
LOCATION:Eagan Central Park\, 1501 Central Parkway\, Eagan\, MN\, 55121\, United States
CATEGORIES:Calendar,Community
ORGANIZER;CN="John Rayman":MAILTO:jpretiredle05@gmail.com
END:VEVENT
BEGIN:VEVENT
DTSTART;TZID=America/Chicago:20240704T080000
DTEND;TZID=America/Chicago:20240704T233000
DTSTAMP:20260423T203635
CREATED:20240328T180143Z
LAST-MODIFIED:20240328T180143Z
UID:4763-1720080000-1720135800@post594.org
SUMMARY:Eagan Funfest
DESCRIPTION:More details coming.
URL:https://post594.org/event/eagan-funfest-2/
LOCATION:Eagan Central Park\, 1501 Central Parkway\, Eagan\, MN\, 55121\, United States
CATEGORIES:Calendar,Community
ORGANIZER;CN="Eagan Funfest":MAILTO:info@eaganfunfest.org
END:VEVENT
BEGIN:VEVENT
DTSTART;TZID=America/Chicago:20240703T080000
DTEND;TZID=America/Chicago:20240703T233000
DTSTAMP:20260423T203635
CREATED:20240328T175949Z
LAST-MODIFIED:20240328T180058Z
UID:4759-1719993600-1720049400@post594.org
SUMMARY:Eagan Funfest
DESCRIPTION:More details coming.
URL:https://post594.org/event/eagan-funfest/
LOCATION:Eagan Central Park\, 1501 Central Parkway\, Eagan\, MN\, 55121\, United States
CATEGORIES:Calendar,Community
ORGANIZER;CN="Eagan Funfest":MAILTO:info@eaganfunfest.org
END:VEVENT
BEGIN:VEVENT
DTSTART;TZID=America/Chicago:20240618T090000
DTEND;TZID=America/Chicago:20240618T143000
DTSTAMP:20260423T203635
CREATED:20240328T183603Z
LAST-MODIFIED:20240606T181715Z
UID:4791-1718701200-1718721000@post594.org
SUMMARY:Blood Drive
DESCRIPTION:A Post 594 Blood Drive will take place on Tuesday June 18\, 2024 from 09:00 am to 2:30 pm at the Eagan Community\nCenter. \nSearch for this donation event at https://www.redcrossblood.org/give.html/donation-time
URL:https://post594.org/event/blood-drive/
LOCATION:Eagan Community Center\, 1501 Central Pkwy\, Eagan\, MN\, 55121\, United States
CATEGORIES:Calendar,Community
ORGANIZER;CN="Mike Peiffer":MAILTO:mdpeif@q.com
END:VEVENT
BEGIN:VEVENT
DTSTART;TZID=America/Chicago:20240615T100000
DTEND;TZID=America/Chicago:20240615T180000
DTSTAMP:20260423T203635
CREATED:20240328T172354Z
LAST-MODIFIED:20240606T181146Z
UID:4753-1718445600-1718474400@post594.org
SUMMARY:Minnesota remembers: 50th Anniversary of the Vietnam War
DESCRIPTION:The Minnesota Department of Veterans Affairs is honored to host a commemoration of the 50th anniversary of the end of the Vietnam War. Our vision for this event is that Minnesota’s Vietnam Veterans feel honored\, respected and appreciated\, and actively make use of the resources available to them improve their quality of life. The commemoration will: \n\nProvide an opportunity for healing by thanking and honoring Minnesota Vietnam-era Veterans wherever they served\nHighlight the service of the Armed Forces during the Vietnam War\nRecognize the contributions and sacrifices made by allies of the United States during the Vietnam War\, especially those who have made Minnesota their home\n\nWho: Vietnam Veterans and their families\, allies of the United States during the Vietnam War (especially those who have made Minnesota their home) and all Minnesotans to thank our Veterans\nWhen: Thursday\, June 13 – Saturday\, June 15\, 2024\nTime: 10 a.m. – 6 p.m.\nWhere: Mall of America\, North Entrance and Atrium\, Bloomington\, MN\nWhat: \n\nResource Fair/Information Tables providing a “one-stop shop’ for Vietnam Veterans and their families seeking information on VA and MDVA benefits and community services\nHistorical displays from the Minnesota Military and Veterans Museum\nIndoor replica of the Vietnam War Memorial “Wall That Heals”\nCommemorative Program on Friday\, June 14 at 11 a.m. in the Mall of America Huntingdon Bank Rotunda followed by a complimentary brunch for Vietnam Veterans and their families\n\nNo RSVP required. \nFor detailed information http://mn.gov/mdva/news/events
URL:https://post594.org/event/minnesota-remembers-50th-anniversary-of-the-vietnam-war-3/
LOCATION:Mall of America\, 2131 Lindau Lane\, Bloomington\, 55425\, United States
CATEGORIES:Calendar,Community,Military Days
ORGANIZER;CN="MN Dept. of Veterans Affairs":MAILTO:VeteransServices.MDVA@state.mn.us
END:VEVENT
BEGIN:VEVENT
DTSTART;TZID=America/Chicago:20240614T170000
DTEND;TZID=America/Chicago:20240614T193000
DTSTAMP:20260423T203635
CREATED:20240606T180903Z
LAST-MODIFIED:20240606T180918Z
UID:4935-1718384400-1718393400@post594.org
SUMMARY:Flag Retirement Ceremony
DESCRIPTION:Post 594 will conduct a Flag Retirement ceremony on June 14\, 2024 at the Thomas Lake Park Pavilion.  Members of local Scouting organizations will participate.  The event will start with a Potluck at 5:00 pm and the Retirement Ceremony will start at 6:00 pm.  Everyone is welcome.
URL:https://post594.org/event/flag-retirement-ceremony-3/
LOCATION:Thomas Lake Park Pavilion\, 4425 Pilot Knob Road\, Eagan\, MN\, 55122\, United States
CATEGORIES:Calendar,Community
END:VEVENT
BEGIN:VEVENT
DTSTART;TZID=America/Chicago:20240614T100000
DTEND;TZID=America/Chicago:20240614T180000
DTSTAMP:20260423T203635
CREATED:20240328T172207Z
LAST-MODIFIED:20240606T181057Z
UID:4751-1718359200-1718388000@post594.org
SUMMARY:Minnesota remembers: 50th Anniversary of the Vietnam War
DESCRIPTION:The Minnesota Department of Veterans Affairs is honored to host a commemoration of the 50th anniversary of the end of the Vietnam War. Our vision for this event is that Minnesota’s Vietnam Veterans feel honored\, respected and appreciated\, and actively make use of the resources available to them improve their quality of life. The commemoration will: \n\nProvide an opportunity for healing by thanking and honoring Minnesota Vietnam-era Veterans wherever they served\nHighlight the service of the Armed Forces during the Vietnam War\nRecognize the contributions and sacrifices made by allies of the United States during the Vietnam War\, especially those who have made Minnesota their home\n\nWho: Vietnam Veterans and their families\, allies of the United States during the Vietnam War (especially those who have made Minnesota their home) and all Minnesotans to thank our Veterans\nWhen: Thursday\, June 13 – Saturday\, June 15\, 2024\nTime: 10 a.m. – 6 p.m.\nWhere: Mall of America\, North Entrance and Atrium\, Bloomington\, MN\nWhat: \n\nResource Fair/Information Tables providing a “one-stop shop’ for Vietnam Veterans and their families seeking information on VA and MDVA benefits and community services\nHistorical displays from the Minnesota Military and Veterans Museum\nIndoor replica of the Vietnam War Memorial “Wall That Heals”\nCommemorative Program on Friday\, June 14 at 11 a.m. in the Mall of America Huntingdon Bank Rotunda followed by a complimentary brunch for Vietnam Veterans and their families\n\nNo RSVP required. \nFor detailed information http://mn.gov/mdva/news/events
URL:https://post594.org/event/minnesota-remembers-50th-anniversary-of-the-vietnam-war-2/
LOCATION:Mall of America\, 2131 Lindau Lane\, Bloomington\, 55425\, United States
CATEGORIES:Calendar,Community,Military Days
ORGANIZER;CN="MN Dept. of Veterans Affairs":MAILTO:VeteransServices.MDVA@state.mn.us
END:VEVENT
BEGIN:VEVENT
DTSTART;TZID=America/Chicago:20240613T100000
DTEND;TZID=America/Chicago:20240613T180000
DTSTAMP:20260423T203635
CREATED:20240328T171513Z
LAST-MODIFIED:20240606T181216Z
UID:4747-1718272800-1718301600@post594.org
SUMMARY:Minnesota remembers: 50th Anniversary of the Vietnam War
DESCRIPTION:The Minnesota Department of Veterans Affairs is honored to host a commemoration of the 50th anniversary of the end of the Vietnam War. Our vision for this event is that Minnesota’s Vietnam Veterans feel honored\, respected and appreciated\, and actively make use of the resources available to them improve their quality of life. The commemoration will: \n\nProvide an opportunity for healing by thanking and honoring Minnesota Vietnam-era Veterans wherever they served\nHighlight the service of the Armed Forces during the Vietnam War\nRecognize the contributions and sacrifices made by allies of the United States during the Vietnam War\, especially those who have made Minnesota their home\n\nWho: Vietnam Veterans and their families\, allies of the United States during the Vietnam War (especially those who have made Minnesota their home) and all Minnesotans to thank our Veterans\nWhen: Thursday\, June 13 – Saturday\, June 15\, 2024\nTime: 10 a.m. – 6 p.m.\nWhere: Mall of America\, North Entrance and Atrium\, Bloomington\, MN\nWhat: \n\nResource Fair/Information Tables providing a “one-stop shop’ for Vietnam Veterans and their families seeking information on VA and MDVA benefits and community services\nHistorical displays from the Minnesota Military and Veterans Museum\nIndoor replica of the Vietnam War Memorial “Wall That Heals”\nCommemorative Program on Friday\, June 14 at 11 a.m. in the Mall of America Huntingdon Bank Rotunda followed by a complimentary brunch for Vietnam Veterans and their families\n\nNo RSVP required. \nFor detailed information http://mn.gov/mdva/news/events
URL:https://post594.org/event/minnesota-remembers-50th-anniversary-of-the-vietnam-war/
LOCATION:Mall of America\, 2131 Lindau Lane\, Bloomington\, 55425\, United States
CATEGORIES:Calendar,Community,Military Days
ORGANIZER;CN="MN Dept. of Veterans Affairs":MAILTO:VeteransServices.MDVA@state.mn.us
END:VEVENT
BEGIN:VEVENT
DTSTART;TZID=America/Chicago:20240527T140000
DTEND;TZID=America/Chicago:20240527T143000
DTSTAMP:20260423T203635
CREATED:20240523T035406Z
LAST-MODIFIED:20240523T035406Z
UID:4905-1716818400-1716820200@post594.org
SUMMARY:Post 594 Memorial Day Ceremony
DESCRIPTION:A Memorial Day ceremony will be hosted by Post 594.  It will include short speeches\, music and Taps.  The event will be held at the Eagan Tribute and Memorial Plaza starting at 2:00 pm.
URL:https://post594.org/event/post-594-memorial-day-ceremony-3/
LOCATION:Eagan Central Park\, 1501 Central Parkway\, Eagan\, MN\, 55121\, United States
CATEGORIES:Calendar,Community,Memorial Day
END:VEVENT
BEGIN:VEVENT
DTSTART;TZID=America/Chicago:20240527T120000
DTEND;TZID=America/Chicago:20240527T150000
DTSTAMP:20260423T203635
CREATED:20240510T170122Z
LAST-MODIFIED:20240523T035613Z
UID:4865-1716811200-1716822000@post594.org
SUMMARY:Eagan Memorial Day Program 2024
DESCRIPTION:Come join us  for a Memorial Day Concert and Program. \nThe day starts with the Never Forget Concert – by Luke Spehar at 12:00 pm in the Eagan Community Center – Bandshell. \nNext the event moves up the small hill for the Memorial Day Remembrance Ceremony at 2 pm in the Eagan Community Center – Tribute Plaza \nRead the event flyer: Eagan Memorial Day 2024
URL:https://post594.org/event/eagan-memorial-day-program-2024/
LOCATION:Eagan Central Park\, 1501 Central Parkway\, Eagan\, MN\, 55121\, United States
CATEGORIES:Calendar,Community,Memorial Day
ORGANIZER;CN="John Rayman":MAILTO:jpretiredle05@gmail.com
END:VEVENT
BEGIN:VEVENT
DTSTART;TZID=America/Chicago:20240527T120000
DTEND;TZID=America/Chicago:20240527T133000
DTSTAMP:20260423T203635
CREATED:20240523T035300Z
LAST-MODIFIED:20240523T035300Z
UID:4903-1716811200-1716816600@post594.org
SUMMARY:Never Forget Memorial Day Concert
DESCRIPTION:A local musician Luke Spehar will present a “Never Forget Memorial Day Concert” concert at the Central Park Bandshell starts at 12:00 pm. Luke’s brother\, Nick\, was killed in Afghanistan\, and the concert is a tribute to him and all who have given their lives in defense of our country. This is a new and exciting collaboration.
URL:https://post594.org/event/never-forget-memorial-day-concert-2/
LOCATION:Eagan Central Park\, 1501 Central Parkway\, Eagan\, MN\, 55121\, United States
CATEGORIES:Calendar,Community,Memorial Day
END:VEVENT
BEGIN:VEVENT
DTSTART;TZID=America/Chicago:20240527T104500
DTEND;TZID=America/Chicago:20240527T110000
DTSTAMP:20260423T203635
CREATED:20240523T034811Z
LAST-MODIFIED:20240523T035047Z
UID:4898-1716806700-1716807600@post594.org
SUMMARY:St. John’s Eagantown Cemetery Service
DESCRIPTION:The annual cemetery memorial services continue at St. John’s Eagantown Cemetery\, 4198 Blackhawk Rd\, Eagan\, 55122 beginning at 10:00 am. Park in the strip mall to the north of the cemetery. The cemetery is located at the NE corner of Blackhawk Rd and Diffley Rd. The event takes place at the top of the hill.
URL:https://post594.org/event/st-johns-eagantown-cemetery-service-2/
LOCATION:St. John’s Eagantown Cemetery\, 4198 Blackhawk Rd\, Eagan\, 55122\, United States
CATEGORIES:Calendar,Community,Memorial Day
END:VEVENT
BEGIN:VEVENT
DTSTART;TZID=America/Chicago:20240527T100000
DTEND;TZID=America/Chicago:20240527T103000
DTSTAMP:20260423T203635
CREATED:20240523T034959Z
LAST-MODIFIED:20240523T034959Z
UID:4900-1716804000-1716805800@post594.org
SUMMARY:Christ Lutheran Church Cemetery Service
DESCRIPTION:The annual cemetery memorial service at Christ Lutheran Church Cemetery\, 1930 Diffley Road\, Eagan\, MN 55122 starts at 10:00 am. The cemetery is behind the church. The best parking lot is the one on the east side of the church.
URL:https://post594.org/event/christ-lutheran-church-cemetery-service-2/
LOCATION:Christ Lutheran Church Cemetery\, 1930 Diffley Road\, Eagan\, MN\, 55122\, United States
CATEGORIES:Calendar,Community,Memorial Day
END:VEVENT
BEGIN:VEVENT
DTSTART;TZID=America/Chicago:20240523T170000
DTEND;TZID=America/Chicago:20240523T180000
DTSTAMP:20260423T203636
CREATED:20240522T170040Z
LAST-MODIFIED:20240522T170040Z
UID:4896-1716483600-1716487200@post594.org
SUMMARY:Eagan High School Military Recognition program
DESCRIPTION:The Military Recruit Recognition Ceremony recognizes the Eagan High School students who have committed to joining one of the military branches. The event will be held in the High School Cafeteria.  Come and support these new recruits.
URL:https://post594.org/event/eagan-high-school-military-recognition-program-2/
LOCATION:Eagan High School\, 4185 Braddock Trail\, Eagan\, MN\, 55123\, United States
CATEGORIES:Calendar,Community
END:VEVENT
BEGIN:VEVENT
DTSTART;TZID=America/Chicago:20240519T100000
DTEND;TZID=America/Chicago:20240519T160000
DTSTAMP:20260423T203636
CREATED:20240328T181648Z
LAST-MODIFIED:20240328T181648Z
UID:4781-1716112800-1716134400@post594.org
SUMMARY:Poppy Sales
DESCRIPTION:The Post 594 Legion Auxiliary will be conducting poppy sales at the Eagan Sams Club May 17-19. Volunteers will\nbe needed. Members should be looking for a Sign Up Genius volunteer sign up in the near future.
URL:https://post594.org/event/poppy-sales-3/
LOCATION:Sam’s Club\, 3035 Denmark Ave\, Eagan\, MN\, 55121\, United States
CATEGORIES:Calendar,Community
END:VEVENT
BEGIN:VEVENT
DTSTART;TZID=America/Chicago:20240518T100000
DTEND;TZID=America/Chicago:20240518T190000
DTSTAMP:20260423T203636
CREATED:20240328T181551Z
LAST-MODIFIED:20240328T181551Z
UID:4779-1716026400-1716058800@post594.org
SUMMARY:Poppy Sales
DESCRIPTION:The Post 594 Legion Auxiliary will be conducting poppy sales at the Eagan Sams Club May 17-19. Volunteers will\nbe needed. Members should be looking for a Sign Up Genius volunteer sign up in the near future.
URL:https://post594.org/event/poppy-sales-2/
LOCATION:Sam’s Club\, 3035 Denmark Ave\, Eagan\, MN\, 55121\, United States
CATEGORIES:Calendar,Community
END:VEVENT
BEGIN:VEVENT
DTSTART;TZID=America/Chicago:20240517T130000
DTEND;TZID=America/Chicago:20240517T190000
DTSTAMP:20260423T203636
CREATED:20240328T181449Z
LAST-MODIFIED:20240328T181449Z
UID:4773-1715950800-1715972400@post594.org
SUMMARY:Poppy Sales
DESCRIPTION:The Post 594 Legion Auxiliary will be conducting poppy sales at the Eagan Sams Club May 17-19. Volunteers will\nbe needed. Members should be looking for a Sign Up Genius volunteer sign up in the near future.
URL:https://post594.org/event/poppy-sales/
LOCATION:Sam’s Club\, 3035 Denmark Ave\, Eagan\, MN\, 55121\, United States
CATEGORIES:Calendar,Community
END:VEVENT
BEGIN:VEVENT
DTSTART;TZID=America/Chicago:20240420T083000
DTEND;TZID=America/Chicago:20240420T093000
DTSTAMP:20260423T203636
CREATED:20240328T181902Z
LAST-MODIFIED:20240328T181902Z
UID:4783-1713601800-1713605400@post594.org
SUMMARY:Street Cleanup
DESCRIPTION:Meet in the South parking lot of Walmart in Eagan.
URL:https://post594.org/event/street-cleanup/
LOCATION:Walmart\, 1360 Town Centre Dr.\, Eagan\, MN\, 55123\, United States
CATEGORIES:Calendar,Community
END:VEVENT
BEGIN:VEVENT
DTSTART;TZID=America/Chicago:20240417T100000
DTEND;TZID=America/Chicago:20240417T160000
DTSTAMP:20260423T203636
CREATED:20240329T214814Z
LAST-MODIFIED:20240329T214814Z
UID:4819-1713348000-1713369600@post594.org
SUMMARY:Veterans Day on the Hill 2024
DESCRIPTION:For more details on this event\, see https://post594.org/wp/2024/03/29/veterans-day-on-the-hill-2024/
URL:https://post594.org/event/veterans-day-on-the-hill-2024/
LOCATION:Minnesota State Capitol\, 75 Rev. Dr. Martin Luther King Jr. Blvd.\, Saint Paul\, MN\, 55155\, United States
CATEGORIES:Community,Legistative,Meeting
END:VEVENT
END:VCALENDAR