BEGIN:VCALENDAR
VERSION:2.0
PRODID:-//Daniel R Olsen Post 594 - ECPv6.15.20//NONSGML v1.0//EN
CALSCALE:GREGORIAN
METHOD:PUBLISH
X-WR-CALNAME:Daniel R Olsen Post 594
X-ORIGINAL-URL:https://post594.org
X-WR-CALDESC:Events for Daniel R Olsen Post 594
REFRESH-INTERVAL;VALUE=DURATION:PT1H
X-Robots-Tag:noindex
X-PUBLISHED-TTL:PT1H
BEGIN:VTIMEZONE
TZID:America/Chicago
BEGIN:DAYLIGHT
TZOFFSETFROM:-0600
TZOFFSETTO:-0500
TZNAME:CDT
DTSTART:20200308T080000
END:DAYLIGHT
BEGIN:STANDARD
TZOFFSETFROM:-0500
TZOFFSETTO:-0600
TZNAME:CST
DTSTART:20201101T070000
END:STANDARD
BEGIN:DAYLIGHT
TZOFFSETFROM:-0600
TZOFFSETTO:-0500
TZNAME:CDT
DTSTART:20210314T080000
END:DAYLIGHT
BEGIN:STANDARD
TZOFFSETFROM:-0500
TZOFFSETTO:-0600
TZNAME:CST
DTSTART:20211107T070000
END:STANDARD
BEGIN:DAYLIGHT
TZOFFSETFROM:-0600
TZOFFSETTO:-0500
TZNAME:CDT
DTSTART:20220313T080000
END:DAYLIGHT
BEGIN:STANDARD
TZOFFSETFROM:-0500
TZOFFSETTO:-0600
TZNAME:CST
DTSTART:20221106T070000
END:STANDARD
END:VTIMEZONE
BEGIN:VEVENT
DTSTART;TZID=America/Chicago:20211103T140000
DTEND;TZID=America/Chicago:20211103T180000
DTSTAMP:20260424T010501
CREATED:20211025T231352Z
LAST-MODIFIED:20211025T232432Z
UID:2589-1635948000-1635962400@post594.org
SUMMARY:Minnesota Veterans Career Fair
DESCRIPTION:All Veterans\, current service members\, their spouses\, and Gold Star families are invited to this year’s annual career fair event. Are you looking for a higher salary and a great career? We strongly encourage participation in this career fair by employers currently offering full-time jobs paying family-sustaining wages with benefits. Work for an employer that recognizes and appreciates your military service and the value you bring to the team! \nThe 15th Annual Veterans Career Fair offers: \n\nOver 100 Veteran-friendly employers on-site – see a list of participating employers\nComplimentary LinkedIn photography station available for job seekers\nService providers offering assistance for veterans and their families\nAbility to network at an IN-PERSON hiring event\nThere is no cost to attend and registration is not required\n\n Come prepared with copies of your updated resume and dress to impress!\n\nWant help preparing for the career fair?\n\nContact your dedicated Veterans Employment Representative \nSign up for a 1:1 appointment for a resume review or interview prep\nCheck out resources available on CareerForceMN.com\n\n\n\nCome prepared with copies of your updated resume and dress to impress! \n\n\nMasks are required for ALL in attendance per city ordinance\, regardless of vaccination status.\nEvent attendees are eligible to register for one of 50 Minnesota DNR gift cards ($100 value) Gift cards can be used to purchase MN DNR park fees\, camping\, or gifts.
URL:https://post594.org/event/minnesota-veterans-career-fair/
LOCATION:Earle Brown Heritage Center\, 6155 Earle Brown Dr\, Brooklyn Center\, MN\, 55430\, United States
CATEGORIES:Job Fair
ORGANIZER;CN="CareerForce":MAILTO:CareerForce@state.mn.us
END:VEVENT
END:VCALENDAR