BEGIN:VCALENDAR
VERSION:2.0
PRODID:-//Daniel R Olsen Post 594 - ECPv6.15.20//NONSGML v1.0//EN
CALSCALE:GREGORIAN
METHOD:PUBLISH
X-WR-CALNAME:Daniel R Olsen Post 594
X-ORIGINAL-URL:https://post594.org
X-WR-CALDESC:Events for Daniel R Olsen Post 594
REFRESH-INTERVAL;VALUE=DURATION:PT1H
X-Robots-Tag:noindex
X-PUBLISHED-TTL:PT1H
BEGIN:VTIMEZONE
TZID:America/Chicago
BEGIN:DAYLIGHT
TZOFFSETFROM:-0600
TZOFFSETTO:-0500
TZNAME:CDT
DTSTART:20230312T080000
END:DAYLIGHT
BEGIN:STANDARD
TZOFFSETFROM:-0500
TZOFFSETTO:-0600
TZNAME:CST
DTSTART:20231105T070000
END:STANDARD
BEGIN:DAYLIGHT
TZOFFSETFROM:-0600
TZOFFSETTO:-0500
TZNAME:CDT
DTSTART:20240310T080000
END:DAYLIGHT
BEGIN:STANDARD
TZOFFSETFROM:-0500
TZOFFSETTO:-0600
TZNAME:CST
DTSTART:20241103T070000
END:STANDARD
BEGIN:DAYLIGHT
TZOFFSETFROM:-0600
TZOFFSETTO:-0500
TZNAME:CDT
DTSTART:20250309T080000
END:DAYLIGHT
BEGIN:STANDARD
TZOFFSETFROM:-0500
TZOFFSETTO:-0600
TZNAME:CST
DTSTART:20251102T070000
END:STANDARD
BEGIN:DAYLIGHT
TZOFFSETFROM:-0600
TZOFFSETTO:-0500
TZNAME:CDT
DTSTART:20260308T080000
END:DAYLIGHT
BEGIN:STANDARD
TZOFFSETFROM:-0500
TZOFFSETTO:-0600
TZNAME:CST
DTSTART:20261101T070000
END:STANDARD
BEGIN:DAYLIGHT
TZOFFSETFROM:-0600
TZOFFSETTO:-0500
TZNAME:CDT
DTSTART:20270314T080000
END:DAYLIGHT
BEGIN:STANDARD
TZOFFSETFROM:-0500
TZOFFSETTO:-0600
TZNAME:CST
DTSTART:20271107T070000
END:STANDARD
END:VTIMEZONE
BEGIN:VEVENT
DTSTART;TZID=America/Chicago:20260317T190000
DTEND;TZID=America/Chicago:20260317T200000
DTSTAMP:20260423T181229
CREATED:20260314T051453Z
LAST-MODIFIED:20260314T051453Z
UID:7039-1773774000-1773777600@post594.org
SUMMARY:Membership Meeting – March 2026
DESCRIPTION:Come join other Post 594 members as the Post Officers present information about and for the Post membership on March 17\, 2026.  It will be held at Cedarvale Lanes in Eagan starting at 7:00 pm. \nPrior to the Membership meeting there is Social Time in the same location at 6:30 pm. \nThe meetings are held in the banquet room at Cedarvale Lanes in the banquet room downstairs. Once you enter the building\, the easiest access to get downstairs is by the OnTrack pro shop. \nAddress: Cedarvale Lanes and Fitz’s Bar & Grill\n3883 Cedar Grove Parkway\nEagan\, MN 55122
URL:https://post594.org/event/membership-meeting-march-2026/
LOCATION:Cedarvale Lanes\, 3883 Cedar Grove Parkway\, Eagan\, MN\, 55122\, United States
CATEGORIES:Meeting
ORGANIZER;CN="John Rayman":MAILTO:jpretiredle05@gmail.com
END:VEVENT
BEGIN:VEVENT
DTSTART;TZID=America/Chicago:20260317T183000
DTEND;TZID=America/Chicago:20260317T190000
DTSTAMP:20260423T181229
CREATED:20260314T051316Z
LAST-MODIFIED:20260314T051316Z
UID:7037-1773772200-1773774000@post594.org
SUMMARY:Membership Social Time – March 2026
DESCRIPTION:Prior to the March 2026 Membership meeting there is Social Time in the meeting room. It will be held at Cedarvale Lanes in Eagan starting at 6:30 pm prior to the meeting starting at 7:00 pm. \nIt is held in the banquet room at Cedarvale Lanes in the banquet room downstairs. Once you enter the building\, the easiest access to get downstairs is by the OnTrack pro shop. \nAddress: Cedarvale Lanes and Fitz’s Bar & Grill\n3883 Cedar Grove Parkway\nEagan\, MN 55122
URL:https://post594.org/event/membership-social-time-march-2026/
LOCATION:Cedarvale Lanes\, 3883 Cedar Grove Parkway\, Eagan\, MN\, 55122\, United States
CATEGORIES:Meeting
ORGANIZER;CN="John Rayman":MAILTO:jpretiredle05@gmail.com
END:VEVENT
BEGIN:VEVENT
DTSTART;TZID=America/Chicago:20260120T190000
DTEND;TZID=America/Chicago:20260120T200000
DTSTAMP:20260423T181229
CREATED:20260119T043949Z
LAST-MODIFIED:20260121T001216Z
UID:6884-1768935600-1768939200@post594.org
SUMMARY:Membership Meeting - January 2026
DESCRIPTION:Come join other Post 594 members as the Post Officers present information about and for the Post membership on January 20\, 2026.  It will be held at Cedarvale Lanes in Eagan starting at 19:00 (7:00 pm). \nPrior to the Membership meeting there is Social time in the same location at 6:30 pm. \nThe meetings are held in the banquet room at Cedarvale Lanes in the banquet room downstairs. Once you enter the building\, the easiest access to get downstairs is by the OnTrack pro shop. \nAddress: Cedarvale Lanes and Fitz’s Bar & Grill\n3883 Cedar Grove Parkway\nEagan\, MN 55122
URL:https://post594.org/event/membership-meeting-january-2026/
LOCATION:Cedarvale Lanes\, 3883 Cedar Grove Parkway\, Eagan\, MN\, 55122\, United States
CATEGORIES:Meeting
ORGANIZER;CN="John Rayman":MAILTO:jpretiredle05@gmail.com
END:VEVENT
BEGIN:VEVENT
DTSTART;TZID=America/Chicago:20260120T183000
DTEND;TZID=America/Chicago:20260120T190000
DTSTAMP:20260423T181229
CREATED:20260121T001127Z
LAST-MODIFIED:20260121T001127Z
UID:6890-1768933800-1768935600@post594.org
SUMMARY:Membership Social Time - January 2026
DESCRIPTION:Prior to the January 2026 Membership meeting there is Social time in the meeting room. It will be held at Cedarvale Lanes in Eagan starting at 18:30 (6:30 pm) prior to the meeting starting at 7:00 pm. \nIt is held in the banquet room at Cedarvale Lanes in the banquet room downstairs. Once you enter the building\, the easiest access to get downstairs is by the OnTrack pro shop. \nAddress: Cedarvale Lanes and Fitz’s Bar & Grill\n3883 Cedar Grove Parkway\nEagan\, MN 55122
URL:https://post594.org/event/membership-social-time-january-2026/
LOCATION:Cedarvale Lanes\, 3883 Cedar Grove Parkway\, Eagan\, MN\, 55122\, United States
CATEGORIES:Meeting
ORGANIZER;CN="John Rayman":MAILTO:jpretiredle05@gmail.com
END:VEVENT
BEGIN:VEVENT
DTSTART;TZID=America/Chicago:20251216T180000
DTEND;TZID=America/Chicago:20251216T190000
DTSTAMP:20260423T181229
CREATED:20250212T183229Z
LAST-MODIFIED:20250212T183229Z
UID:5692-1765908000-1765911600@post594.org
SUMMARY:Core Team Leadership Meeting – December 2025
DESCRIPTION:There will be a Post 594 Core Team Leadership Meeting on Tuesday\, December 16\, 2025 at 18:00.  The meeting will be held in the lower meeting room at Cedarvale Lanes\, 3883 Cedar Grove Parkway\, Eagan\, MN.
URL:https://post594.org/event/core-team-leadership-meeting-december-2025/
LOCATION:Cedarvale Lanes\, 3883 Cedar Grove Parkway\, Eagan\, MN\, 55122\, United States
CATEGORIES:Meeting
ORGANIZER;CN="John Rayman":MAILTO:jpretiredle05@gmail.com
END:VEVENT
BEGIN:VEVENT
DTSTART;TZID=America/Chicago:20251118T190000
DTEND;TZID=America/Chicago:20251118T203000
DTSTAMP:20260423T181229
CREATED:20250116T191513Z
LAST-MODIFIED:20250116T191513Z
UID:5622-1763492400-1763497800@post594.org
SUMMARY:Membership Meeting – November 2025
DESCRIPTION:Come join other Post 594 members as the Post Officers present information about and for the Post membership on November 18\, 2025.  It will be held at Cedarvale Lanes in Eagan starting at 19:00 (7:00 pm). \nThe meetings are held in the banquet room at Cedarvale Lanes in the banquet room downstairs. Once you enter the building\, the easiest access to get downstairs is by the OnTrack pro shop. \nAddress: Cedarvale Lanes and Fitz’s Bar & Grill\n3883 Cedar Grove Parkway\nEagan\, MN 55122
URL:https://post594.org/event/membership-meeting-november-2025/
LOCATION:Cedarvale Lanes\, 3883 Cedar Grove Parkway\, Eagan\, MN\, 55122\, United States
CATEGORIES:Meeting
ORGANIZER;CN="John Rayman":MAILTO:jpretiredle05@gmail.com
END:VEVENT
BEGIN:VEVENT
DTSTART;TZID=America/Chicago:20251021T180000
DTEND;TZID=America/Chicago:20251021T190000
DTSTAMP:20260423T181229
CREATED:20250212T183005Z
LAST-MODIFIED:20250212T183056Z
UID:5689-1761069600-1761073200@post594.org
SUMMARY:Core Team Leadership Meeting – October 2025
DESCRIPTION:There will be a Post 594 Core Team Leadership Meeting on Tuesday\, October 21\, 2025 at 18:00.  The meeting will be held in the lower meeting room at Cedarvale Lanes\, 3883 Cedar Grove Parkway\, Eagan\, MN.
URL:https://post594.org/event/5689/
LOCATION:Cedarvale Lanes\, 3883 Cedar Grove Parkway\, Eagan\, MN\, 55122\, United States
CATEGORIES:Meeting
ORGANIZER;CN="John Rayman":MAILTO:jpretiredle05@gmail.com
END:VEVENT
BEGIN:VEVENT
DTSTART;TZID=America/Chicago:20250916T190000
DTEND;TZID=America/Chicago:20250916T203000
DTSTAMP:20260423T181229
CREATED:20250116T191350Z
LAST-MODIFIED:20250116T191350Z
UID:5620-1758049200-1758054600@post594.org
SUMMARY:Membership Meeting – September 2025
DESCRIPTION:Come join other Post 594 members as the Post Officers present information about and for the Post membership on September 16\, 2025.  It will be held at Cedarvale Lanes in Eagan starting at 19:00 (7:00 pm). \nThe meetings are held in the banquet room at Cedarvale Lanes in the banquet room downstairs. Once you enter the building\, the easiest access to get downstairs is by the OnTrack pro shop. \nAddress: Cedarvale Lanes and Fitz’s Bar & Grill\n3883 Cedar Grove Parkway\nEagan\, MN 55122
URL:https://post594.org/event/membership-meeting-september-2025/
LOCATION:Cedarvale Lanes\, 3883 Cedar Grove Parkway\, Eagan\, MN\, 55122\, United States
CATEGORIES:Meeting
ORGANIZER;CN="John Rayman":MAILTO:jpretiredle05@gmail.com
END:VEVENT
BEGIN:VEVENT
DTSTART;TZID=America/Chicago:20250819T180000
DTEND;TZID=America/Chicago:20250819T190000
DTSTAMP:20260423T181229
CREATED:20250212T182750Z
LAST-MODIFIED:20250819T050527Z
UID:5685-1755626400-1755630000@post594.org
SUMMARY:Core Team Leadership Meeting – August 2025
DESCRIPTION:There will be a Post 594 Core Team Leadership Meeting on Tuesday\, August 19\, 2025 at 18:00.  The meeting will be held at SYNERGY HomeCare\, 3348 Sherman Ct\, Eagan\, MN 55121.\n.
URL:https://post594.org/event/core-team-leadership-meeting-august-2025/
LOCATION:SYNERGY HomeCare\, 3348 Sherman Ct\, Eagan\, MN\, 55121\, United States
CATEGORIES:Meeting
ORGANIZER;CN="John Rayman":MAILTO:jpretiredle05@gmail.com
END:VEVENT
BEGIN:VEVENT
DTSTART;TZID=America/Chicago:20250715T190000
DTEND;TZID=America/Chicago:20250715T203000
DTSTAMP:20260423T181229
CREATED:20250116T191218Z
LAST-MODIFIED:20250710T201530Z
UID:5618-1752606000-1752611400@post594.org
SUMMARY:Membership Meeting – July 2025
DESCRIPTION:Come join other Post 594 members as the Post Officers present information about and for the Post membership on July 15\, 2025.  It will be held at Cedarvale Lanes in Eagan starting at 19:00 (7:00 pm). \nThe meetings are held in the banquet room at Cedarvale Lanes in the banquet room downstairs. Once you enter the building\, the easiest access to get downstairs is by the OnTrack pro shop. \nAddress: Cedarvale Lanes and Fitz’s Bar & Grill\n3883 Cedar Grove Parkway\nEagan\, MN 55122
URL:https://post594.org/event/membership-meeting-july-2025/
LOCATION:Cedarvale Lanes\, 3883 Cedar Grove Parkway\, Eagan\, MN\, 55122\, United States
CATEGORIES:Meeting
ORGANIZER;CN="John Rayman":MAILTO:jpretiredle05@gmail.com
END:VEVENT
BEGIN:VEVENT
DTSTART;TZID=America/Chicago:20250617T180000
DTEND;TZID=America/Chicago:20250617T190000
DTSTAMP:20260423T181229
CREATED:20250212T182640Z
LAST-MODIFIED:20250212T182640Z
UID:5683-1750183200-1750186800@post594.org
SUMMARY:Core Team Leadership Meeting – June 2025
DESCRIPTION:There will be a Post 594 Core Team Leadership Meeting on Tuesday\, June 17\, 2025 at 18:00.  The meeting will be held in the lower meeting room at Cedarvale Lanes\, 3883 Cedar Grove Parkway\, Eagan\, MN.
URL:https://post594.org/event/core-team-leadership-meeting-june-2025/
LOCATION:Cedarvale Lanes\, 3883 Cedar Grove Parkway\, Eagan\, MN\, 55122\, United States
CATEGORIES:Meeting
ORGANIZER;CN="John Rayman":MAILTO:jpretiredle05@gmail.com
END:VEVENT
BEGIN:VEVENT
DTSTART;TZID=America/Chicago:20250520T190000
DTEND;TZID=America/Chicago:20250520T203000
DTSTAMP:20260423T181229
CREATED:20250116T191048Z
LAST-MODIFIED:20250116T191048Z
UID:5616-1747767600-1747773000@post594.org
SUMMARY:Membership Meeting – May 2025
DESCRIPTION:Come join other Post 594 members as the Post Officers present information about and for the Post membership on May  20\, 2025.  It will be held at Cedarvale Lanes in Eagan starting at 19:00 (7:00 pm). \nThe meetings are held in the banquet room at Cedarvale Lanes in the banquet room downstairs. Once you enter the building\, the easiest access to get downstairs is by the OnTrack pro shop. \nAddress: Cedarvale Lanes and Fitz’s Bar & Grill\n3883 Cedar Grove Parkway\nEagan\, MN 55122
URL:https://post594.org/event/membership-meeting-may-2025/
LOCATION:Cedarvale Lanes\, 3883 Cedar Grove Parkway\, Eagan\, MN\, 55122\, United States
CATEGORIES:Meeting
ORGANIZER;CN="John Rayman":MAILTO:jpretiredle05@gmail.com
END:VEVENT
BEGIN:VEVENT
DTSTART;TZID=America/Chicago:20250415T180000
DTEND;TZID=America/Chicago:20250415T190000
DTSTAMP:20260423T181229
CREATED:20250212T182318Z
LAST-MODIFIED:20250212T182521Z
UID:5678-1744740000-1744743600@post594.org
SUMMARY:Core Team Leadership Meeting – April 2025
DESCRIPTION:There will be a Post 594 Core Team Leadership Meeting on Tuesday\, April 15\, 2025 at 18:00.  The meeting will be held in the lower meeting room of Cedarvale Lanes\, 3883 Cedar Grove Parkway\, Eagan\, MN.
URL:https://post594.org/event/core-team-leadership-meeting-april-2025/
LOCATION:Cedarvale Lanes\, 3883 Cedar Grove Parkway\, Eagan\, MN\, 55122\, United States
CATEGORIES:Meeting
ORGANIZER;CN="John Rayman":MAILTO:jpretiredle05@gmail.com
END:VEVENT
BEGIN:VEVENT
DTSTART;TZID=America/Chicago:20250318T190000
DTEND;TZID=America/Chicago:20250318T203000
DTSTAMP:20260423T181229
CREATED:20250116T190919Z
LAST-MODIFIED:20250116T190919Z
UID:5614-1742324400-1742329800@post594.org
SUMMARY:Membership Meeting – March 2025
DESCRIPTION:Come join other Post 594 members as the Post Officers present information about and for the Post membership on March  18\, 2025.  It will be held at Cedarvale Lanes in Eagan starting at 19:00 (7:00 pm). \nThe meetings are held in the banquet room at Cedarvale Lanes in the banquet room downstairs. Once you enter the building\, the easiest access to get downstairs is by the OnTrack pro shop. \nAddress: Cedarvale Lanes and Fitz’s Bar & Grill\n3883 Cedar Grove Parkway\nEagan\, MN 55122
URL:https://post594.org/event/membership-meeting-march-2025/
LOCATION:Cedarvale Lanes\, 3883 Cedar Grove Parkway\, Eagan\, MN\, 55122\, United States
CATEGORIES:Meeting
ORGANIZER;CN="John Rayman":MAILTO:jpretiredle05@gmail.com
END:VEVENT
BEGIN:VEVENT
DTSTART;TZID=America/Chicago:20250218T180000
DTEND;TZID=America/Chicago:20250218T190000
DTSTAMP:20260423T181229
CREATED:20250212T182059Z
LAST-MODIFIED:20250212T182415Z
UID:5675-1739901600-1739905200@post594.org
SUMMARY:Core Team Leadership Meeting –  Feb 2025
DESCRIPTION:There will be a Post 594 Core Team Leadership Meeting on Tuesday\, February 18\, 2025 at 18:00.  The meeting will be held in the lower meeting room at Cedarvale Lanes\, 3883 Cedar Grove Parkway\, Eagan\, MN.
URL:https://post594.org/event/core-team-leadership-meeting-feb-2024-2/
LOCATION:Cedarvale Lanes\, 3883 Cedar Grove Parkway\, Eagan\, MN\, 55122\, United States
CATEGORIES:Meeting
ORGANIZER;CN="John Rayman":MAILTO:jpretiredle05@gmail.com
END:VEVENT
BEGIN:VEVENT
DTSTART;TZID=America/Chicago:20250121T190000
DTEND;TZID=America/Chicago:20250121T203000
DTSTAMP:20260423T181229
CREATED:20250116T190719Z
LAST-MODIFIED:20250116T190719Z
UID:5612-1737486000-1737491400@post594.org
SUMMARY:Membership Meeting – January 2025
DESCRIPTION:Come join other Post 594 members as the Post Officers present information about and for the Post membership on January  21\, 2025.  It will be held at Cedarvale Lanes in Eagan starting at 19:00 (7:00 pm). \nThe meetings are held in the banquet room at Cedarvale Lanes in the banquet room downstairs. Once you enter the building\, the easiest access to get downstairs is by the OnTrack pro shop. \nAddress: Cedarvale Lanes and Fitz’s Bar & Grill\n3883 Cedar Grove Parkway\nEagan\, MN 55122
URL:https://post594.org/event/membership-meeting-january-2025/
LOCATION:Cedarvale Lanes\, 3883 Cedar Grove Parkway\, Eagan\, MN\, 55122\, United States
CATEGORIES:Meeting
ORGANIZER;CN="John Rayman":MAILTO:jpretiredle05@gmail.com
END:VEVENT
BEGIN:VEVENT
DTSTART;TZID=America/Chicago:20250121T183000
DTEND;TZID=America/Chicago:20250121T190000
DTSTAMP:20260423T181229
CREATED:20250119T225259Z
LAST-MODIFIED:20250119T225259Z
UID:5644-1737484200-1737486000@post594.org
SUMMARY:Post 594 Social Gathering
DESCRIPTION:Attend a pre-meeting Social Gathering to greet members and talk about over issues and topics. The gathering will be held in the meeting room at Cedarvale Lanes.
URL:https://post594.org/event/post-594-social-gathering/
LOCATION:Cedarvale Lanes\, 3883 Cedar Grove Parkway\, Eagan\, MN\, 55122\, United States
CATEGORIES:Meeting
ORGANIZER;CN="John Rayman":MAILTO:jpretiredle05@gmail.com
END:VEVENT
BEGIN:VEVENT
DTSTART;TZID=America/Chicago:20241217T180000
DTEND;TZID=America/Chicago:20241217T190000
DTSTAMP:20260423T181229
CREATED:20240207T234435Z
LAST-MODIFIED:20241216T211223Z
UID:4680-1734458400-1734462000@post594.org
SUMMARY:Core Team Leadership Meeting – Dec2024
DESCRIPTION:NOTE: This meeting has been cancelled. \nThere will be a Post 594 Core Team Leadership Meeting on Tuesday\, December 17\, 2024 at 18:00.  The meeting will be held at Fitz’s Bar and Grill\, 3883 Cedar Grove Parkway\, Eagan\, MN.
URL:https://post594.org/event/core-team-leadership-meeting-dec2024/
LOCATION:Cedarvale Lanes\, 3883 Cedar Grove Parkway\, Eagan\, MN\, 55122\, United States
CATEGORIES:Calendar,Meeting
ORGANIZER;CN="John Rayman":MAILTO:jpretiredle05@gmail.com
END:VEVENT
BEGIN:VEVENT
DTSTART;TZID=America/Chicago:20241119T190000
DTEND;TZID=America/Chicago:20241119T203000
DTSTAMP:20260423T181229
CREATED:20240207T233331Z
LAST-MODIFIED:20240207T233331Z
UID:4664-1732042800-1732048200@post594.org
SUMMARY:Membership Meeting – November 2024
DESCRIPTION:November 19\, 2024 @ 7:00 pm – 8:30 pm\n\n\n\nCome join other Post 594 members as the Post Officers present information about and for the Post membership on November 19\, 2024.  It will be held at Cedarvale Lanes in Eagan starting at 19:00 (7:00 pm). \nThe meetings are held in the banquet room at Cedarvale Lanes in the banquet room downstairs. Once you enter the building\, the easiest access to get downstairs is by the OnTrack pro shop. \nAddress: Cedarvale Lanes and Fitz’s Bar & Grill\n3883 Cedar Grove Parkway\nEagan\, MN 55122
URL:https://post594.org/event/membership-meeting-november-2024/
LOCATION:Cedarvale Lanes\, 3883 Cedar Grove Parkway\, Eagan\, MN\, 55122\, United States
CATEGORIES:Calendar,Meeting
ORGANIZER;CN="John Rayman":MAILTO:jpretiredle05@gmail.com
END:VEVENT
BEGIN:VEVENT
DTSTART;TZID=America/Chicago:20241015T170000
DTEND;TZID=America/Chicago:20241015T180000
DTSTAMP:20260423T181229
CREATED:20240207T234155Z
LAST-MODIFIED:20241015T173037Z
UID:4674-1729011600-1729015200@post594.org
SUMMARY:Core Team Leadership Meeting – Oct 2024
DESCRIPTION:There will be a Post 594 Core Team Leadership Meeting on Tuesday\, August 20\, 2024 at 18:00.  The meeting will be held at Fitz’s Bar and Grill\, 3883 Cedar Grove Parkway\, Eagan\, MN.
URL:https://post594.org/event/core-team-leadership-meeting-oct-2024/
LOCATION:Cedarvale Lanes\, 3883 Cedar Grove Parkway\, Eagan\, MN\, 55122\, United States
CATEGORIES:Calendar,Meeting
ORGANIZER;CN="John Rayman":MAILTO:jpretiredle05@gmail.com
END:VEVENT
BEGIN:VEVENT
DTSTART;TZID=America/Chicago:20240917T190000
DTEND;TZID=America/Chicago:20240917T203000
DTSTAMP:20260423T181229
CREATED:20240207T233144Z
LAST-MODIFIED:20240207T233144Z
UID:4662-1726599600-1726605000@post594.org
SUMMARY:Membership Meeting – September 2024
DESCRIPTION:September 17\, 2024 @ 7:00 pm – 8:30 pm\n\n\n\nCome join other Post 594 members as the Post Officers present information about and for the Post membership on September 17\, 2024.  It will be held at Cedarvale Lanes in Eagan starting at 19:00 (7:00 pm). \nThe meetings are held in the banquet room at Cedarvale Lanes in the banquet room downstairs. Once you enter the building\, the easiest access to get downstairs is by the OnTrack pro shop. \nAddress: Cedarvale Lanes and Fitz’s Bar & Grill\n3883 Cedar Grove Parkway\nEagan\, MN 55122
URL:https://post594.org/event/membership-meeting-september-2024/
LOCATION:Cedarvale Lanes\, 3883 Cedar Grove Parkway\, Eagan\, MN\, 55122\, United States
CATEGORIES:Calendar,Meeting
ORGANIZER;CN="John Rayman":MAILTO:jpretiredle05@gmail.com
END:VEVENT
BEGIN:VEVENT
DTSTART;TZID=America/Chicago:20240820T180000
DTEND;TZID=America/Chicago:20240820T190000
DTSTAMP:20260423T181229
CREATED:20240207T234034Z
LAST-MODIFIED:20240207T234230Z
UID:4672-1724176800-1724180400@post594.org
SUMMARY:Core Team Leadership Meeting – Aug 2024
DESCRIPTION:There will be a Post 594 Core Team Leadership Meeting on Tuesday\, August 20\, 2024 at 18:00.  The meeting will be held at Fitz’s Bar and Grill\, 3883 Cedar Grove Parkway\, Eagan\, MN.
URL:https://post594.org/event/core-team-leadership-meeting-aug-2024/
LOCATION:Cedarvale Lanes\, 3883 Cedar Grove Parkway\, Eagan\, MN\, 55122\, United States
CATEGORIES:Calendar,Meeting
ORGANIZER;CN="John Rayman":MAILTO:jpretiredle05@gmail.com
END:VEVENT
BEGIN:VEVENT
DTSTART;TZID=America/Chicago:20240716T190000
DTEND;TZID=America/Chicago:20240716T203000
DTSTAMP:20260423T181229
CREATED:20240207T232913Z
LAST-MODIFIED:20240207T232913Z
UID:4659-1721156400-1721161800@post594.org
SUMMARY:Membership Meeting – July 2024
DESCRIPTION:July 16\, 2024 @ 7:00 pm – 8:30 pm\n\n\n\nCome join other Post 594 members as the Post Officers present information about and for the Post membership on July 16\, 2024.  It will be held at Cedarvale Lanes in Eagan starting at 19:00 (7:00 pm). \nThe meetings are held in the banquet room at Cedarvale Lanes in the banquet room downstairs. Once you enter the building\, the easiest access to get downstairs is by the OnTrack pro shop. \nAddress: Cedarvale Lanes and Fitz’s Bar & Grill\n3883 Cedar Grove Parkway\nEagan\, MN 55122
URL:https://post594.org/event/membership-meeting-july-2024/
LOCATION:Cedarvale Lanes\, 3883 Cedar Grove Parkway\, Eagan\, MN\, 55122\, United States
CATEGORIES:Calendar,Meeting
ORGANIZER;CN="John Rayman":MAILTO:jpretiredle05@gmail.com
END:VEVENT
BEGIN:VEVENT
DTSTART;TZID=America/Chicago:20240618T180000
DTEND;TZID=America/Chicago:20240618T190000
DTSTAMP:20260423T181229
CREATED:20240207T233917Z
LAST-MODIFIED:20240207T234246Z
UID:4670-1718733600-1718737200@post594.org
SUMMARY:Core Team Leadership Meeting – Jun 2024
DESCRIPTION:There will be a Post 594 Core Team Leadership Meeting on Tuesday\, April 18\, 2024 at 18:00.  The meeting will be held at Fitz’s Bar and Grill\, 3883 Cedar Grove Parkway\, Eagan\, MN.
URL:https://post594.org/event/core-team-leadership-meeting-jun-2024/
LOCATION:Cedarvale Lanes\, 3883 Cedar Grove Parkway\, Eagan\, MN\, 55122\, United States
CATEGORIES:Calendar,Meeting
ORGANIZER;CN="John Rayman":MAILTO:jpretiredle05@gmail.com
END:VEVENT
BEGIN:VEVENT
DTSTART;TZID=America/Chicago:20240521T190000
DTEND;TZID=America/Chicago:20240521T203000
DTSTAMP:20260423T181229
CREATED:20240207T232539Z
LAST-MODIFIED:20240207T232959Z
UID:4655-1716318000-1716323400@post594.org
SUMMARY:Membership Meeting – May 2024
DESCRIPTION:May 21\, 2024 @ 7:00 pm – 8:30 pm\n\n\n\nCome join other Post 594 members as the Post Officers present information about and for the Post membership on May 21\, 2024.  It will be held at Cedarvale Lanes in Eagan starting at 19:00 (7:00 pm). \nThe meetings are held in the banquet room at Cedarvale Lanes in the banquet room downstairs. Once you enter the building\, the easiest access to get downstairs is by the OnTrack pro shop. \nAddress: Cedarvale Lanes and Fitz’s Bar & Grill\n3883 Cedar Grove Parkway\nEagan\, MN 55122
URL:https://post594.org/event/membership-meeting-may-2024/
LOCATION:Cedarvale Lanes\, 3883 Cedar Grove Parkway\, Eagan\, MN\, 55122\, United States
CATEGORIES:Calendar,Meeting
ORGANIZER;CN="John Rayman":MAILTO:jpretiredle05@gmail.com
END:VEVENT
BEGIN:VEVENT
DTSTART;TZID=America/Chicago:20240417T100000
DTEND;TZID=America/Chicago:20240417T160000
DTSTAMP:20260423T181229
CREATED:20240329T214814Z
LAST-MODIFIED:20240329T214814Z
UID:4819-1713348000-1713369600@post594.org
SUMMARY:Veterans Day on the Hill 2024
DESCRIPTION:For more details on this event\, see https://post594.org/wp/2024/03/29/veterans-day-on-the-hill-2024/
URL:https://post594.org/event/veterans-day-on-the-hill-2024/
LOCATION:Minnesota State Capitol\, 75 Rev. Dr. Martin Luther King Jr. Blvd.\, Saint Paul\, MN\, 55155\, United States
CATEGORIES:Community,Legistative,Meeting
END:VEVENT
BEGIN:VEVENT
DTSTART;TZID=America/Chicago:20240416T180000
DTEND;TZID=America/Chicago:20240416T190000
DTSTAMP:20260423T181229
CREATED:20240207T233800Z
LAST-MODIFIED:20240207T234307Z
UID:4668-1713290400-1713294000@post594.org
SUMMARY:Core Team Leadership Meeting – Apr 2024
DESCRIPTION:There will be a Post 594 Core Team Leadership Meeting on Tuesday\, April 16\, 2024 at 18:00.  The meeting will be held at Fitz’s Bar and Grill\, 3883 Cedar Grove Parkway\, Eagan\, MN.
URL:https://post594.org/event/core-team-leadership-meeting-apr-2024/
LOCATION:Cedarvale Lanes\, 3883 Cedar Grove Parkway\, Eagan\, MN\, 55122\, United States
CATEGORIES:Calendar,Meeting
ORGANIZER;CN="John Rayman":MAILTO:jpretiredle05@gmail.com
END:VEVENT
BEGIN:VEVENT
DTSTART;TZID=America/Chicago:20240319T190000
DTEND;TZID=America/Chicago:20240319T203000
DTSTAMP:20260423T181229
CREATED:20240207T232323Z
LAST-MODIFIED:20240207T232608Z
UID:4653-1710874800-1710880200@post594.org
SUMMARY:Membership Meeting – March 2024
DESCRIPTION:March 19\, 2024 @ 7:00 pm – 8:30 pm\n\n\n\nCome join other Post 594 members as the Post Officers present information about and for the Post membership on March 19\, 2024.  It will be held at Cedarvale Lanes in Eagan starting at 19:00 (7:00 pm). \nThe meetings are held in the banquet room at Cedarvale Lanes in the banquet room downstairs. Once you enter the building\, the easiest access to get downstairs is by the OnTrack pro shop. \nAddress: Cedarvale Lanes and Fitz’s Bar & Grill\n3883 Cedar Grove Parkway\nEagan\, MN 55122
URL:https://post594.org/event/membership-meeting-march-2024/
LOCATION:Cedarvale Lanes\, 3883 Cedar Grove Parkway\, Eagan\, MN\, 55122\, United States
CATEGORIES:Calendar,Meeting
ORGANIZER;CN="John Rayman":MAILTO:jpretiredle05@gmail.com
END:VEVENT
BEGIN:VEVENT
DTSTART;TZID=America/Chicago:20240229T140000
DTEND;TZID=America/Chicago:20240229T150000
DTSTAMP:20260423T181229
CREATED:20240219T054724Z
LAST-MODIFIED:20240219T054724Z
UID:4694-1709215200-1709218800@post594.org
SUMMARY:3 Year Membership Sign-up Event
DESCRIPTION:We would like to urge more members to sign up for the 3 year membership option this year in order to save $8 to $10 a year over the next 3 years as membership rates are scheduled to go up. \nThe process is easy.  You don’t have to create an account or login.  Just go to mylegion.org and select membership  from the top blue banner.  Under membership\, select renew.  You will get a screen to enter your last name and member number.  When you select enter\, you will see a screen that enables you to update your personal info.  When you scroll down\, there will be a button to select 3 year membership.  After you select 3 year membership and enter\, you will see the payment screen and enter your payment information. \nFor any members that are not comfortable using computers\, we will have another meeting to provide help.  It will be Thursday February 29 from 2 to 3 pm.  We will be at Vendella\, 1440 Duckwood Drive\, Suite 100\, Eagan MN 55122.  We have reserved Room 3 which is in the back to the right.
URL:https://post594.org/event/3-year-membership-sign-up-event/
LOCATION:Vendella Coffee Haus\, 1440 Duckwood Drive\, Eagan\, MN\, 55122\, United States
CATEGORIES:Meeting
ORGANIZER;CN="Pat Graham":MAILTO:ltcolpagraham@q.com
END:VEVENT
BEGIN:VEVENT
DTSTART;TZID=America/Chicago:20240220T180000
DTEND;TZID=America/Chicago:20240220T190000
DTSTAMP:20260423T181229
CREATED:20240207T233616Z
LAST-MODIFIED:20240207T234324Z
UID:4666-1708452000-1708455600@post594.org
SUMMARY:Core Team Leadership Meeting – Feb 2024
DESCRIPTION:There will be a Post 594 Core Team Leadership Meeting on Tuesday\, February 20\, 2024 at 18:00.  The meeting will be held at Fitz’s Bar and Grill\, 3883 Cedar Grove Parkway\, Eagan\, MN.
URL:https://post594.org/event/core-team-leadership-meeting-feb-2024/
LOCATION:Cedarvale Lanes\, 3883 Cedar Grove Parkway\, Eagan\, MN\, 55122\, United States
CATEGORIES:Calendar,Meeting
ORGANIZER;CN="John Rayman":MAILTO:jpretiredle05@gmail.com
END:VEVENT
END:VCALENDAR