BEGIN:VCALENDAR
VERSION:2.0
PRODID:-//Daniel R Olsen Post 594 - ECPv6.15.20//NONSGML v1.0//EN
CALSCALE:GREGORIAN
METHOD:PUBLISH
X-ORIGINAL-URL:https://post594.org
X-WR-CALDESC:Events for Daniel R Olsen Post 594
REFRESH-INTERVAL;VALUE=DURATION:PT1H
X-Robots-Tag:noindex
X-PUBLISHED-TTL:PT1H
BEGIN:VTIMEZONE
TZID:America/Chicago
BEGIN:DAYLIGHT
TZOFFSETFROM:-0600
TZOFFSETTO:-0500
TZNAME:CDT
DTSTART:20250309T080000
END:DAYLIGHT
BEGIN:STANDARD
TZOFFSETFROM:-0500
TZOFFSETTO:-0600
TZNAME:CST
DTSTART:20251102T070000
END:STANDARD
BEGIN:DAYLIGHT
TZOFFSETFROM:-0600
TZOFFSETTO:-0500
TZNAME:CDT
DTSTART:20260308T080000
END:DAYLIGHT
BEGIN:STANDARD
TZOFFSETFROM:-0500
TZOFFSETTO:-0600
TZNAME:CST
DTSTART:20261101T070000
END:STANDARD
BEGIN:DAYLIGHT
TZOFFSETFROM:-0600
TZOFFSETTO:-0500
TZNAME:CDT
DTSTART:20270314T080000
END:DAYLIGHT
BEGIN:STANDARD
TZOFFSETFROM:-0500
TZOFFSETTO:-0600
TZNAME:CST
DTSTART:20271107T070000
END:STANDARD
END:VTIMEZONE
BEGIN:VEVENT
DTSTART;TZID=America/Chicago:20260525T100000
DTEND;TZID=America/Chicago:20260525T230000
DTSTAMP:20260423T164422
CREATED:20260317T230404Z
LAST-MODIFIED:20260317T230404Z
UID:7057-1779703200-1779750000@post594.org
SUMMARY:Memorial Day Cemetery Event
DESCRIPTION:More details coming later
URL:https://post594.org/event/memorial-day-cemetery-event/
LOCATION:Christ Lutheran Church Cemetery\, 1930 Diffley Road\, Eagan\, MN\, 55122\, United States
CATEGORIES:Calendar,Community,Memorial Day
END:VEVENT
BEGIN:VEVENT
DTSTART;TZID=America/Chicago:20260525T133000
DTEND;TZID=America/Chicago:20260525T140000
DTSTAMP:20260423T164422
CREATED:20260317T230619Z
LAST-MODIFIED:20260317T230619Z
UID:7059-1779715800-1779717600@post594.org
SUMMARY:Memorial Day Concert and Tribute
DESCRIPTION:More details coming soon.
URL:https://post594.org/event/memorial-day-concert-and-tribute/
LOCATION:Eagan Central Park\, 1501 Central Parkway\, Eagan\, MN\, 55121\, United States
CATEGORIES:Calendar,Community,Memorial Day
END:VEVENT
END:VCALENDAR