BEGIN:VCALENDAR
VERSION:2.0
PRODID:-//Daniel R Olsen Post 594 - ECPv6.15.20//NONSGML v1.0//EN
CALSCALE:GREGORIAN
METHOD:PUBLISH
X-ORIGINAL-URL:https://post594.org
X-WR-CALDESC:Events for Daniel R Olsen Post 594
REFRESH-INTERVAL;VALUE=DURATION:PT1H
X-Robots-Tag:noindex
X-PUBLISHED-TTL:PT1H
BEGIN:VTIMEZONE
TZID:America/Chicago
BEGIN:DAYLIGHT
TZOFFSETFROM:-0600
TZOFFSETTO:-0500
TZNAME:CDT
DTSTART:20230312T080000
END:DAYLIGHT
BEGIN:STANDARD
TZOFFSETFROM:-0500
TZOFFSETTO:-0600
TZNAME:CST
DTSTART:20231105T070000
END:STANDARD
BEGIN:DAYLIGHT
TZOFFSETFROM:-0600
TZOFFSETTO:-0500
TZNAME:CDT
DTSTART:20240310T080000
END:DAYLIGHT
BEGIN:STANDARD
TZOFFSETFROM:-0500
TZOFFSETTO:-0600
TZNAME:CST
DTSTART:20241103T070000
END:STANDARD
BEGIN:DAYLIGHT
TZOFFSETFROM:-0600
TZOFFSETTO:-0500
TZNAME:CDT
DTSTART:20250309T080000
END:DAYLIGHT
BEGIN:STANDARD
TZOFFSETFROM:-0500
TZOFFSETTO:-0600
TZNAME:CST
DTSTART:20251102T070000
END:STANDARD
END:VTIMEZONE
BEGIN:VEVENT
DTSTART;TZID=America/Chicago:20240428T080000
DTEND;TZID=America/Chicago:20240428T170000
DTSTAMP:20260425T193929
CREATED:20240328T180723Z
LAST-MODIFIED:20240328T180723Z
UID:4771-1714291200-1714323600@post594.org
SUMMARY:Minnesota Legion College
DESCRIPTION:The Minnesota American Legion College set for Thursday\, April 25\, to Sunday\, April 28\, at Camp Ripley IS FULL. The deadline to register was April 1\, but we had to close down applications March 20. \nWatch the page at https://mnlegion.org/legion-college/ for information on future Minnesota American Legion College sessions. \nINFO ABOUT SESSIONS: \nTuition is $200 per student. \nMinnesota Legion College is open to Legion\, Auxiliary\, SAL and Riders members. For questions\, email trainingcomm@mnlegion.org.
URL:https://post594.org/event/minnesota-legion-college-8/
LOCATION:Camp Ripley\, 15000 Highway 115\, Little Falls\, MN\, 56345\, United States
CATEGORIES:Training
END:VEVENT
END:VCALENDAR