BEGIN:VCALENDAR
VERSION:2.0
PRODID:-//Daniel R Olsen Post 594 - ECPv6.15.20//NONSGML v1.0//EN
CALSCALE:GREGORIAN
METHOD:PUBLISH
X-WR-CALNAME:Daniel R Olsen Post 594
X-ORIGINAL-URL:https://post594.org
X-WR-CALDESC:Events for Daniel R Olsen Post 594
REFRESH-INTERVAL;VALUE=DURATION:PT1H
X-Robots-Tag:noindex
X-PUBLISHED-TTL:PT1H
BEGIN:VTIMEZONE
TZID:America/Chicago
BEGIN:DAYLIGHT
TZOFFSETFROM:-0600
TZOFFSETTO:-0500
TZNAME:CDT
DTSTART:20220313T080000
END:DAYLIGHT
BEGIN:STANDARD
TZOFFSETFROM:-0500
TZOFFSETTO:-0600
TZNAME:CST
DTSTART:20221106T070000
END:STANDARD
BEGIN:DAYLIGHT
TZOFFSETFROM:-0600
TZOFFSETTO:-0500
TZNAME:CDT
DTSTART:20230312T080000
END:DAYLIGHT
BEGIN:STANDARD
TZOFFSETFROM:-0500
TZOFFSETTO:-0600
TZNAME:CST
DTSTART:20231105T070000
END:STANDARD
BEGIN:DAYLIGHT
TZOFFSETFROM:-0600
TZOFFSETTO:-0500
TZNAME:CDT
DTSTART:20240310T080000
END:DAYLIGHT
BEGIN:STANDARD
TZOFFSETFROM:-0500
TZOFFSETTO:-0600
TZNAME:CST
DTSTART:20241103T070000
END:STANDARD
END:VTIMEZONE
BEGIN:VEVENT
DTSTART;TZID=America/Chicago:20231108T113000
DTEND;TZID=America/Chicago:20231108T131500
DTSTAMP:20260424T101320
CREATED:20230930T232324Z
LAST-MODIFIED:20231108T050313Z
UID:4287-1699443000-1699449300@post594.org
SUMMARY:Eagan Rotary Veteran's Day Luncheon 2023
DESCRIPTION:Each year\, the Eagan Rotary hosts an annual Veterans Day luncheon to honor area veterans. For several years now\, the Post 594 Color Guard has presented the colors at this event. This year\, the Rotary has graciously offered to open up attendance to Post 594 members and provide lunch at no cost. However\, if you are interested in attending\, you must contact Commander Beierman by October 15\, 2023. RSVP is mandatory to help the Rotary plan this event. The luncheon is schedule for Wednesday\, November 8\, 2023 at 1200.
URL:https://post594.org/event/eagan-rotary-veterans-day-luncheon-2023/
LOCATION:Lost Spur Country Club\, 2750 Sibley Memorial Highway\, Eagan\, MN\, 55122\, United States
CATEGORIES:Calendar,Community,Veterans Day
END:VEVENT
BEGIN:VEVENT
DTSTART;TZID=America/Chicago:20231108T080000
DTEND;TZID=America/Chicago:20231108T083000
DTSTAMP:20260424T101320
CREATED:20231108T050655Z
LAST-MODIFIED:20231108T050655Z
UID:4372-1699430400-1699432200@post594.org
SUMMARY:Thomson Reuters Veterans Day Program
DESCRIPTION:Join the Post 594 Color Guard at the Thomson Reuters Veterans Day Program.  There will be a flag raising and short program.
URL:https://post594.org/event/thomson-reuters-veterans-day-program/
LOCATION:Thompson Reuters\, 610 Opperman Dr\, Eagan\, MN\, 55123\, United States
CATEGORIES:Community,Veterans Day
ORGANIZER;CN="John Rayman":MAILTO:jpretiredle05@gmail.com
END:VEVENT
BEGIN:VEVENT
DTSTART;TZID=America/Chicago:20231028T090000
DTEND;TZID=America/Chicago:20231028T120000
DTSTAMP:20260424T101320
CREATED:20230930T225511Z
LAST-MODIFIED:20230930T225547Z
UID:4273-1698483600-1698494400@post594.org
SUMMARY:Minnesota American Legion Fall 2023 Convention
DESCRIPTION:The Fall Conference is one of our most important gatherings of the year. It is our annual school of instruction. There is discussion\, patriotism and camaraderie. We hope it’s the kind of event you can talk about when you return to your post home and your fellow Legionnaires. \nYour attendance at the annual Fall Conference shows your dedication to our great organizations and the four pillars of The American Legion. \nWhere: River’s Edge Convention Center\, 10 4th Ave S. St Cloud\, MN 56301 \nWhen: Oct. 27-28\, 2023\, with committee meetings and DEC Oct. 26 \nMore details can be found at https://mnlegion.org/fall-conference/
URL:https://post594.org/event/4273/
LOCATION:River’s Edge Convention Center\, 10 4th Ave S.\, St Cloud\, MN\, 56301\, United States
CATEGORIES:Meeting,Training
END:VEVENT
BEGIN:VEVENT
DTSTART;TZID=America/Chicago:20231027T080000
DTEND;TZID=America/Chicago:20231027T170000
DTSTAMP:20260424T101320
CREATED:20230930T224532Z
LAST-MODIFIED:20230930T225132Z
UID:4265-1698393600-1698426000@post594.org
SUMMARY:Minnesota American Legion Fall 2023 Convention
DESCRIPTION:The Fall Conference is one of our most important gatherings of the year. It is our annual school of instruction. There is discussion\, patriotism and camaraderie. We hope it’s the kind of event you can talk about when you return to your post home and your fellow Legionnaires. \nYour attendance at the annual Fall Conference shows your dedication to our great organizations and the four pillars of The American Legion. \nWhere: River’s Edge Convention Center\, 10 4th Ave S. St Cloud\, MN 56301 \nWhen: Oct. 27-28\, 2023\, with committee meetings and DEC Oct. 26 \nMore details can be found at https://mnlegion.org/fall-conference/
URL:https://post594.org/event/minnesota-american-legion-fall-2023-convention/
LOCATION:River’s Edge Convention Center\, 10 4th Ave S.\, St Cloud\, MN\, 56301\, United States
CATEGORIES:Meeting,Training
END:VEVENT
BEGIN:VEVENT
DTSTART;TZID=America/Chicago:20231021T083000
DTEND;TZID=America/Chicago:20231021T093000
DTSTAMP:20260424T101320
CREATED:20230930T223425Z
LAST-MODIFIED:20230930T231609Z
UID:4263-1697877000-1697880600@post594.org
SUMMARY:Street Cleanup - Fall 2023
DESCRIPTION:Joe Dolan advised the fall street cleanup will take place on Saturday\, 10/21/23. Volunteers clean up\ntrash on Duckwood Drive between Denmark Ave and Pilot Knob Ave. Anyone interested in participating should report\nto the south end of the Eagan Walmart parking lot that morning at 8:30 am.
URL:https://post594.org/event/street-cleanup-fall-2023/
LOCATION:Walmart\, 1360 Town Centre Dr.\, Eagan\, MN\, 55123\, United States
CATEGORIES:Calendar,Community
END:VEVENT
BEGIN:VEVENT
DTSTART;TZID=America/Chicago:20231020T090000
DTEND;TZID=America/Chicago:20231020T150000
DTSTAMP:20260424T101320
CREATED:20230930T221935Z
LAST-MODIFIED:20230930T222914Z
UID:4257-1697792400-1697814000@post594.org
SUMMARY:Blood Drive 2023
DESCRIPTION:Join Daniel R Olsen Post 594 for an American Red Cross Blood Drive on October 20\, 2023 from 9:00 am to 3:00 pm. \nCall 1-800-RED CROSS (1-800-733-2767) or visit RedCrossBlood.org and enter Post 594 to schedule an appointment. \nNote: Fall into giving blood Oct 1 thru 20 and get a $15 Amazon.com Gift Card by email.  See rcblood.org/together for more information.
URL:https://post594.org/event/blood-drive-2023/
LOCATION:Eagan Community Center\, 1501 Central Pkwy\, Eagan\, MN\, 55121\, United States
CATEGORIES:Calendar,Community
ORGANIZER;CN="Mike Peiffer":MAILTO:mdpeif@q.com
END:VEVENT
BEGIN:VEVENT
DTSTART;TZID=America/Chicago:20231017T180000
DTEND;TZID=America/Chicago:20231017T190000
DTSTAMP:20260424T101320
CREATED:20230115T032538Z
LAST-MODIFIED:20230228T173514Z
UID:3845-1697565600-1697569200@post594.org
SUMMARY:Core Team Leadership Meeting – Oct 2023
DESCRIPTION:There will be a Post 594 Core Team Leadership Meeting on Tuesday\, October 17\, 2023 at 18:00.  The meeting will be held at Fitz’s Bar and Grill\, 3883 Cedar Grove Parkway\, Eagan\, MN.
URL:https://post594.org/event/core-team-leadership-meeting-oct-2023/
LOCATION:Fitz’s Bar and Grill\, 3883 Cedar Grove Parkway\, Eagan\, MN\, 55122\, United States
CATEGORIES:Meeting
END:VEVENT
BEGIN:VEVENT
DTSTART;TZID=America/Chicago:20231013T190000
DTEND;TZID=America/Chicago:20231013T190000
DTSTAMP:20260424T101320
CREATED:20230930T230752Z
LAST-MODIFIED:20230930T230752Z
UID:4279-1697223600-1697223600@post594.org
SUMMARY:Post 594 Color Guard at EHS Football Game
DESCRIPTION:Come watch the Eagan Post 594 Color Guard start the Eagan Wildcats Football game.  The game is Friday\, September 29\, 2023 starting at 7:00 pm.  The Eagan Wildcats vs. Lakeville North. \nMore details at https://www.eaganwildcats.org.
URL:https://post594.org/event/post-594-color-guard-at-ehs-football-game-2/
LOCATION:Eagan High School\, 4185 Braddock Trail\, Eagan\, MN\, 55123\, United States
CATEGORIES:Community
END:VEVENT
BEGIN:VEVENT
DTSTART;TZID=America/Chicago:20230929T190000
DTEND;TZID=America/Chicago:20230929T190000
DTSTAMP:20260424T101320
CREATED:20230930T230537Z
LAST-MODIFIED:20230930T230626Z
UID:4276-1696014000-1696014000@post594.org
SUMMARY:Post 594 Color Guard at EHS Football Game
DESCRIPTION:Come watch the Eagan Post 594 Color Guard start the Eagan Wildcats Football game.  The game is Friday\, September 29\, 2023 starting at 7:00 pm.  The Eagan Wildcats vs. Lakeville North. \nMore details at https://www.eaganwildcats.org.
URL:https://post594.org/event/post-594-color-guard-at-ehs-football-game/
LOCATION:Eagan High School\, 4185 Braddock Trail\, Eagan\, MN\, 55123\, United States
CATEGORIES:Community
END:VEVENT
BEGIN:VEVENT
DTSTART;TZID=America/Chicago:20230919T190000
DTEND;TZID=America/Chicago:20230919T203000
DTSTAMP:20260424T101320
CREATED:20230115T032158Z
LAST-MODIFIED:20230115T032158Z
UID:3839-1695150000-1695155400@post594.org
SUMMARY:Membership Meeting – Sep 2023
DESCRIPTION:Come join other Post 594 members as the Post Officers present information about and for the Post membership on September 19\, 2022.  It will be held at Cedarvale Lanes in Eagan starting at 19:00 (7:00 pm). \nThe meetings are held in the banquet room at Cedarvale Lanes in the banquet room downstairs. Once you enter the building\, the easiest access to get downstairs is by the OnTrack pro shop. \nAddress: Cedarvale Lanes and Fitz’s Bar & Grill\n3883 Cedar Grove Parkway\nEagan\, MN 55122
URL:https://post594.org/event/membership-meeting-sep-2023/
LOCATION:Cedarvale Lanes\, 3883 Cedar Grove Parkway\, Eagan\, MN\, 55122\, United States
CATEGORIES:Meeting
END:VEVENT
BEGIN:VEVENT
DTSTART;TZID=America/Chicago:20230911T170000
DTEND;TZID=America/Chicago:20230911T180000
DTSTAMP:20260424T101320
CREATED:20230825T203511Z
LAST-MODIFIED:20230825T203511Z
UID:4217-1694451600-1694455200@post594.org
SUMMARY:Eagan 9/11 Event - 2023
DESCRIPTION:Come join the Eagan Police\, Eagan Fire and Post 594 for a short but moving event to commemorate the events of September 11\, 2001.  The event starts at 5:00 pm.  The event will be held at the Eagan Tribute and Memorial Park.
URL:https://post594.org/event/eagan-9-11-event-2023/
LOCATION:Eagan Tribute and Memorial Plaza\, 1507 Central Parkway\, Eagan\, MN\, 55121\, United States
CATEGORIES:Community,Military Days
END:VEVENT
BEGIN:VEVENT
DTSTART;TZID=America/Chicago:20230822T180000
DTEND;TZID=America/Chicago:20230822T190000
DTSTAMP:20260424T101320
CREATED:20230115T032648Z
LAST-MODIFIED:20230825T203201Z
UID:3847-1692727200-1692730800@post594.org
SUMMARY:Core Team Leadership Meeting – Aug 2023
DESCRIPTION:There will be a Post 594 Core Team Leadership Meeting on Tuesday\, August 15\, 2023 at 18:00.  The meeting will be held at Fitz’s Bar and Grill\, 3883 Cedar Grove Parkway\, Eagan\, MN.
URL:https://post594.org/event/core-team-leadership-meeting-aug-2023/
LOCATION:Fitz’s Bar and Grill\, 3883 Cedar Grove Parkway\, Eagan\, MN\, 55122\, United States
CATEGORIES:Meeting
END:VEVENT
BEGIN:VEVENT
DTSTART;TZID=America/Chicago:20230813T093000
DTEND;TZID=America/Chicago:20230813T170000
DTSTAMP:20260424T101320
CREATED:20230812T153726Z
LAST-MODIFIED:20230812T155732Z
UID:4207-1691919000-1691946000@post594.org
SUMMARY:Von Hanson’s Fundraiser
DESCRIPTION:Join Eagan Post 594 for a Hot Dog or Brat at Von Hanson’s in Eagan at 1320 Duckwood Dr.  We will be serving from 9:30 am to 5:00 pm.  Good food and good company.
URL:https://post594.org/event/von-hansons-fundraiser-2/
LOCATION:Von Hanson’s Meats\, 1320 Duckwood Dr\, Eagan\, MN\, 55123\, United States
CATEGORIES:Calendar,Community
END:VEVENT
BEGIN:VEVENT
DTSTART;TZID=America/Chicago:20230812T093000
DTEND;TZID=America/Chicago:20230812T170000
DTSTAMP:20260424T101320
CREATED:20230812T153114Z
LAST-MODIFIED:20230812T155801Z
UID:4203-1691832600-1691859600@post594.org
SUMMARY:Von Hanson’s Fundraiser
DESCRIPTION:Join Eagan Post 594 for a Hot Dog or Brat at Von Hanson’s in Eagan at 1320 Duckwood Dr.  We will be serving from 9:30 am to 5:00 pm.  Good food and good company.
URL:https://post594.org/event/von-hansons-fundraiser/
LOCATION:Von Hanson’s Meats\, 1320 Duckwood Dr\, Eagan\, MN\, 55123\, United States
CATEGORIES:Calendar,Community
END:VEVENT
BEGIN:VEVENT
DTSTART;TZID=America/Chicago:20230718T190000
DTEND;TZID=America/Chicago:20230718T203000
DTSTAMP:20260424T101320
CREATED:20230115T032055Z
LAST-MODIFIED:20230115T032055Z
UID:3837-1689706800-1689712200@post594.org
SUMMARY:Membership Meeting – July 2023
DESCRIPTION:Come join other Post 594 members as the Post Officers present information about and for the Post membership on July 18\, 2022.  It will be held at Cedarvale Lanes in Eagan starting at 19:00 (7:00 pm). \nThe meetings are held in the banquet room at Cedarvale Lanes in the banquet room downstairs. Once you enter the building\, the easiest access to get downstairs is by the OnTrack pro shop. \nAddress: Cedarvale Lanes and Fitz’s Bar & Grill\n3883 Cedar Grove Parkway\nEagan\, MN 55122
URL:https://post594.org/event/membership-meeting-july-2023/
LOCATION:Cedarvale Lanes\, 3883 Cedar Grove Parkway\, Eagan\, MN\, 55122\, United States
CATEGORIES:Meeting
END:VEVENT
BEGIN:VEVENT
DTSTART;TZID=America/Chicago:20230704T120000
DTEND;TZID=America/Chicago:20230704T220000
DTSTAMP:20260424T101320
CREATED:20230115T033739Z
LAST-MODIFIED:20230115T033739Z
UID:3862-1688472000-1688508000@post594.org
SUMMARY:Eagan FunFest – Post 594 Fundraising
DESCRIPTION:On July 3rd and 4th at the Eagan Community Center Park\, 1501 Central Parkway\, Eagan\, MN 55121\, from noon to 10:30 pm both days. More event and volunteer opportunity information to follow as the plan unfolds.
URL:https://post594.org/event/eagan-funfest-post-594-fundraising-4/
LOCATION:Eagan Central Park\, 1501 Central Parkway\, Eagan\, MN\, 55121\, United States
CATEGORIES:Community
ORGANIZER;CN="John Rayman":MAILTO:jpretiredle05@gmail.com
END:VEVENT
BEGIN:VEVENT
DTSTART;TZID=America/Chicago:20230704T100000
DTEND;TZID=America/Chicago:20230704T113000
DTSTAMP:20260424T101320
CREATED:20230115T034306Z
LAST-MODIFIED:20230115T034306Z
UID:3864-1688464800-1688470200@post594.org
SUMMARY:Eagan FunFest Parade
DESCRIPTION:The Eagan FunFest parade begins at 10:00 am from the west end of Yankee Doodle Road near Blue Cross and finishes 45 minutes later at the corner of Yankee Doodle Road and Federal.   Each year the parade attracts over a hundred participants and is expected to last a little over an hour from anywhere along the route.
URL:https://post594.org/event/eagan-funfest-parade/
LOCATION:MN
CATEGORIES:Community
END:VEVENT
BEGIN:VEVENT
DTSTART;TZID=America/Chicago:20230703T120000
DTEND;TZID=America/Chicago:20230703T220000
DTSTAMP:20260424T101320
CREATED:20230115T033626Z
LAST-MODIFIED:20230115T033805Z
UID:3860-1688385600-1688421600@post594.org
SUMMARY:Eagan FunFest – Post 594 Fundraising
DESCRIPTION:On July 3rd and 4th at the Eagan Community Center Park\, 1501 Central Parkway\, Eagan\, MN 55121\, from noon to 10:30 pm both days. More event and volunteer opportunity information to follow as the plan unfolds.
URL:https://post594.org/event/eagan-funfest-post-594-fundraising-3/
LOCATION:Eagan Central Park\, 1501 Central Parkway\, Eagan\, MN\, 55121\, United States
CATEGORIES:Community
ORGANIZER;CN="John Rayman":MAILTO:jpretiredle05@gmail.com
END:VEVENT
BEGIN:VEVENT
DTSTART;TZID=America/Chicago:20230627T180000
DTEND;TZID=America/Chicago:20230627T190000
DTSTAMP:20260424T101320
CREATED:20230115T032924Z
LAST-MODIFIED:20230618T205819Z
UID:3850-1687888800-1687892400@post594.org
SUMMARY:Core Team Leadership Meeting – June 2023
DESCRIPTION:Note: the date and location change. \nThere will be a Post 594 Core Team Leadership Meeting on Tuesday\, June 27\, 2023 at 18:00.  The meeting will be held at 1564-B Clemson Dr\, Eagan\, MN 55122. It will be a cookout potluck. We still have uncooked meat and condiments from last evening’s Flag Retirement Ceremony. Only bring salads or desserts. \n 
URL:https://post594.org/event/core-team-leadership-meeting-jun-2023/
LOCATION:Wayne Beierman\, 1564-B Clemson Dr\, Eagan\, MN\, 55122\, United States
CATEGORIES:Meeting
END:VEVENT
BEGIN:VEVENT
DTSTART;TZID=America/Chicago:20230614T170000
DTEND;TZID=America/Chicago:20230614T190000
DTSTAMP:20260424T101320
CREATED:20230115T033403Z
LAST-MODIFIED:20230614T041825Z
UID:3858-1686762000-1686769200@post594.org
SUMMARY:Flag Retirement Ceremony
DESCRIPTION:We continue to receive hundreds of retired flags from the community. Join members from Post 594 along with Boy and Girls Scouts for a flag retirement ceremony on Wednesday\, June 14\, 2023\, at Thomas Lake Pavilion.  The ceremony starts at 6:00 pm. \nPost 594 Auxiliary will help coordinate a potluck from 5:00 pm to 6:00 pm with the retirement ceremony immediately following at 6:00 pm.
URL:https://post594.org/event/flag-retirement-ceremony-2/
LOCATION:Thomas Lake Park Pavilion\, 4425 Pilot Knob Road\, Eagan\, MN\, 55122\, United States
CATEGORIES:Community
END:VEVENT
BEGIN:VEVENT
DTSTART;TZID=America/Chicago:20230529T140000
DTEND;TZID=America/Chicago:20230529T150000
DTSTAMP:20260424T101320
CREATED:20230521T223450Z
LAST-MODIFIED:20230521T223450Z
UID:4031-1685368800-1685372400@post594.org
SUMMARY:Post 594 Memorial Day Ceremony
DESCRIPTION:A Memorial Day ceremony will be hosted by Post 594.  It will include short speeches\, music and Taps.  The event will be held at the Eagan Tribute and Memorial Plaza starting at 2:00 pm.
URL:https://post594.org/event/post-594-memorial-day-ceremony-2/
LOCATION:Eagan Tribute and Memorial Plaza\, 1507 Central Parkway\, Eagan\, MN\, 55121\, United States
CATEGORIES:Calendar,Community,Memorial Day
ORGANIZER;CN="John Rayman":MAILTO:jpretiredle05@gmail.com
END:VEVENT
BEGIN:VEVENT
DTSTART;TZID=America/Chicago:20230529T123000
DTEND;TZID=America/Chicago:20230529T134500
DTSTAMP:20260424T101320
CREATED:20230521T223753Z
LAST-MODIFIED:20230521T223915Z
UID:4034-1685363400-1685367900@post594.org
SUMMARY:Never Forget Memorial Day Concert
DESCRIPTION:A local musician Luke Spehar will present a “Never Forget Memorial Day Concert” concert at the Central Park Bandshell from 12:30 pm to 1:45 pm. Luke’s brother\, Nick\, was killed in Afghanistan\, and the concert is a tribute to him and all who have given their lives in defense of our country. This is a new and exciting collaboration. We hope to make this part of our annual tradition.
URL:https://post594.org/event/never-forget-memorial-day-concert/
LOCATION:Eagan Central Park\, 1501 Central Parkway\, Eagan\, MN\, 55121\, United States
CATEGORIES:Calendar,Community,Memorial Day
ORGANIZER;CN="John Rayman":MAILTO:jpretiredle05@gmail.com
END:VEVENT
BEGIN:VEVENT
DTSTART;TZID=America/Chicago:20230529T102000
DTEND;TZID=America/Chicago:20230529T103000
DTSTAMP:20260424T101320
CREATED:20230521T223243Z
LAST-MODIFIED:20230521T223529Z
UID:4029-1685355600-1685356200@post594.org
SUMMARY:Christ Lutheran Church Cemetery Service
DESCRIPTION:Our annual cemetery memorial service at Christ Lutheran Church Cemetery\, 1930 Diffley Road\, Eagan\, MN 55122 at 10:20 am. The cemetery is behind the church. The best parking lot is the one on the east side of the church.
URL:https://post594.org/event/christ-lutheran-church-cemetery-service/
LOCATION:Christ Lutheran Church Cemetery\, 1930 Diffley Road\, Eagan\, MN\, 55122\, United States
CATEGORIES:Calendar,Community,Memorial Day
ORGANIZER;CN="John Rayman":MAILTO:jpretiredle05@gmail.com
END:VEVENT
BEGIN:VEVENT
DTSTART;TZID=America/Chicago:20230529T100000
DTEND;TZID=America/Chicago:20230529T101500
DTSTAMP:20260424T101320
CREATED:20230521T223102Z
LAST-MODIFIED:20230521T223602Z
UID:4027-1685354400-1685355300@post594.org
SUMMARY:St. John’s Eagantown Cemetery Service
DESCRIPTION:Our annual cemetery memorial services beginning at St. John’s Eagantown Cemetery\, 4198 Blackhawk Rd\, Eagan\, 55122 beginning at 10:00 am. Park in the strip mall to the north of the cemetery. The cemetery is located at the NE corner of Blackhawk Rd and Diffley Rd.
URL:https://post594.org/event/st-johns-eagantown-cemetery-service/
LOCATION:St. John’s Eagantown Cemetery\, 4198 Blackhawk Rd\, Eagan\, 55122\, United States
CATEGORIES:Calendar,Community,Memorial Day
ORGANIZER;CN="John Rayman":MAILTO:jpretiredle05@gmail.com
END:VEVENT
BEGIN:VEVENT
DTSTART;TZID=America/Chicago:20230529T000000
DTEND;TZID=America/Chicago:20230529T140000
DTSTAMP:20260424T101320
CREATED:20230418T215941Z
LAST-MODIFIED:20230418T215941Z
UID:3979-1685318400-1685368800@post594.org
SUMMARY:The Wall That Heals
DESCRIPTION:What is The Wall That Heals?\nIt is a three-quarter scale replica of the Vietnam Veterans Memorial in Washington\, D.C.\, that travels across the country. The exhibit honors the more than 3 million Americans who served in the U.S. armed forces in the Vietnam War and bears the names of the 58\,281 men and women who made the ultimate sacrifice in Vietnam. \n\nFree admission and parking located at Saint Thomas Academy\, 949 Mendota Heights Road in Mendota Heights.\nOpen 24 hours\nFriday\, May 26 at 2 p.m. through 2 p.m. on Monday\, May 29
URL:https://post594.org/event/the-wall-that-heals-10/
LOCATION:Saint Thomas Academy\, 949 Mendota Heights Rd\, Mendota Heights\, 55120\, United States
CATEGORIES:Calendar,Community
END:VEVENT
BEGIN:VEVENT
DTSTART;TZID=America/Chicago:20230528T190000
DTEND;TZID=America/Chicago:20230528T203000
DTSTAMP:20260424T101320
CREATED:20230522T174744Z
LAST-MODIFIED:20230522T174818Z
UID:4046-1685300400-1685305800@post594.org
SUMMARY:National Memorial Day Concert
DESCRIPTION:The 34th anniversary broadcast of the annual concert honoring the men and women of the U.S. armed forces features personal stories interwoven with musical performances. \nThe National Memorial Day Concert honors our country’s veterans\, servicemen and women and military families. The concert unites the country in remembrance and appreciation of those who gave their lives for our nation and serves those who are grieving through the mission put forward by Abraham Lincoln in his second inaugural address\, “Let us strive on to finish the work we are in; to bind up the nation’s wounds; to care for him who shall have borne the battle\, and for his widow\, and his orphan.” \nFor over 30 years\, this multi-award-winning television event\, featuring uplifting musical performances\, documentary footage and dramatic readings\, has become an American tradition and is one of PBS’ highest-rated programs. On the broadcast\, celebrities share real-life stories spanning the broad history of our nation’s military conflicts\, award winning musicians perform songs in tribute to our country’s true heroes and the finest performers from the United States premier military choirs and ensembles are featured. \nThe Chairman of the Joint Chiefs of Staff and the Joint Chiefs of Staff also participate in the concert\, offering their leadership perspective on the value and honor of military service and acknowledging the challenges that veterans and their families face. \nMore information and to watch it online\, visit https://www.pbs.org/national-memorial-day-concert/ \nThe concert begins at Sunday\, May 28\, 2023 at 8:00 P.M. ET.
URL:https://post594.org/event/national-memorial-day-concert/
LOCATION:West Lawn of the U.S. Capitol in Washington\, D.C\, Washington\, DC\, United States
CATEGORIES:Community,Memorial Day
END:VEVENT
BEGIN:VEVENT
DTSTART;VALUE=DATE:20230528
DTEND;VALUE=DATE:20230529
DTSTAMP:20260424T101320
CREATED:20230418T215833Z
LAST-MODIFIED:20230418T215833Z
UID:3977-1685232000-1685318399@post594.org
SUMMARY:The Wall That Heals
DESCRIPTION:What is The Wall That Heals?\nIt is a three-quarter scale replica of the Vietnam Veterans Memorial in Washington\, D.C.\, that travels across the country. The exhibit honors the more than 3 million Americans who served in the U.S. armed forces in the Vietnam War and bears the names of the 58\,281 men and women who made the ultimate sacrifice in Vietnam. \n\nFree admission and parking located at Saint Thomas Academy\, 949 Mendota Heights Road in Mendota Heights.\nOpen 24 hours\nFriday\, May 26 at 2 p.m. through 2 p.m. on Monday\, May 29
URL:https://post594.org/event/the-wall-that-heals-9/
LOCATION:Saint Thomas Academy\, 949 Mendota Heights Rd\, Mendota Heights\, 55120\, United States
CATEGORIES:Calendar,Community
END:VEVENT
BEGIN:VEVENT
DTSTART;VALUE=DATE:20230527
DTEND;VALUE=DATE:20230528
DTSTAMP:20260424T101320
CREATED:20230418T215659Z
LAST-MODIFIED:20230418T220023Z
UID:3975-1685145600-1685231999@post594.org
SUMMARY:The Wall That Heals
DESCRIPTION:What is The Wall That Heals?\nIt is a three-quarter scale replica of the Vietnam Veterans Memorial in Washington\, D.C.\, that travels across the country. The exhibit honors the more than 3 million Americans who served in the U.S. armed forces in the Vietnam War and bears the names of the 58\,281 men and women who made the ultimate sacrifice in Vietnam. \n\nFree admission and parking located at Saint Thomas Academy\, 949 Mendota Heights Road in Mendota Heights.\nOpen 24 hours\nFriday\, May 26 at 2 p.m. through 2 p.m. on Monday\, May 29
URL:https://post594.org/event/the-wall-that-heals-8/
LOCATION:Saint Thomas Academy\, 949 Mendota Heights Rd\, Mendota Heights\, 55120\, United States
CATEGORIES:Calendar,Community
END:VEVENT
BEGIN:VEVENT
DTSTART;TZID=America/Chicago:20230526T140000
DTEND;TZID=America/Chicago:20230526T233000
DTSTAMP:20260424T101320
CREATED:20230418T214334Z
LAST-MODIFIED:20230418T220052Z
UID:3968-1685109600-1685143800@post594.org
SUMMARY:The Wall That Heals
DESCRIPTION:What is The Wall That Heals?\nIt is a three-quarter scale replica of the Vietnam Veterans Memorial in Washington\, D.C.\, that travels across the country. The exhibit honors the more than 3 million Americans who served in the U.S. armed forces in the Vietnam War and bears the names of the 58\,281 men and women who made the ultimate sacrifice in Vietnam. \n\nFree admission and parking located at Saint Thomas Academy\, 949 Mendota Heights Road in Mendota Heights.\nOpen 24 hours\nFriday\, May 26 at 2 p.m. through 2 p.m. on Monday\, May 29
URL:https://post594.org/event/the-wall-that-heals-7/
LOCATION:Saint Thomas Academy\, 949 Mendota Heights Rd\, Mendota Heights\, 55120\, United States
CATEGORIES:Calendar,Community
END:VEVENT
BEGIN:VEVENT
DTSTART;TZID=America/Chicago:20230525T170000
DTEND;TZID=America/Chicago:20230525T180000
DTSTAMP:20260424T101320
CREATED:20230228T174907Z
LAST-MODIFIED:20230228T174907Z
UID:3902-1685034000-1685037600@post594.org
SUMMARY:Eagan High School Military Recognition program
DESCRIPTION:The Military Recruit Recognition Ceremony recognizes the Eagan High School students who have committed to joining one of the military branches. The event will be held in the High School Cafeteria.
URL:https://post594.org/event/eagan-high-school-military-recognition-program/
LOCATION:Eagan High School\, 4185 Braddock Trail\, Eagan\, MN\, 55123\, United States
CATEGORIES:Community
END:VEVENT
END:VCALENDAR