BEGIN:VCALENDAR
VERSION:2.0
PRODID:-//Daniel R Olsen Post 594 - ECPv6.15.20//NONSGML v1.0//EN
CALSCALE:GREGORIAN
METHOD:PUBLISH
X-WR-CALNAME:Daniel R Olsen Post 594
X-ORIGINAL-URL:https://post594.org
X-WR-CALDESC:Events for Daniel R Olsen Post 594
REFRESH-INTERVAL;VALUE=DURATION:PT1H
X-Robots-Tag:noindex
X-PUBLISHED-TTL:PT1H
BEGIN:VTIMEZONE
TZID:America/Chicago
BEGIN:DAYLIGHT
TZOFFSETFROM:-0600
TZOFFSETTO:-0500
TZNAME:CDT
DTSTART:20210314T080000
END:DAYLIGHT
BEGIN:STANDARD
TZOFFSETFROM:-0500
TZOFFSETTO:-0600
TZNAME:CST
DTSTART:20211107T070000
END:STANDARD
BEGIN:DAYLIGHT
TZOFFSETFROM:-0600
TZOFFSETTO:-0500
TZNAME:CDT
DTSTART:20220313T080000
END:DAYLIGHT
BEGIN:STANDARD
TZOFFSETFROM:-0500
TZOFFSETTO:-0600
TZNAME:CST
DTSTART:20221106T070000
END:STANDARD
BEGIN:DAYLIGHT
TZOFFSETFROM:-0600
TZOFFSETTO:-0500
TZNAME:CDT
DTSTART:20230312T080000
END:DAYLIGHT
BEGIN:STANDARD
TZOFFSETFROM:-0500
TZOFFSETTO:-0600
TZNAME:CST
DTSTART:20231105T070000
END:STANDARD
BEGIN:DAYLIGHT
TZOFFSETFROM:-0600
TZOFFSETTO:-0500
TZNAME:CDT
DTSTART:20240310T080000
END:DAYLIGHT
BEGIN:STANDARD
TZOFFSETFROM:-0500
TZOFFSETTO:-0600
TZNAME:CST
DTSTART:20241103T070000
END:STANDARD
END:VTIMEZONE
BEGIN:VEVENT
DTSTART;TZID=America/Chicago:20230221T180000
DTEND;TZID=America/Chicago:20230221T190000
DTSTAMP:20260425T062733
CREATED:20230115T033116Z
LAST-MODIFIED:20230228T173235Z
UID:3854-1677002400-1677006000@post594.org
SUMMARY:Core Team Leadership Meeting – Cancelled
DESCRIPTION:This meeting is cancelled due to the weather.
URL:https://post594.org/event/core-team-leadership-meeting-feb-2023/
LOCATION:Fitz’s Bar and Grill\, 3883 Cedar Grove Parkway\, Eagan\, MN\, 55122\, United States
CATEGORIES:Meeting
END:VEVENT
BEGIN:VEVENT
DTSTART;TZID=America/Chicago:20230117T190000
DTEND;TZID=America/Chicago:20230117T203000
DTSTAMP:20260425T062733
CREATED:20230115T031405Z
LAST-MODIFIED:20230116T015941Z
UID:3828-1673982000-1673987400@post594.org
SUMMARY:Membership Meeting – Jan 2023
DESCRIPTION:Come join other Post 594 members as the Post Officers present information about and for the Post membership on January 17\, 2022.  It will be held at Cedarvale Lanes in Eagan starting at 19:00 (7:00 pm). \nThis is our first meeting of 2023\, so we will be discussing our goals for the coming year.  We hope you will join us and provide your input. \nThe meetings are held in the banquet room at Cedarvale Lanes in the banquet room downstairs. Once you enter the building\, the easiest access to get downstairs is by the OnTrack pro shop. \nAddress: Cedarvale Lanes and Fitz’s Bar & Grill\n3883 Cedar Grove Parkway\nEagan\, MN 55122
URL:https://post594.org/event/membership-meeting-jan-2023/
LOCATION:Cedarvale Lanes\, 3883 Cedar Grove Parkway\, Eagan\, MN\, 55122\, United States
CATEGORIES:Meeting
END:VEVENT
BEGIN:VEVENT
DTSTART;TZID=America/Chicago:20230117T181500
DTEND;TZID=America/Chicago:20230117T190000
DTSTAMP:20260425T062733
CREATED:20230116T015724Z
LAST-MODIFIED:20230116T015724Z
UID:3866-1673979300-1673982000@post594.org
SUMMARY:Post Informal Happy Hour
DESCRIPTION:There will be an informal happy hour prior to the Post Membership meeting. Feel free to grab your favorite beverage\, a bite to eat\, and catch up with Post members.  Hope to see you there!
URL:https://post594.org/event/post-informal-happy-hour/
LOCATION:Fitz’s Bar and Grill\, 3883 Cedar Grove Parkway\, Eagan\, MN\, 55122\, United States
CATEGORIES:Meeting
ORGANIZER;CN="John Rayman":MAILTO:jpretiredle05@gmail.com
END:VEVENT
BEGIN:VEVENT
DTSTART;VALUE=DATE:20230116
DTEND;VALUE=DATE:20230117
DTSTAMP:20260425T062733
CREATED:20230115T031606Z
LAST-MODIFIED:20230115T031627Z
UID:3831-1673827200-1673913599@post594.org
SUMMARY:Martin Luther King Day 2023
DESCRIPTION:
URL:https://post594.org/event/martin-luther-king-day-2023/
LOCATION:MN
CATEGORIES:Community
END:VEVENT
BEGIN:VEVENT
DTSTART;TZID=America/Chicago:20221213T180000
DTEND;TZID=America/Chicago:20221213T190000
DTSTAMP:20260425T062733
CREATED:20220118T212405Z
LAST-MODIFIED:20221202T054142Z
UID:2733-1670954400-1670958000@post594.org
SUMMARY:Core Team Leadership Meeting - Dec 2022
DESCRIPTION:There will be a Post 594 Core Team Leadership Meeting on Tuesday\, December 20\, 2022 at 18:00.  The meeting will be held at Fitz’s Bar and Grill\, 3883 Cedar Grove Parkway\, Eagan\, MN.
URL:https://post594.org/event/core-team-leadership-meeting-dec-2022/
LOCATION:Fitz’s Bar and Grill\, 3883 Cedar Grove Parkway\, Eagan\, MN\, 55122\, United States
CATEGORIES:Meeting
END:VEVENT
BEGIN:VEVENT
DTSTART;VALUE=DATE:20221207
DTEND;VALUE=DATE:20221208
DTSTAMP:20260425T062733
CREATED:20221202T054749Z
LAST-MODIFIED:20221202T054904Z
UID:3766-1670371200-1670457599@post594.org
SUMMARY:National Pearl Harbor Remembrance Day
DESCRIPTION:On Aug. 23\, 1994\, the United States Congress designated Dec. 7 as National Pearl Harbor Remembrance Day. Every year\, remembrance events are held at the Pearl Harbor National Memorial\, culminating in a commemoration ceremony on Dec. 7. \nEach year on Dec. 7\, Pearl Harbor Survivors\, veterans\, and visitors from all over the world come together to honor and remember the 2\,403 service members and civilians who were killed during the Japanese attack on Pearl Harbor on December 7\, 1941. A further 1\,178 people were injured in the attack\, which permanently sank two U.S. Navy battleships (the USS Arizona and the USS Utah) and destroyed 188 aircraft. \nThe United States flag is lowered to Half-Staff on December 7th.
URL:https://post594.org/event/national-pearl-harbor-remembrance-day/
LOCATION:MN
CATEGORIES:Half-Staff Days,Military Days
END:VEVENT
BEGIN:VEVENT
DTSTART;TZID=America/Chicago:20221115T190000
DTEND;TZID=America/Chicago:20221115T203000
DTSTAMP:20260425T062733
CREATED:20220118T202447Z
LAST-MODIFIED:20220118T212004Z
UID:2706-1668538800-1668544200@post594.org
SUMMARY:Membership Meeting - Nov 2022
DESCRIPTION:Come join other Post 594 members as the Post Officers present information about and for the Post membership on November\, 15 2022.  It will be held at Cedarvale Lanes in Eagan starting at 19:00 (7:00 pm). \nThe meetings are held in the banquet room at Cedarvale Lanes in the banquet room downstairs. Once you enter the building\, the easiest access to get downstairs is by the OnTrack pro shop. \nAddress: Cedarvale Lanes and Fitz’s Bar & Grill\n3883 Cedar Grove Parkway\nEagan\, MN 55122
URL:https://post594.org/event/membership-meeting-november-15/
LOCATION:Cedarvale Lanes\, 3883 Cedar Grove Parkway\, Eagan\, MN\, 55122\, United States
CATEGORIES:Meeting
ORGANIZER;CN="John Rayman":MAILTO:jpretiredle05@gmail.com
END:VEVENT
BEGIN:VEVENT
DTSTART;VALUE=DATE:20221111
DTEND;VALUE=DATE:20221112
DTSTAMP:20260425T062733
CREATED:20220118T212534Z
LAST-MODIFIED:20220118T212534Z
UID:2735-1668124800-1668211199@post594.org
SUMMARY:Post 594 Veterans Day Ceremonies
DESCRIPTION:More details to come as it gets closer to Veterans Day 2022.
URL:https://post594.org/event/post-594-veterans-day-ceremonies/
LOCATION:MN
CATEGORIES:Veterans Day
END:VEVENT
BEGIN:VEVENT
DTSTART;TZID=America/Chicago:20221021T090000
DTEND;TZID=America/Chicago:20221021T170000
DTSTAMP:20260425T062733
CREATED:20220825T023111Z
LAST-MODIFIED:20220825T023402Z
UID:3373-1666342800-1666371600@post594.org
SUMMARY:Post 594 Blood Drive
DESCRIPTION:Post 594 will be hosting a Blood Drive at the Eagan Community Center on October 21\, 2022 at 9:00 am.  More details coming.
URL:https://post594.org/event/post-594-blood-drive/
LOCATION:Eagan Community Center\, 1501 Central Pkwy\, Eagan\, MN\, 55121\, United States
CATEGORIES:Calendar,Community
ORGANIZER;CN="John Rayman":MAILTO:jpretiredle05@gmail.com
END:VEVENT
BEGIN:VEVENT
DTSTART;TZID=America/Chicago:20221018T180000
DTEND;TZID=America/Chicago:20221018T190000
DTSTAMP:20260425T062733
CREATED:20220118T211940Z
LAST-MODIFIED:20220118T211940Z
UID:2722-1666116000-1666119600@post594.org
SUMMARY:Core Team Leadership Meeting - Oct 2022
DESCRIPTION:There will be a Post 594 Core Team Leadership Meeting on Tuesday\, October 18\, 2022 at 18:00.  The meeting will be held at Fitz’s Bar and Grill\, 3883 Cedar Grove Parkway\, Eagan\, MN.
URL:https://post594.org/event/core-team-leadership-meeting-oct-2022/
LOCATION:Fitz’s Bar and Grill\, 3883 Cedar Grove Parkway\, Eagan\, MN\, 55122\, United States
CATEGORIES:Meeting
END:VEVENT
BEGIN:VEVENT
DTSTART;TZID=America/Chicago:20221015T083000
DTEND;TZID=America/Chicago:20221015T093000
DTSTAMP:20260425T062733
CREATED:20221013T042103Z
LAST-MODIFIED:20221013T042103Z
UID:3516-1665822600-1665826200@post594.org
SUMMARY:Fall Street Clean-up - 2022
DESCRIPTION:Fall street clean-up will occur on Saturday\, October 15\, 2022. Volunteers should meet in the south end of the\nEagan Walmart parking lot at 0830. Safety vests and garbage bags will be provided.
URL:https://post594.org/event/fall-street-clean-up-2022/
LOCATION:Walmart\, 1360 Town Centre Dr.\, Eagan\, MN\, 55123\, United States
CATEGORIES:Community
END:VEVENT
BEGIN:VEVENT
DTSTART;VALUE=DATE:20221009
DTEND;VALUE=DATE:20221010
DTSTAMP:20260425T062733
CREATED:20220118T223203Z
LAST-MODIFIED:20220118T223221Z
UID:2769-1665273600-1665359999@post594.org
SUMMARY:Fallen Fighters Memorial Day
DESCRIPTION:National Fallen Fighters Memorial Day is usually the first Sunday in October.  Flags are at Half-Staff from sunrise to sunset. It is a day to honor firefighters who have died in the Line of Duty.
URL:https://post594.org/event/fallen-fighters-memorial-day/
LOCATION:MN
CATEGORIES:Half-Staff Days
END:VEVENT
BEGIN:VEVENT
DTSTART;TZID=America/Chicago:20221004T170000
DTEND;TZID=America/Chicago:20221004T190000
DTSTAMP:20260425T062733
CREATED:20220825T021400Z
LAST-MODIFIED:20220825T021400Z
UID:3371-1664902800-1664910000@post594.org
SUMMARY:Post 594 Flag Retirement Ceremony
DESCRIPTION:Post 594 will be holding a Flag Retirement Ceremony on October 4\, 2022 at 5:00 pm.  The location will be the Thomas Lake Pavilion.
URL:https://post594.org/event/post-594-flag-retirement-ceremony-2/
LOCATION:Thomas Lake Park Pavilion\, 4425 Pilot Knob Road\, Eagan\, MN\, 55122\, United States
CATEGORIES:Community
ORGANIZER;CN="John Rayman":MAILTO:jpretiredle05@gmail.com
END:VEVENT
BEGIN:VEVENT
DTSTART;TZID=America/Chicago:20220920T190000
DTEND;TZID=America/Chicago:20220920T203000
DTSTAMP:20260425T062733
CREATED:20220118T202308Z
LAST-MODIFIED:20220118T212024Z
UID:2704-1663700400-1663705800@post594.org
SUMMARY:Membership Meeting - Sep 2022
DESCRIPTION:Come join other Post 594 members as the Post Officers present information about and for the Post membership on September 20\, 2022.  It will be held at Cedarvale Lanes in Eagan starting at 19:00 (7:00 pm). \nThe meetings are held in the banquet room at Cedarvale Lanes in the banquet room downstairs. Once you enter the building\, the easiest access to get downstairs is by the OnTrack pro shop. \nAddress: Cedarvale Lanes and Fitz’s Bar & Grill\n3883 Cedar Grove Parkway\nEagan\, MN 55122
URL:https://post594.org/event/membership-meeting-september-2022/
LOCATION:Cedarvale Lanes\, 3883 Cedar Grove Parkway\, Eagan\, MN\, 55122\, United States
CATEGORIES:Meeting
ORGANIZER;CN="John Rayman":MAILTO:jpretiredle05@gmail.com
END:VEVENT
BEGIN:VEVENT
DTSTART;TZID=America/Chicago:20220911T170000
DTEND;TZID=America/Chicago:20220911T180000
DTSTAMP:20260425T062733
CREATED:20220118T212718Z
LAST-MODIFIED:20220908T162205Z
UID:2737-1662915600-1662919200@post594.org
SUMMARY:September 11 Remembrance Ceremony
DESCRIPTION:The Daniel R. Olsen American Legion Post 594 will conduct a remembrance ceremony for 9/11/2001 on Sept. 11\, 2022 at 5 pm. at the City of Eagan Community Center Tribute Plaza\, 1501 Central Parkway\, Eagan\, MN. \nThe event is free and open to the public and all are welcome! It will feature short speeches and community group participation. \nPicture of the Eagan Tribute Plaza
URL:https://post594.org/event/september-11-2022-ceremony/
LOCATION:Eagan Tribute and Memorial Plaza\, 1507 Central Parkway\, Eagan\, MN\, 55121\, United States
CATEGORIES:Community,Military Days
END:VEVENT
BEGIN:VEVENT
DTSTART;VALUE=DATE:20220911
DTEND;VALUE=DATE:20220912
DTSTAMP:20260425T062733
CREATED:20220118T222808Z
LAST-MODIFIED:20220831T183637Z
UID:2767-1662854400-1662940799@post594.org
SUMMARY:Patriot Day
DESCRIPTION:Patriot Day is September 11th.  Flags are at Half-Staff from sunrise to sunset. The day is in memory of the people killed on the September 11th terrorist attacks of 2001. Watch for events around the community.
URL:https://post594.org/event/patriot-day/
LOCATION:MN
CATEGORIES:Half-Staff Days
END:VEVENT
BEGIN:VEVENT
DTSTART;VALUE=DATE:20220901
DTEND;VALUE=DATE:20220902
DTSTAMP:20260425T062733
CREATED:20220419T210346Z
LAST-MODIFIED:20220419T210346Z
UID:3114-1661990400-1662076799@post594.org
SUMMARY:103rd National Convention
DESCRIPTION:The American Legion’s 103rd National Convention will take place in Milwaukee\, Wis.\, Aug. 26 – Sept. 1\, 2022.
URL:https://post594.org/event/103rd-national-convention-7/
LOCATION:2022 National Convention\, Milwaukee\, WI\, United States
CATEGORIES:Community,Meeting,Training
END:VEVENT
BEGIN:VEVENT
DTSTART;VALUE=DATE:20220831
DTEND;VALUE=DATE:20220901
DTSTAMP:20260425T062733
CREATED:20220419T210235Z
LAST-MODIFIED:20220419T210250Z
UID:3111-1661904000-1661990399@post594.org
SUMMARY:103rd National Convention
DESCRIPTION:The American Legion’s 103rd National Convention will take place in Milwaukee\, Wis.\, Aug. 26 – Sept. 1\, 2022.
URL:https://post594.org/event/103rd-national-convention-6/
LOCATION:2022 National Convention\, Milwaukee\, WI\, United States
CATEGORIES:Community,Meeting,Training
END:VEVENT
BEGIN:VEVENT
DTSTART;VALUE=DATE:20220830
DTEND;VALUE=DATE:20220831
DTSTAMP:20260425T062733
CREATED:20220419T210109Z
LAST-MODIFIED:20220419T210109Z
UID:3109-1661817600-1661903999@post594.org
SUMMARY:103rd National Convention
DESCRIPTION:The 103rd National Convention will take place in Milwaukee\, Wisconsin – August 26 – September 1\, 2022.
URL:https://post594.org/event/103rd-national-convention-5/
LOCATION:2022 National Convention\, Milwaukee\, WI\, United States
CATEGORIES:Community,Meeting,Training
END:VEVENT
BEGIN:VEVENT
DTSTART;VALUE=DATE:20220829
DTEND;VALUE=DATE:20220830
DTSTAMP:20260425T062733
CREATED:20220419T210013Z
LAST-MODIFIED:20220419T210013Z
UID:3107-1661731200-1661817599@post594.org
SUMMARY:103rd National Convention
DESCRIPTION:The 103rd National Convention will take place in Milwaukee\, Wisconsin – August 26 – September 1\, 2022.
URL:https://post594.org/event/103rd-national-convention-4/
LOCATION:2022 National Convention\, Milwaukee\, WI\, United States
CATEGORIES:Community,Meeting,Training
END:VEVENT
BEGIN:VEVENT
DTSTART;VALUE=DATE:20220828
DTEND;VALUE=DATE:20220829
DTSTAMP:20260425T062733
CREATED:20220419T205428Z
LAST-MODIFIED:20220419T205428Z
UID:3104-1661644800-1661731199@post594.org
SUMMARY:103rd National Convention
DESCRIPTION:The 103rd National Convention will take place in Milwaukee\, Wisconsin – August 26 – September 1\, 2022.
URL:https://post594.org/event/103rd-national-convention-3/
LOCATION:2022 National Convention\, Milwaukee\, WI\, United States
CATEGORIES:Community,Meeting,Training
END:VEVENT
BEGIN:VEVENT
DTSTART;VALUE=DATE:20220827
DTEND;VALUE=DATE:20220828
DTSTAMP:20260425T062733
CREATED:20220419T205324Z
LAST-MODIFIED:20220419T205324Z
UID:3102-1661558400-1661644799@post594.org
SUMMARY:103rd National Convention
DESCRIPTION:The 103rd National Convention will take place in Milwaukee\, Wisconsin – August 26 – September 1\, 2022.
URL:https://post594.org/event/103rd-national-convention-2/
LOCATION:2022 National Convention\, Milwaukee\, WI\, United States
CATEGORIES:Community,Meeting,Training
END:VEVENT
BEGIN:VEVENT
DTSTART;VALUE=DATE:20220826
DTEND;VALUE=DATE:20220827
DTSTAMP:20260425T062733
CREATED:20220419T205002Z
LAST-MODIFIED:20220419T205528Z
UID:3098-1661472000-1661558399@post594.org
SUMMARY:103rd National Convention
DESCRIPTION:The 103rd National Convention will take place in Milwaukee\, Wisconsin – August 26 – September 1\, 2022.
URL:https://post594.org/event/103rd-national-convention/
LOCATION:2022 National Convention\, Milwaukee\, WI\, United States
CATEGORIES:Community,Meeting,Training
END:VEVENT
BEGIN:VEVENT
DTSTART;TZID=America/Chicago:20220816T180000
DTEND;TZID=America/Chicago:20220816T190000
DTSTAMP:20260425T062733
CREATED:20220118T211825Z
LAST-MODIFIED:20220118T211825Z
UID:2719-1660672800-1660676400@post594.org
SUMMARY:Core Team Leadership Meeting - Aug 2022
DESCRIPTION:There will be a Post 594 Core Team Leadership Meeting on Tuesday\, August 16\, 2022 at 18:00.  The meeting will be held at Fitz’s Bar and Grill\, 3883 Cedar Grove Parkway\, Eagan\, MN.
URL:https://post594.org/event/core-team-leadership-meeting-aug-2022/
LOCATION:Fitz’s Bar and Grill\, 3883 Cedar Grove Parkway\, Eagan\, MN\, 55122\, United States
CATEGORIES:Meeting
END:VEVENT
BEGIN:VEVENT
DTSTART;VALUE=DATE:20220816
DTEND;VALUE=DATE:20220817
DTSTAMP:20260425T062733
CREATED:20220119T050107Z
LAST-MODIFIED:20220119T050107Z
UID:2815-1660608000-1660694399@post594.org
SUMMARY:National Airborne Day
DESCRIPTION:National Airborne Day\, observed on August 16th each year\, celebrates the accomplishments of Army parachute tradition.
URL:https://post594.org/event/national-airborne-day/
LOCATION:MN
CATEGORIES:Military Days
END:VEVENT
BEGIN:VEVENT
DTSTART;VALUE=DATE:20220814
DTEND;VALUE=DATE:20220815
DTSTAMP:20260425T062733
CREATED:20220118T230413Z
LAST-MODIFIED:20220118T230413Z
UID:2813-1660435200-1660521599@post594.org
SUMMARY:Navajo Code Talkers Day
DESCRIPTION:National Navajo Code Talkers Day is August 14. This holiday honors the contributions of Native Americans who contributed to the United States war effort during WW II\, as well as recognizing the evolution of U.S. code related to Native American languages and the participation of First Nations tribe members in U.S. military efforts from many conflicts.
URL:https://post594.org/event/navajo-code-talkers-day/
LOCATION:MN
CATEGORIES:Military Days
END:VEVENT
BEGIN:VEVENT
DTSTART;VALUE=DATE:20220810
DTEND;VALUE=DATE:20220811
DTSTAMP:20260425T062733
CREATED:20220118T230259Z
LAST-MODIFIED:20220118T230259Z
UID:2811-1660089600-1660175999@post594.org
SUMMARY:DoD Birthday
DESCRIPTION:The U.S. Department of Defense (DoD) was established August 10th\, 1949.
URL:https://post594.org/event/dod-birthday/
LOCATION:MN
CATEGORIES:Military Days
END:VEVENT
BEGIN:VEVENT
DTSTART;VALUE=DATE:20220807
DTEND;VALUE=DATE:20220808
DTSTAMP:20260425T062733
CREATED:20220118T230128Z
LAST-MODIFIED:20220118T230128Z
UID:2808-1659830400-1659916799@post594.org
SUMMARY:National Purple Heart Day
DESCRIPTION:Purple Heart Day is observed on August 7 each year and is a time for Americans to remember and honor the brave men and women who were either wounded on the battlefield\, or paid the ultimate sacrifice with their lives. Purple Heart Day is also known as National Purple Heart Day\, Purple Heart Recognition Day and Purple Heart Appreciation Day. The holiday was first observed in 2014.
URL:https://post594.org/event/national-purple-heart-day/
LOCATION:MN
CATEGORIES:Military Days
END:VEVENT
BEGIN:VEVENT
DTSTART;VALUE=DATE:20220804
DTEND;VALUE=DATE:20220805
DTSTAMP:20260425T062733
CREATED:20220118T230013Z
LAST-MODIFIED:20220118T230013Z
UID:2806-1659571200-1659657599@post594.org
SUMMARY:Coast Guard Day
DESCRIPTION:Coast Guard Day is held each year on August 4th to recognize and honor the efforts of The United States Coast Guard. This celebration is considered an “internal” event for active and reserve Coast Guard members\, plus their civilian employees and retirees and members of the Coast Guard Auxiliary. \nThe Coast Guard still participates in Armed Forces Day and Armed Forces Week\, but unlike their other military counterparts\, they still have their own individual day to celebrate the accomplishments of this branch of the United States Military. The other four branches had their days (Air Force Day\, Army Day\, Navy Day\, and Marine Corps Day) consolidated into Armed Forces Day.
URL:https://post594.org/event/coast-guard-day/
LOCATION:MN
CATEGORIES:Military Days
END:VEVENT
BEGIN:VEVENT
DTSTART;VALUE=DATE:20220801
DTEND;VALUE=DATE:20220802
DTSTAMP:20260425T062733
CREATED:20220118T225855Z
LAST-MODIFIED:20220118T225855Z
UID:2804-1659312000-1659398399@post594.org
SUMMARY:Air Force Day
DESCRIPTION:Air Force Day is a celebration of airpower in the aftermath of WW II. This observance is slightly complicated due to the nature of American air power at the time\, but the designation of Air Force Day was an important step toward the recognition of United States air superiority in both Europe and Asia at the time. \nAir Force Day was last observed on August 1\, 1949. The Air Force Birthday is celebrated on September 18th each year.
URL:https://post594.org/event/air-force-day/
LOCATION:MN
CATEGORIES:Military Days
END:VEVENT
END:VCALENDAR