BEGIN:VCALENDAR
VERSION:2.0
PRODID:-//Daniel R Olsen Post 594 - ECPv6.15.20//NONSGML v1.0//EN
CALSCALE:GREGORIAN
METHOD:PUBLISH
X-WR-CALNAME:Daniel R Olsen Post 594
X-ORIGINAL-URL:https://post594.org
X-WR-CALDESC:Events for Daniel R Olsen Post 594
REFRESH-INTERVAL;VALUE=DURATION:PT1H
X-Robots-Tag:noindex
X-PUBLISHED-TTL:PT1H
BEGIN:VTIMEZONE
TZID:America/Chicago
BEGIN:DAYLIGHT
TZOFFSETFROM:-0600
TZOFFSETTO:-0500
TZNAME:CDT
DTSTART:20210314T080000
END:DAYLIGHT
BEGIN:STANDARD
TZOFFSETFROM:-0500
TZOFFSETTO:-0600
TZNAME:CST
DTSTART:20211107T070000
END:STANDARD
BEGIN:DAYLIGHT
TZOFFSETFROM:-0600
TZOFFSETTO:-0500
TZNAME:CDT
DTSTART:20220313T080000
END:DAYLIGHT
BEGIN:STANDARD
TZOFFSETFROM:-0500
TZOFFSETTO:-0600
TZNAME:CST
DTSTART:20221106T070000
END:STANDARD
BEGIN:DAYLIGHT
TZOFFSETFROM:-0600
TZOFFSETTO:-0500
TZNAME:CDT
DTSTART:20230312T080000
END:DAYLIGHT
BEGIN:STANDARD
TZOFFSETFROM:-0500
TZOFFSETTO:-0600
TZNAME:CST
DTSTART:20231105T070000
END:STANDARD
END:VTIMEZONE
BEGIN:VEVENT
DTSTART;VALUE=DATE:20220606
DTEND;VALUE=DATE:20220607
DTSTAMP:20260425T113533
CREATED:20220118T224826Z
LAST-MODIFIED:20220118T224826Z
UID:2788-1654473600-1654559999@post594.org
SUMMARY:D-Day
DESCRIPTION:On June 6\, 1944\, Allied soldiers bravely stormed the beaches of Normandy\, France. The Normandy beaches were chosen because of the range of air cover\, and it was the shortest distance from Great Britain.  Five landing beaches were selected for the assault: Utah\, Omaha\, Gold\, Juno and Sword beaches. As dawn broke\, the largest armada ever assembled began its assault on the beaches of Normandy. By the end of the day\, the Atlantic Wall\, (which took the Germans years to build)\, had fallen and the invasion was a success. The events of D-Day forged partnerships and reinforced trans-Atlantic bonds that remain strong today.
URL:https://post594.org/event/d-day/
CATEGORIES:Military Days
END:VEVENT
BEGIN:VEVENT
DTSTART;TZID=America/Chicago:20220530T140000
DTEND;TZID=America/Chicago:20220530T150000
DTSTAMP:20260425T113533
CREATED:20220323T184316Z
LAST-MODIFIED:20220525T174237Z
UID:2982-1653919200-1653922800@post594.org
SUMMARY:Post 594 Memorial Day Ceremony
DESCRIPTION:A Memorial Day ceremony will be hosted by Post 594.  It will include short speeches\, music and Taps.  The event will be held at the Eagan Tribute and Memorial Plaza starting at 2:00 pm. \nMore details to come later.
URL:https://post594.org/event/post-594-memorial-day-ceremony/
LOCATION:Eagan Tribute and Memorial Plaza\, 1507 Central Parkway\, Eagan\, MN\, 55121\, United States
CATEGORIES:Community,Memorial Day,Military Days
END:VEVENT
BEGIN:VEVENT
DTSTART;TZID=America/Chicago:20220530T103000
DTEND;TZID=America/Chicago:20220530T104500
DTSTAMP:20260425T113533
CREATED:20220525T174137Z
LAST-MODIFIED:20220526T022858Z
UID:3189-1653906600-1653907500@post594.org
SUMMARY:Christ Lutheran Church Cemetery Memorial Day Ceremony
DESCRIPTION:There will be a ceremony to honor veterans at the Christ Lutheran Church Cemetery on Memorial Day.  The event will start at 10:30.  Come join Post 594 and veteran’s families to honor the veterans. \nNote: the cemetery is located behind the church.
URL:https://post594.org/event/christ-lutheran-church-cemetery-memorial-day-ceremony/
LOCATION:Christ Lutheran Church Cemetery\, 1930 Diffley Road\, Eagan\, MN\, 55122\, United States
CATEGORIES:Community,Memorial Day,Military Days
END:VEVENT
BEGIN:VEVENT
DTSTART;TZID=America/Chicago:20220530T100000
DTEND;TZID=America/Chicago:20220530T101500
DTSTAMP:20260425T113533
CREATED:20220525T173700Z
LAST-MODIFIED:20220526T022932Z
UID:3187-1653904800-1653905700@post594.org
SUMMARY:St. John's Eagantown Cemetery Memorial Day Ceremony
DESCRIPTION:There will be a ceremony to honor veterans at the St. John’s Eagantown Cemetery on Memorial Day.  The event will start at 10:00.  Come join Post 594 and veteran’s families to honor the veterans.
URL:https://post594.org/event/st-johns-eagantown-cemetery-memorial-day-ceremony/
LOCATION:St. John’s Eagantown Cemetery\, 4198 Blackhawk Rd\, Eagan\, 55122\, United States
CATEGORIES:Community,Memorial Day,Military Days
END:VEVENT
BEGIN:VEVENT
DTSTART;VALUE=DATE:20220530
DTEND;VALUE=DATE:20220531
DTSTAMP:20260425T113533
CREATED:20220118T222527Z
LAST-MODIFIED:20220118T223305Z
UID:2764-1653868800-1653955199@post594.org
SUMMARY:Memorial Day
DESCRIPTION:Memorial Day is the last Monday in May. Flags are at Half-Staff from sunrise to noon. Memorial Day is to remember the men and women who died while serving our country\,
URL:https://post594.org/event/memorial-day/
CATEGORIES:Half-Staff Days,Military Days
END:VEVENT
BEGIN:VEVENT
DTSTART;TZID=America/Chicago:20220526T170000
DTEND;TZID=America/Chicago:20220526T180000
DTSTAMP:20260425T113533
CREATED:20220118T213659Z
LAST-MODIFIED:20220526T033756Z
UID:2739-1653584400-1653588000@post594.org
SUMMARY:Eagan High School Military Recruit Recognition Ceremony 2022
DESCRIPTION:The Military Recruit Recognition Ceremony recognizes the Eagan High School students who have committed to joining one of the military branches. The event will be held in the High School Cafeteria
URL:https://post594.org/event/eagan-high-school-military-recruit-recognition-ceremony-2022/
LOCATION:Eagan High School\, 4185 Braddock Trail\, Eagan\, MN\, 55123\, United States
CATEGORIES:Community
END:VEVENT
BEGIN:VEVENT
DTSTART;TZID=America/Chicago:20220521T080000
DTEND;TZID=America/Chicago:20220521T220000
DTSTAMP:20260425T113533
CREATED:20220315T233948Z
LAST-MODIFIED:20220315T233948Z
UID:2976-1653120000-1653170400@post594.org
SUMMARY:3rd District Convention
DESCRIPTION:The 2022 3rd District Convention will be held at Forest Lake Post 225 on May 21\, 2022
URL:https://post594.org/event/3rd-district-convention/
LOCATION:Forest Lake Post 225\, 355 W Broadway Ave\, Forest Lake\, MN\, 55025-1505\, United States
CATEGORIES:Meeting
END:VEVENT
BEGIN:VEVENT
DTSTART;VALUE=DATE:20220521
DTEND;VALUE=DATE:20220522
DTSTAMP:20260425T113533
CREATED:20220118T224722Z
LAST-MODIFIED:20220118T224722Z
UID:2786-1653091200-1653177599@post594.org
SUMMARY:Armed Forces Day
DESCRIPTION:Armed Forces Day is celebrated on the third Saturday in May. Thanks to President Harry S. Truman\, it’s a day to pay special tribute to the men and women of the Armed Forces. President Truman led the effort to establish a holiday in order for citizens to unite and to honor our military heroes for their patriotic service in support of the United States of America. \nArmed Forces Day is a joint celebration of all six branches of the U.S. military: Air Force\, Army\, Coast Guard\, Marine Corps\, Navy\, and Space Force. The day honors all people currently serving in the U.S. armed forces. This includes the men and women who have served or are serving in the Army\, Navy\, Marine Corps\, Air Force\, Space Force and Coast Guard\, including the National Guard and Reserve components.
URL:https://post594.org/event/armed-forces-day/
CATEGORIES:Military Days
END:VEVENT
BEGIN:VEVENT
DTSTART;TZID=America/Chicago:20220520T090000
DTEND;TZID=America/Chicago:20220520T150000
DTSTAMP:20260425T113533
CREATED:20220218T053459Z
LAST-MODIFIED:20220323T185735Z
UID:2879-1653037200-1653058800@post594.org
SUMMARY:American Legion / Red Cross Blood Drive
DESCRIPTION:More details coming later. \nThis event is available for appointments on the Red Cross website at https://www.redcrossblood.org/. Search by date for the event.  The location is listed as “City of Eagan Arena”.
URL:https://post594.org/event/american-legion-red-cross-blood-drive/
LOCATION:Eagan Civic Arena\, 3870 Pilot Knob Road\, Eagan\, MN\, 55122\, United States
CATEGORIES:Community
ORGANIZER;CN="Mike Peiffer":MAILTO:mdpeif@q.com
END:VEVENT
BEGIN:VEVENT
DTSTART;TZID=America/Chicago:20220517T190000
DTEND;TZID=America/Chicago:20220517T203000
DTSTAMP:20260425T113533
CREATED:20220118T201940Z
LAST-MODIFIED:20220118T201940Z
UID:2700-1652814000-1652819400@post594.org
SUMMARY:Membership Meeting - May 2022
DESCRIPTION:Come join other Post 594 members as the Post Officers present information about and for the Post membership on May 17\, 2022.  It will be held at Cedarvale Lanes in Eagan starting at 19:00 (7:00 pm). \nThe meetings are held in the banquet room at Cedarvale Lanes in the banquet room downstairs. Once you enter the building\, the easiest access to get downstairs is by the OnTrack pro shop. \nAddress: Cedarvale Lanes and Fitz’s Bar & Grill\n3883 Cedar Grove Parkway\nEagan\, MN 55122
URL:https://post594.org/event/membership-meeting-may-2022/
LOCATION:Cedarvale Lanes\, 3883 Cedar Grove Parkway\, Eagan\, MN\, 55122\, United States
CATEGORIES:Meeting
ORGANIZER;CN="John Rayman":MAILTO:jpretiredle05@gmail.com
END:VEVENT
BEGIN:VEVENT
DTSTART;VALUE=DATE:20220515
DTEND;VALUE=DATE:20220516
DTSTAMP:20260425T113533
CREATED:20220118T222326Z
LAST-MODIFIED:20220118T223315Z
UID:2762-1652572800-1652659199@post594.org
SUMMARY:Peace Officers Memorial Day
DESCRIPTION:Flags at Half-Staff from sunrise to sunset. Pays tribute to the local\, state\, and federal peace officers who have died\, or who have been disabled\, in the line of duty. \nNote: The exception is if Peace Officers Memorial Day falls on Armed Forces Day (third Saturday in May)\, the flags will not be lowered to Half-Staff.
URL:https://post594.org/event/peace-officers-memorial-day/
CATEGORIES:Half-Staff Days
END:VEVENT
BEGIN:VEVENT
DTSTART;VALUE=DATE:20220508
DTEND;VALUE=DATE:20220509
DTSTAMP:20260425T113533
CREATED:20220118T224331Z
LAST-MODIFIED:20220118T224331Z
UID:2782-1651968000-1652054399@post594.org
SUMMARY:VE Day
DESCRIPTION:Victory in Europe Day (or V-E Day) is celebrated on May 8. Nazi Germany unconditionally surrendered to the Allied Forces of the WWII. This day in history marked the end of World War II in Europe\, although the war would continue in the Pacific Theater of Operations.
URL:https://post594.org/event/ve-day/
CATEGORIES:Military Days
END:VEVENT
BEGIN:VEVENT
DTSTART;TZID=America/Chicago:20220507T083000
DTEND;TZID=America/Chicago:20220507T093000
DTSTAMP:20260425T113533
CREATED:20220419T164351Z
LAST-MODIFIED:20220419T164632Z
UID:3045-1651912200-1651915800@post594.org
SUMMARY:Adopt-a-Street Spring 2022
DESCRIPTION:The Post 594 Adopt-a-Street cleanup is going to occur Saturday\, May 7\, at 8:30 am.  If you are not familiar\, the adopted street is Duckwood drive between Denmark and Pilot Knob.  We will meet in the South parking lot of Walmart.  Bags and vests will be provided.  Joe Dolan is the point of contact for this event.  Please contact him at jtdolan@gmail.com if you plan on attending so he can have a head count.  Hope to see you there.
URL:https://post594.org/event/adopt-a-street-spring-2022/
LOCATION:Walmart\, 1360 Town Centre Dr.\, Eagan\, MN\, 55123\, United States
CATEGORIES:Community
END:VEVENT
BEGIN:VEVENT
DTSTART;VALUE=DATE:20220506
DTEND;VALUE=DATE:20220507
DTSTAMP:20260425T113533
CREATED:20220118T224447Z
LAST-MODIFIED:20220118T224447Z
UID:2784-1651795200-1651881599@post594.org
SUMMARY:Military Spouse Appreciation Day
DESCRIPTION:National Military Spouse Appreciation Day is a presidentially-approved holiday and  is celebrated on the Friday before Mother’s Day in May. \nOn Military Spouse Appreciation Day we honor the contributions and sacrifices made by military spouses. Their commitment and support help to keep our country safe. America’s military spouses are the backbone of the families who support our troops during mission\, deployment\, reintegration and reset. Military spouses are silent heroes who are essential to the strength of the nation\, and they serve our country just like their loved ones. \nIn celebration of Military Spouse Appreciation Day\, the armed forces have special events and programs to inform\, honor\, and recognize military spouses around the world. Events range from spouse appreciation luncheons to educational workshops\, and spouse employment fairs that pay tribute to military spouses.
URL:https://post594.org/event/military-spouse-appreciation-day/
CATEGORIES:Military Days
END:VEVENT
BEGIN:VEVENT
DTSTART;VALUE=DATE:20220501
DTEND;VALUE=DATE:20220502
DTSTAMP:20260425T113533
CREATED:20220118T224122Z
LAST-MODIFIED:20220118T224122Z
UID:2780-1651363200-1651449599@post594.org
SUMMARY:Silver Star Service Banner Day
DESCRIPTION:May 1st is Silver Star Service Banner Day\, a time to recognize those who have been awarded The Silver Star Medal\, and remember the sacrifices of our wounded and ill veterans. The Silver Star is described as the third-highest military decoration for valor in combat and is typically awarded for actions over a short-term and may be earned for specific acts in combat. Compare that to other types of medals for longer-term service\, the Meritorious Service Medal\, for example\, which is awarded at the end of a military tour when conditions warrant.
URL:https://post594.org/event/silver-star-service-banner-day/
CATEGORIES:Military Days
END:VEVENT
BEGIN:VEVENT
DTSTART;VALUE=DATE:20220424
DTEND;VALUE=DATE:20220425
DTSTAMP:20260425T113533
CREATED:20220315T232359Z
LAST-MODIFIED:20220315T232359Z
UID:2971-1650758400-1650844799@post594.org
SUMMARY:Minnesota Legion College
DESCRIPTION:The next session of Minnesota American Legion College is Thursday\, April 21\, to Sunday\, April 24\, 2022\, at Camp Ripley. Below is the form to apply. The cost is $200 per student. The link to register is at https://mnlegion.org/legion-college/. For questions\, email trainingcomm@mnlegion.org.
URL:https://post594.org/event/minnesota-legion-college-4/
LOCATION:Camp Ripley\, 15000 Highway 115\, Little Falls\, MN\, 56345\, United States
CATEGORIES:Training
END:VEVENT
BEGIN:VEVENT
DTSTART;VALUE=DATE:20220423
DTEND;VALUE=DATE:20220424
DTSTAMP:20260425T113533
CREATED:20220315T232324Z
LAST-MODIFIED:20220315T232324Z
UID:2969-1650672000-1650758399@post594.org
SUMMARY:Minnesota Legion College
DESCRIPTION:The next session of Minnesota American Legion College is Thursday\, April 21\, to Sunday\, April 24\, 2022\, at Camp Ripley. Below is the form to apply. The cost is $200 per student. The link to register is at https://mnlegion.org/legion-college/. For questions\, email trainingcomm@mnlegion.org.
URL:https://post594.org/event/minnesota-legion-college-3/
LOCATION:Camp Ripley\, 15000 Highway 115\, Little Falls\, MN\, 56345\, United States
CATEGORIES:Training
END:VEVENT
BEGIN:VEVENT
DTSTART;VALUE=DATE:20220422
DTEND;VALUE=DATE:20220423
DTSTAMP:20260425T113533
CREATED:20220315T232244Z
LAST-MODIFIED:20220315T232244Z
UID:2967-1650585600-1650671999@post594.org
SUMMARY:Minnesota Legion College
DESCRIPTION:The next session of Minnesota American Legion College is Thursday\, April 21\, to Sunday\, April 24\, 2022\, at Camp Ripley. Below is the form to apply. The cost is $200 per student. The link to register is at https://mnlegion.org/legion-college/. For questions\, email trainingcomm@mnlegion.org.
URL:https://post594.org/event/minnesota-legion-college-2/
LOCATION:Camp Ripley\, 15000 Highway 115\, Little Falls\, MN\, 56345\, United States
CATEGORIES:Training
END:VEVENT
BEGIN:VEVENT
DTSTART;VALUE=DATE:20220421
DTEND;VALUE=DATE:20220422
DTSTAMP:20260425T113533
CREATED:20220315T231617Z
LAST-MODIFIED:20220315T232027Z
UID:2963-1650499200-1650585599@post594.org
SUMMARY:Minnesota Legion College
DESCRIPTION:The next session of Minnesota American Legion College is Thursday\, April 21\, to Sunday\, April 24\, 2022\, at Camp Ripley. Below is the form to apply. The cost is $200 per student. The link to register is at https://mnlegion.org/legion-college/. For questions\, email trainingcomm@mnlegion.org.
URL:https://post594.org/event/minnesota-legion-college/
LOCATION:Camp Ripley\, 15000 Highway 115\, Little Falls\, MN\, 56345\, United States
CATEGORIES:Training
END:VEVENT
BEGIN:VEVENT
DTSTART;TZID=America/Chicago:20220419T180000
DTEND;TZID=America/Chicago:20220419T190000
DTSTAMP:20260425T113533
CREATED:20220118T211308Z
LAST-MODIFIED:20220118T212112Z
UID:2713-1650391200-1650394800@post594.org
SUMMARY:Core Team Leadership Meeting - Apr 2022
DESCRIPTION:There will be a Post 594 Core Team Leadership Meeting on Tuesday\, April 19\, 2022 at 18:00.  The meeting will be held at Fitz’s Bar and Grill\, 3883 Cedar Grove Parkway\, Eagan\, MN.
URL:https://post594.org/event/core-team-leadership-meeting-april-2022/
LOCATION:Fitz’s Bar and Grill\, 3883 Cedar Grove Parkway\, Eagan\, MN\, 55122\, United States
CATEGORIES:Meeting
END:VEVENT
BEGIN:VEVENT
DTSTART;VALUE=DATE:20220414
DTEND;VALUE=DATE:20220415
DTSTAMP:20260425T113533
CREATED:20220118T223919Z
LAST-MODIFIED:20220118T224014Z
UID:2778-1649894400-1649980799@post594.org
SUMMARY:Air Force Reserve Birthday
DESCRIPTION:The United States Air Force Reserve celebrates its birthday every year on April 14th. The Air Force Reserve was created on April 14\, 1948 soon after the establishment of the Air Force as a separate branch of service.
URL:https://post594.org/event/air-force-reserve-birthday/
CATEGORIES:Military Days
END:VEVENT
BEGIN:VEVENT
DTSTART;TZID=America/Chicago:20220412T080000
DTEND;TZID=America/Chicago:20220412T213000
DTSTAMP:20260425T113533
CREATED:20220315T231125Z
LAST-MODIFIED:20220315T231125Z
UID:2961-1649750400-1649799000@post594.org
SUMMARY:National Commander's Tour
DESCRIPTION:The American Legion National Commander will be stopping at Red Wing Post 54 for breakfast.  Join us for the event.
URL:https://post594.org/event/national-commanders-tour/
LOCATION:Leo C. Peterson Post 54\, 218 W 4th St\,\, Red Wing\, MN\, 55066\, United States
CATEGORIES:Meeting
END:VEVENT
BEGIN:VEVENT
DTSTART;VALUE=DATE:20220409
DTEND;VALUE=DATE:20220410
DTSTAMP:20260425T113533
CREATED:20220118T223735Z
LAST-MODIFIED:20220118T223735Z
UID:2776-1649462400-1649548799@post594.org
SUMMARY:Former POW Recognition Day
DESCRIPTION:Former POW Recognition Day is a day that\, while not as well-known as National POW/MIA Recognition Day\, is just as important. The word “former” is the key to remembering the major difference between these two events honored every year on their respective days. The late Senator John McCain is a former POW. His memory and the memories of many others who came home from POW camps are on the minds of those who observe both holidays. And there are troops still unaccounted for to this day who should be remembered in the same manner as those who came home.
URL:https://post594.org/event/former-pow-recognition-day/
CATEGORIES:Military Days
END:VEVENT
BEGIN:VEVENT
DTSTART;VALUE=DATE:20220405
DTEND;VALUE=DATE:20220406
DTSTAMP:20260425T113533
CREATED:20220118T223541Z
LAST-MODIFIED:20220118T223541Z
UID:2774-1649116800-1649203199@post594.org
SUMMARY:Gold Star Spouses Day
DESCRIPTION:The terms Gold Star family\, Gold Star Spouses\, and Gold Star Wives traditionally refer to the surviving loved ones of military members who lost their lives in the line of duty. Gold Star Spouses Day was created to honor these loved ones. \nThis recognition of the sacrifices made by military spouses is all at once a memorial for the fallen\, a remembrance day for the survivors\, and an appreciation for those who are sometimes in danger of being overlooked for their support and service to the country.
URL:https://post594.org/event/gold-star-spouses-day/
CATEGORIES:Military Days
END:VEVENT
BEGIN:VEVENT
DTSTART;VALUE=DATE:20220329
DTEND;VALUE=DATE:20220330
DTSTAMP:20260425T113533
CREATED:20220118T223431Z
LAST-MODIFIED:20220118T223431Z
UID:2772-1648512000-1648598399@post594.org
SUMMARY:National Vietnam War Veterans Day
DESCRIPTION:National Vietnam War Veterans Day is observed every year on March 29 and is a way to thank and honor our nation’s Vietnam veterans and their families for their service and sacrifice. There are 5 objectives with Vietnam Commemoration and the other four are: \n\nHighlight the service of our Armed Forces and support organizations during the war\nPay tribute to wartime contributions at home by American citizens\nHighlight technology\, science and medical advances made during the war\nRecognize contributions by our Allies
URL:https://post594.org/event/national-vietnam-war-veterans-day/
CATEGORIES:Military Days
END:VEVENT
BEGIN:VEVENT
DTSTART;VALUE=DATE:20220325
DTEND;VALUE=DATE:20220326
DTSTAMP:20260425T113533
CREATED:20220118T220648Z
LAST-MODIFIED:20220118T220648Z
UID:2760-1648166400-1648252799@post594.org
SUMMARY:Minnesota Medal of Honor Day
DESCRIPTION:On March 25th of each year\, Minnesota and the nation observes Medal of Honor Day.  On a national level it wasn’t until March 25\, 1991\, when Congress declared as a day to “foster public appreciation and recognition of Medal of Honor recipients.” The date of March 25th is the anniversary of the first presentations of a Medal of Honor during the Civil War in 1863. \nIn 2009\, the Minnesota House passed HF433 / SF236\, which designated March 25 as Medal of Honor Day. Sponsored by Rep. Mike Obermueller (DFL-Eagan) and Sen. Jim Carlson (DFL-Eagan)\, the bill honors Minnesotans who have received the Congressional Medal of Honor\, which was first presented on that date in 1863. The bill passed unanimously in the House and Senate. It was signed into law by Governor Tim Pawlenty that year. \nEach year\, the Governor will issue a proclamation declaring March 25th as Minnesota Medal of Honor Day. \nAt this time there are no living Medal of Honor recipients from the State of Minnesota.
URL:https://post594.org/event/minnesota-medal-of-honor-day/
CATEGORIES:Military Days
END:VEVENT
BEGIN:VEVENT
DTSTART;VALUE=DATE:20220325
DTEND;VALUE=DATE:20220326
DTSTAMP:20260425T113533
CREATED:20220118T220352Z
LAST-MODIFIED:20220118T220352Z
UID:2758-1648166400-1648252799@post594.org
SUMMARY:National Medal of Honor Day
DESCRIPTION:National Medal of Honor Day is observed every year on March 25 and is dedicated to Medal of Honor Recipients. Each branch of the U.S. military awards the Medal of Honor to those who have distinguished themselves “conspicuously by gallantry and intrepidity” above and beyond the call of duty\, according to the Department of Veterans Affairs official site. \n\n\nThe Medal of Honor is awarded only to military members; it is awarded by Congress and is also known as the Congressional Medal of Honor. National Medal of Honor Day is a time to remember the sacrifices of men and women in uniform who have earned this highest of military honors.
URL:https://post594.org/event/national-medal-of-honor-day/
CATEGORIES:Military Days
END:VEVENT
BEGIN:VEVENT
DTSTART;TZID=America/Chicago:20220315T190000
DTEND;TZID=America/Chicago:20220315T203000
DTSTAMP:20260425T113533
CREATED:20220118T201814Z
LAST-MODIFIED:20220311T194809Z
UID:2698-1647370800-1647376200@post594.org
SUMMARY:Membership Meeting - Mar 2022
DESCRIPTION:Come join other Post 594 members as the Post Officers present information about and for the Post membership on March 15\, 2022.  It will be held at Cedarvale Lanes in Eagan starting at 19:00 (7:00 pm). \nThe meetings are held in the banquet room at Cedarvale Lanes in the banquet room downstairs. Once you enter the building\, the easiest access to get downstairs is by the OnTrack pro shop. \nAddress: Cedarvale Lanes and Fitz’s Bar & Grill\n3883 Cedar Grove Parkway\nEagan\, MN 55122
URL:https://post594.org/event/membership-meeting-march-2022/
LOCATION:Cedarvale Lanes\, 3883 Cedar Grove Parkway\, Eagan\, MN\, 55122\, United States
CATEGORIES:Meeting
ORGANIZER;CN="John Rayman":MAILTO:jpretiredle05@gmail.com
END:VEVENT
BEGIN:VEVENT
DTSTART;VALUE=DATE:20220315
DTEND;VALUE=DATE:20220316
DTSTAMP:20260425T113533
CREATED:20220118T220148Z
LAST-MODIFIED:20220118T220148Z
UID:2756-1647302400-1647388799@post594.org
SUMMARY:American Legion Birthday
DESCRIPTION:The American Legion has served wartime veterans through promoting patriotism\, military service\, national security\, and dedication to current service members and vets alike. The organization’s birthday is March 15\, 1919. The is the day the organization\,  known as the American Expeditionary Force at the time\, organized the first meeting in Paris\, France. \nThe Purpose Of The American Legion\nAmerican Legion founding documents include a constitution and bylaws\, the preamble of which is where the organizing motivations to run the Legion can be found. The Legion exists for the following purposes as described in the preamble: \n\nTo uphold and defend the Constitution of the United States of America\nTo maintain law and order\nTo foster and perpetuate 100% Americanism\nTo preserve the memories and incidents of our associations in all wars\nTo inculcate a sense of individual obligation to the community\, state and nation\nTo combat the autocracy of both the classes and the masses\nTo make right the master of might\nTo promote peace and goodwill on earth\nTo safeguard and transmit to posterity the principles of justice\, freedom and democracy\nTo consecrate and sanctify our comradeship by our devotion to mutual helpfulness
URL:https://post594.org/event/american-legion-birthday/
CATEGORIES:Military Days
END:VEVENT
BEGIN:VEVENT
DTSTART;VALUE=DATE:20220313
DTEND;VALUE=DATE:20220314
DTSTAMP:20260425T113533
CREATED:20220118T220028Z
LAST-MODIFIED:20220118T220214Z
UID:2754-1647129600-1647215999@post594.org
SUMMARY:K9 Veterans Day
DESCRIPTION:A Military War Dog\, or Military Working Dog (MWD)\, is a canine that has been trained to protect humans in dangerous situations\, and March 13 has been unofficially designated as a day to honor these unique members of the military.  The United States K9 Corps on March 13\, 1942\, dogs were officially adopted into US military ranks during WWII. The Army’s Dogs for Defense program trained 10\,000 dogs who were again donated to the war effort by American families.
URL:https://post594.org/event/k9-veterans-day/
CATEGORIES:Military Days
END:VEVENT
END:VCALENDAR