BEGIN:VCALENDAR
VERSION:2.0
PRODID:-//Daniel R Olsen Post 594 - ECPv6.15.20//NONSGML v1.0//EN
CALSCALE:GREGORIAN
METHOD:PUBLISH
X-WR-CALNAME:Daniel R Olsen Post 594
X-ORIGINAL-URL:https://post594.org
X-WR-CALDESC:Events for Daniel R Olsen Post 594
REFRESH-INTERVAL;VALUE=DURATION:PT1H
X-Robots-Tag:noindex
X-PUBLISHED-TTL:PT1H
BEGIN:VTIMEZONE
TZID:America/Chicago
BEGIN:DAYLIGHT
TZOFFSETFROM:-0600
TZOFFSETTO:-0500
TZNAME:CDT
DTSTART:20230312T080000
END:DAYLIGHT
BEGIN:STANDARD
TZOFFSETFROM:-0500
TZOFFSETTO:-0600
TZNAME:CST
DTSTART:20231105T070000
END:STANDARD
BEGIN:DAYLIGHT
TZOFFSETFROM:-0600
TZOFFSETTO:-0500
TZNAME:CDT
DTSTART:20240310T080000
END:DAYLIGHT
BEGIN:STANDARD
TZOFFSETFROM:-0500
TZOFFSETTO:-0600
TZNAME:CST
DTSTART:20241103T070000
END:STANDARD
BEGIN:DAYLIGHT
TZOFFSETFROM:-0600
TZOFFSETTO:-0500
TZNAME:CDT
DTSTART:20250309T080000
END:DAYLIGHT
BEGIN:STANDARD
TZOFFSETFROM:-0500
TZOFFSETTO:-0600
TZNAME:CST
DTSTART:20251102T070000
END:STANDARD
BEGIN:DAYLIGHT
TZOFFSETFROM:-0600
TZOFFSETTO:-0500
TZNAME:CDT
DTSTART:20260308T080000
END:DAYLIGHT
BEGIN:STANDARD
TZOFFSETFROM:-0500
TZOFFSETTO:-0600
TZNAME:CST
DTSTART:20261101T070000
END:STANDARD
END:VTIMEZONE
BEGIN:VEVENT
DTSTART;TZID=America/Chicago:20250819T180000
DTEND;TZID=America/Chicago:20250819T190000
DTSTAMP:20260423T184357
CREATED:20250212T182750Z
LAST-MODIFIED:20250819T050527Z
UID:5685-1755626400-1755630000@post594.org
SUMMARY:Core Team Leadership Meeting – August 2025
DESCRIPTION:There will be a Post 594 Core Team Leadership Meeting on Tuesday\, August 19\, 2025 at 18:00.  The meeting will be held at SYNERGY HomeCare\, 3348 Sherman Ct\, Eagan\, MN 55121.\n.
URL:https://post594.org/event/core-team-leadership-meeting-august-2025/
LOCATION:SYNERGY HomeCare\, 3348 Sherman Ct\, Eagan\, MN\, 55121\, United States
CATEGORIES:Meeting
ORGANIZER;CN="John Rayman":MAILTO:jpretiredle05@gmail.com
END:VEVENT
BEGIN:VEVENT
DTSTART;TZID=America/Chicago:20250810T103000
DTEND;TZID=America/Chicago:20250810T160000
DTSTAMP:20260423T184357
CREATED:20250213T201555Z
LAST-MODIFIED:20250724T203101Z
UID:5700-1754821800-1754841600@post594.org
SUMMARY:Von Hanson Brat Sales
DESCRIPTION:Post 594 will be holding a Brat Sale at the Von Hanson location at 1320 Duckwood Drive\, Eagan. 50% of sales go directly to Post 594.  Come support our efforts to assist local veterans.
URL:https://post594.org/event/von-hanson-brat-sales-2/
LOCATION:Von Hanson’s Meats\, 1320 Duckwood Dr\, Eagan\, MN\, 55123\, United States
CATEGORIES:Calendar,Community
END:VEVENT
BEGIN:VEVENT
DTSTART;TZID=America/Chicago:20250809T090000
DTEND;TZID=America/Chicago:20250809T160000
DTSTAMP:20260423T184357
CREATED:20250213T201442Z
LAST-MODIFIED:20250724T202943Z
UID:5698-1754730000-1754755200@post594.org
SUMMARY:Von Hanson Brat Sales
DESCRIPTION:Post 594 will be holding a Brat Sale at the Von Hanson location at 1320 Duckwood Drive\, Eagan. 50% of sales go directly to Post 594.  Come support our efforts to assist local veterans.
URL:https://post594.org/event/von-hanson-brat-sales/
LOCATION:Von Hanson’s Meats\, 1320 Duckwood Dr\, Eagan\, MN\, 55123\, United States
CATEGORIES:Calendar,Community
END:VEVENT
BEGIN:VEVENT
DTSTART;TZID=America/Chicago:20250716T180000
DTEND;TZID=America/Chicago:20250716T220000
DTSTAMP:20260423T184357
CREATED:20250710T200107Z
LAST-MODIFIED:20250710T200425Z
UID:6089-1752688800-1752703200@post594.org
SUMMARY:Union 32 Craft House Fundraiser
DESCRIPTION:Join Post 594 at Union 32 on Wednesday\, July 16\, from 6:00 PM to 10:00 PM. Enjoy a delightful time with family and friends while supporting a great cause! During this event\, 10% of all sales will be generously donated to our Post. Your participation will directly benefit both the Legion Baseball and the Eagan Clay Shooting Team. Don’t miss out on the chance to make a positive impact while having a delicious dinner. \nUnion 32 Craft House Fundraiser
URL:https://post594.org/event/union-32-craft-house-fundraiser/
LOCATION:Union 32 Craft House\, 2864 Highway 55\, Eagan\, MN\, 55121\, United States
CATEGORIES:Calendar,Community
ORGANIZER;CN="John Rayman":MAILTO:jpretiredle05@gmail.com
END:VEVENT
BEGIN:VEVENT
DTSTART;TZID=America/Chicago:20250715T190000
DTEND;TZID=America/Chicago:20250715T203000
DTSTAMP:20260423T184357
CREATED:20250116T191218Z
LAST-MODIFIED:20250710T201530Z
UID:5618-1752606000-1752611400@post594.org
SUMMARY:Membership Meeting – July 2025
DESCRIPTION:Come join other Post 594 members as the Post Officers present information about and for the Post membership on July 15\, 2025.  It will be held at Cedarvale Lanes in Eagan starting at 19:00 (7:00 pm). \nThe meetings are held in the banquet room at Cedarvale Lanes in the banquet room downstairs. Once you enter the building\, the easiest access to get downstairs is by the OnTrack pro shop. \nAddress: Cedarvale Lanes and Fitz’s Bar & Grill\n3883 Cedar Grove Parkway\nEagan\, MN 55122
URL:https://post594.org/event/membership-meeting-july-2025/
LOCATION:Cedarvale Lanes\, 3883 Cedar Grove Parkway\, Eagan\, MN\, 55122\, United States
CATEGORIES:Meeting
ORGANIZER;CN="John Rayman":MAILTO:jpretiredle05@gmail.com
END:VEVENT
BEGIN:VEVENT
DTSTART;TZID=America/Chicago:20250618T160000
DTEND;TZID=America/Chicago:20250618T180000
DTSTAMP:20260423T184357
CREATED:20250316T225542Z
LAST-MODIFIED:20250316T225542Z
UID:5761-1750262400-1750269600@post594.org
SUMMARY:Eagan Market Fest Community Day
DESCRIPTION:More details coming soon.
URL:https://post594.org/event/eagan-market-fest-community-day/
LOCATION:Eagan Central Park\, 1501 Central Parkway\, Eagan\, MN\, 55121\, United States
CATEGORIES:Calendar,Community
END:VEVENT
BEGIN:VEVENT
DTSTART;TZID=America/Chicago:20250617T180000
DTEND;TZID=America/Chicago:20250617T190000
DTSTAMP:20260423T184357
CREATED:20250212T182640Z
LAST-MODIFIED:20250212T182640Z
UID:5683-1750183200-1750186800@post594.org
SUMMARY:Core Team Leadership Meeting – June 2025
DESCRIPTION:There will be a Post 594 Core Team Leadership Meeting on Tuesday\, June 17\, 2025 at 18:00.  The meeting will be held in the lower meeting room at Cedarvale Lanes\, 3883 Cedar Grove Parkway\, Eagan\, MN.
URL:https://post594.org/event/core-team-leadership-meeting-june-2025/
LOCATION:Cedarvale Lanes\, 3883 Cedar Grove Parkway\, Eagan\, MN\, 55122\, United States
CATEGORIES:Meeting
ORGANIZER;CN="John Rayman":MAILTO:jpretiredle05@gmail.com
END:VEVENT
BEGIN:VEVENT
DTSTART;TZID=America/Chicago:20250617T173000
DTEND;TZID=America/Chicago:20250617T190000
DTSTAMP:20260423T184357
CREATED:20250316T224956Z
LAST-MODIFIED:20250615T183846Z
UID:5757-1750181400-1750186800@post594.org
SUMMARY:Eagan Legion Baseball Home Opener
DESCRIPTION:The Eagan Patriots home opener will be on Tuesday\, June 17\, 2025 starting at 5:30pm at Goat Hill Park.  The Post 594 Color Guard will be doing the pregame presentation.  Come out for a fun game of baseball. \nFor more information on American Legion Baseball\, see our information page.
URL:https://post594.org/event/legion-baseball-home-opener/
LOCATION:Goat Hill Park\, 4391 Lexington Ave S\, Eagan\, MN\, 55123\, United States
CATEGORIES:Calendar,Community
END:VEVENT
BEGIN:VEVENT
DTSTART;TZID=America/Chicago:20250617T090000
DTEND;TZID=America/Chicago:20250617T150000
DTSTAMP:20260423T184357
CREATED:20250213T201907Z
LAST-MODIFIED:20250610T182436Z
UID:5702-1750150800-1750172400@post594.org
SUMMARY:Post 594 Blood Drive
DESCRIPTION:There is a Critical Need for Blood Donors at this time. You can assist on June 17\, 2025 at the Post 594 Blood Drive. \nIt is being held at the Eagan Community Center\, 1501 Central Pkwy\, Eagan\, MN 55121 from 9:00 AM – 3:00 PM. \nYou can find online signups at https://www.redcrossblood.org/give.html/donation-time?dt=WB:PL:DR:PM&zipSponsor=55121 \nThere are openings for two types of donations: \n\nBlood – The most common type of donation\, during which approximately a pint of ‘whole blood’ is given. This type of blood donation usually takes about an hour.\nPower Red: A Power Red donation collects the red cells but returns most of the plasma and platelets to the donor. These donors must meet specific eligibility requirements and have type A Neg\, B Neg\, or O blood.\n\nNote: Come give June 1 to 30 for $15 Gift Card emailed plus chance to win $7K prize. See rcblood.org/Count for more information.
URL:https://post594.org/event/post-594-blood-drive-2/
LOCATION:Eagan Community Center\, 1501 Central Pkwy\, Eagan\, MN\, 55121\, United States
CATEGORIES:Calendar,Community
ORGANIZER;CN="Mike Peiffer":MAILTO:mdpeif@q.com
END:VEVENT
BEGIN:VEVENT
DTSTART;TZID=America/Chicago:20250611T170000
DTEND;TZID=America/Chicago:20250611T190000
DTSTAMP:20260423T184357
CREATED:20250316T224822Z
LAST-MODIFIED:20250316T224822Z
UID:5755-1749661200-1749668400@post594.org
SUMMARY:Flag Retirement Ceremony
DESCRIPTION:More details coming soon.
URL:https://post594.org/event/flag-retirement-ceremony-4/
LOCATION:Thomas Lake Park Pavilion\, 4425 Pilot Knob Road\, Eagan\, MN\, 55122\, United States
CATEGORIES:Calendar,Community
ORGANIZER;CN="John Rayman":MAILTO:jpretiredle05@gmail.com
END:VEVENT
BEGIN:VEVENT
DTSTART;TZID=America/Chicago:20250602T190000
DTEND;TZID=America/Chicago:20250602T200000
DTSTAMP:20260423T184357
CREATED:20250414T023551Z
LAST-MODIFIED:20250414T023551Z
UID:5814-1748890800-1748894400@post594.org
SUMMARY:Flag Inspection
DESCRIPTION:Members of Post 594 and Scouting America will inspect flags from the donation boxes in Eagan.
URL:https://post594.org/event/flag-inspection-2/
LOCATION:Easter Lutheran Church in the Hill\, 4200 Pilot Knob Rd\, Eagan\, MN\, 55122\, United States
CATEGORIES:Calendar,Community
ORGANIZER;CN="John Rayman":MAILTO:jpretiredle05@gmail.com
END:VEVENT
BEGIN:VEVENT
DTSTART;TZID=America/Chicago:20250526T000000
DTEND;TZID=America/Chicago:20250526T020000
DTSTAMP:20260423T184357
CREATED:20250316T224634Z
LAST-MODIFIED:20250430T042544Z
UID:5753-1748217600-1748224800@post594.org
SUMMARY:Memorial Day Concert and Tribute
DESCRIPTION:Come join Post 594 for the “Never Forget” Memorial Day Concert and Tribute \nThere will be a Concert at the Band Shell from noon to 1:15 pm.  Following the concert there will be a Tribute Ceremony from 1:30 pm to 2:00 pm at the Tribute Plaza.
URL:https://post594.org/event/memorial-day-events/
LOCATION:Eagan Central Park\, 1501 Central Parkway\, Eagan\, MN\, 55121\, United States
CATEGORIES:Calendar,Community,Memorial Day
ORGANIZER;CN="John Rayman":MAILTO:jpretiredle05@gmail.com
END:VEVENT
BEGIN:VEVENT
DTSTART;TZID=America/Chicago:20250522T170000
DTEND;TZID=America/Chicago:20250522T180000
DTSTAMP:20260423T184357
CREATED:20250316T224441Z
LAST-MODIFIED:20250316T224441Z
UID:5751-1747933200-1747936800@post594.org
SUMMARY:Eagan High School Enlistment Ceremony
DESCRIPTION:The Enlistment Ceremony recognizes the Eagan High School students who have committed to joining one of the military branches. The event will be held in the High School Cafeteria.  Come and support these new recruits.
URL:https://post594.org/event/eagan-high-school-enlistment-ceremony/
LOCATION:Eagan High School\, 4185 Braddock Trail\, Eagan\, MN\, 55123\, United States
CATEGORIES:Calendar,Community
ORGANIZER;CN="John Rayman":MAILTO:jpretiredle05@gmail.com
END:VEVENT
BEGIN:VEVENT
DTSTART;TZID=America/Chicago:20250520T190000
DTEND;TZID=America/Chicago:20250520T203000
DTSTAMP:20260423T184357
CREATED:20250116T191048Z
LAST-MODIFIED:20250116T191048Z
UID:5616-1747767600-1747773000@post594.org
SUMMARY:Membership Meeting – May 2025
DESCRIPTION:Come join other Post 594 members as the Post Officers present information about and for the Post membership on May  20\, 2025.  It will be held at Cedarvale Lanes in Eagan starting at 19:00 (7:00 pm). \nThe meetings are held in the banquet room at Cedarvale Lanes in the banquet room downstairs. Once you enter the building\, the easiest access to get downstairs is by the OnTrack pro shop. \nAddress: Cedarvale Lanes and Fitz’s Bar & Grill\n3883 Cedar Grove Parkway\nEagan\, MN 55122
URL:https://post594.org/event/membership-meeting-may-2025/
LOCATION:Cedarvale Lanes\, 3883 Cedar Grove Parkway\, Eagan\, MN\, 55122\, United States
CATEGORIES:Meeting
ORGANIZER;CN="John Rayman":MAILTO:jpretiredle05@gmail.com
END:VEVENT
BEGIN:VEVENT
DTSTART;TZID=America/Chicago:20250520T110000
DTEND;TZID=America/Chicago:20250520T113000
DTSTAMP:20260423T184357
CREATED:20250507T024925Z
LAST-MODIFIED:20250519T184520Z
UID:5864-1747738800-1747740600@post594.org
SUMMARY:Veterans Village Ground Breaking
DESCRIPTION:Note: This event is cancelled due to weather.  The information from the organizers states: \nDue to forecasted weather conditions\, the Veteran Village Groundbreaking Ceremony and Reception originally scheduled for tomorrow (May 20th) has been postponed to a future date. While we were very much looking forward to celebrating this exciting milestone\, ensuring a safe and comfortable experience for all attendees is our top priority. We are actively working to identify a new date for the event and will share updated details as soon as possible. \nThe original event message: There will be a ground breaking ceremony for the new Veterans Village\, a housing project in Eagan designed specifically for veterans.  The development is located at 3910 Rahn Road\, next to Mount Calvary Lutheran Church. The Post 594 Color Guard will be presenting the colors\, and we will be part of supporting a veterans housing project that promises to be a great resource for our local veterans and their families.
URL:https://post594.org/event/veterans-village-ground-breaking/
LOCATION:Veterans Village\, 3910 Rahn Road\, Eagan\, MN\, 55122\, United States
CATEGORIES:Calendar,Community
ORGANIZER;CN="John Rayman":MAILTO:jpretiredle05@gmail.com
END:VEVENT
BEGIN:VEVENT
DTSTART;TZID=America/Chicago:20250518T100000
DTEND;TZID=America/Chicago:20250518T160000
DTSTAMP:20260423T184357
CREATED:20250212T181043Z
LAST-MODIFIED:20250212T181043Z
UID:5673-1747562400-1747584000@post594.org
SUMMARY:Poppy Sales - 2025
DESCRIPTION:The Post 594 Auxiliary will doing Poppies at the Eagan Sam’s Club today from 10:00 am to 4:00 pm.  Come see us.
URL:https://post594.org/event/poppy-sales-2025-3/
LOCATION:Sam’s Club\, 3035 Denmark Ave\, Eagan\, MN\, 55121\, United States
CATEGORIES:Calendar,Community
END:VEVENT
BEGIN:VEVENT
DTSTART;TZID=America/Chicago:20250517T100000
DTEND;TZID=America/Chicago:20250517T190000
DTSTAMP:20260423T184357
CREATED:20250212T180847Z
LAST-MODIFIED:20250212T180847Z
UID:5671-1747476000-1747508400@post594.org
SUMMARY:Poppy Sales - 2025
DESCRIPTION:The Post 594 Auxiliary will doing Poppies at the Eagan Sam’s Club today from 10:00 am to 7:00 pm.  Come see us.
URL:https://post594.org/event/poppy-sales-2025-2/
LOCATION:Sam’s Club\, 3035 Denmark Ave\, Eagan\, MN\, 55121\, United States
CATEGORIES:Calendar,Community
END:VEVENT
BEGIN:VEVENT
DTSTART;TZID=America/Chicago:20250516T140000
DTEND;TZID=America/Chicago:20250516T200000
DTSTAMP:20260423T184357
CREATED:20250212T180321Z
LAST-MODIFIED:20250212T180639Z
UID:5667-1747404000-1747425600@post594.org
SUMMARY:Poppy Sales - 2025
DESCRIPTION:The Post 594 Auxiliary will doing Poppies at the Eagan Sam’s Club today from 2:00 pm to 8:00 pm.  Come see us.
URL:https://post594.org/event/poppy-sales-2025/
LOCATION:Sam’s Club\, 3035 Denmark Ave\, Eagan\, MN\, 55121\, United States
CATEGORIES:Calendar,Community
END:VEVENT
BEGIN:VEVENT
DTSTART;TZID=America/Chicago:20250515T100000
DTEND;TZID=America/Chicago:20250515T113000
DTSTAMP:20260423T184357
CREATED:20250430T041940Z
LAST-MODIFIED:20250430T042802Z
UID:5849-1747303200-1747308600@post594.org
SUMMARY:Meet and Greet with veterans at Nichols Pointe Apartments
DESCRIPTION:Post 594 will be hosting a meet and greet with the Veterans at the Nichols Pointe Apartments.  Come join us.
URL:https://post594.org/event/meet-and-greet-with-veterans-at-nichols-pointe-apartments/
LOCATION:Nichols Pointe Apartments\, 4012 Nichols Road\, Eagan\, MN\, 55122\, United States
CATEGORIES:Community
ORGANIZER;CN="John Rayman":MAILTO:jpretiredle05@gmail.com
END:VEVENT
BEGIN:VEVENT
DTSTART;TZID=America/Chicago:20250510T083000
DTEND;TZID=America/Chicago:20250510T093000
DTSTAMP:20260423T184357
CREATED:20250316T224102Z
LAST-MODIFIED:20250316T224102Z
UID:5749-1746865800-1746869400@post594.org
SUMMARY:Street Clean-up - Spring 2025
DESCRIPTION:The spring street cleanup will take place on Saturday\, May 10\, 2025. Volunteers clean up trash on Duckwood Drive between Denmark Ave and Pilot Knob Ave. Anyone interested in participating should report to the south end of the Eagan Walmart parking lot that morning at 8:30 am.
URL:https://post594.org/event/street-clean-up-spring-2025/
LOCATION:Walmart\, 1360 Town Centre Dr.\, Eagan\, MN\, 55123\, United States
CATEGORIES:Calendar,Community
END:VEVENT
BEGIN:VEVENT
DTSTART;TZID=America/Chicago:20250430T150000
DTEND;TZID=America/Chicago:20250430T163000
DTSTAMP:20260423T184357
CREATED:20250213T201305Z
LAST-MODIFIED:20250430T041108Z
UID:5696-1746025200-1746030600@post594.org
SUMMARY:Post Auxiliary meeting with Lexington Pointe Veterans
DESCRIPTION:The Eagan Auxiliary will be meeting with the Veterans at Lexington Pointe Senior Center in Eagan this Wednesday\,  April 30th at 15:15 hours (3:15pm) \nOur topic will be on the United States Flag. \nPlease join us if you can.
URL:https://post594.org/event/post-auxiliary-meeting-with-lexington-pointe-veterans/
LOCATION:Lexington Pointe Senior Living\, 3385 Discovery Road\, Eagan\, MN\, 55122\, United States
CATEGORIES:Calendar,Community
END:VEVENT
BEGIN:VEVENT
DTSTART;TZID=America/Chicago:20250423T160000
DTEND;TZID=America/Chicago:20250423T190000
DTSTAMP:20260423T184357
CREATED:20250422T011332Z
LAST-MODIFIED:20250422T024843Z
UID:5831-1745424000-1745434800@post594.org
SUMMARY:Eagan Baseball Youth and Community Day
DESCRIPTION:NOTE: This event has been rescheduled from April 17\, 2025 due to the storms. \nOn Wednesday\, April 23\, 2025\, Eagan Baseball will be hosting Youth and Community Night.  Post 594 has been invited to present the colors and receive pre-game recognition. \nLet’s represent\, Post 594! Please come out in your American Legion/Post 594 gear and let people know we’re out here. This is a fun opportunity to socialize with other post members\, support our community youth programs\, and promote our presence in the community. \nPresentation starts at 4:00 p.m. at the Eagan High School varsity baseball field\, and a game against Apple Valley follows at 4:30 p.m.  Hope to see you there!
URL:https://post594.org/event/eagan-baseball-youth-and-community-day-2/
LOCATION:Eagan High School\, 4185 Braddock Trail\, Eagan\, MN\, 55123\, United States
CATEGORIES:Calendar,Community
ORGANIZER;CN="John Rayman":MAILTO:jpretiredle05@gmail.com
END:VEVENT
BEGIN:VEVENT
DTSTART;TZID=America/Chicago:20250417T160000
DTEND;TZID=America/Chicago:20250417T180000
DTSTAMP:20260423T184357
CREATED:20250316T223728Z
LAST-MODIFIED:20250417T155817Z
UID:5747-1744905600-1744912800@post594.org
SUMMARY:Eagan Baseball Youth and Community Day
DESCRIPTION:NOTE: This event has been postponed due to the expected storms tonight.  More information will be available if and when the event is rescheduled. \nOn Thursday\, April 17\, 2025\, Eagan Baseball will be hosting Youth and Community Night.  Post 594 has been invited to present the colors\, and receive pre-game recognition. Let’s represent\, Post 594! Please come out in your American Legion/Post 594 gear and let people know we’re out here. This is a fun opportunity to socialize with other post members\, support our community youth programs\, and promote our presence in the community. Presentation starts at 4:00 p.m. at the Eagan High School varsity baseball field\, and a game against Grand Rapids follows at 4:30 p.m.  Hope to see you there!
URL:https://post594.org/event/eagan-baseball-youth-and-community-day/
LOCATION:Eagan High School\, 4185 Braddock Trail\, Eagan\, MN\, 55123\, United States
CATEGORIES:Calendar,Community
END:VEVENT
BEGIN:VEVENT
DTSTART;TZID=America/Chicago:20250415T180000
DTEND;TZID=America/Chicago:20250415T190000
DTSTAMP:20260423T184357
CREATED:20250212T182318Z
LAST-MODIFIED:20250212T182521Z
UID:5678-1744740000-1744743600@post594.org
SUMMARY:Core Team Leadership Meeting – April 2025
DESCRIPTION:There will be a Post 594 Core Team Leadership Meeting on Tuesday\, April 15\, 2025 at 18:00.  The meeting will be held in the lower meeting room of Cedarvale Lanes\, 3883 Cedar Grove Parkway\, Eagan\, MN.
URL:https://post594.org/event/core-team-leadership-meeting-april-2025/
LOCATION:Cedarvale Lanes\, 3883 Cedar Grove Parkway\, Eagan\, MN\, 55122\, United States
CATEGORIES:Meeting
ORGANIZER;CN="John Rayman":MAILTO:jpretiredle05@gmail.com
END:VEVENT
BEGIN:VEVENT
DTSTART;TZID=America/Chicago:20250409T100000
DTEND;TZID=America/Chicago:20250409T150000
DTSTAMP:20260423T184357
CREATED:20250328T141708Z
LAST-MODIFIED:20250328T141738Z
UID:5778-1744192800-1744210800@post594.org
SUMMARY:Veterans Day on the Hill 2025
DESCRIPTION:For more information\, see Veterans Day on the Hill 2025
URL:https://post594.org/event/veterans-day-on-the-hill-2025/
LOCATION:Minnesota State Capitol\, 75 Rev. Dr. Martin Luther King Jr. Blvd.\, Saint Paul\, MN\, 55155\, United States
CATEGORIES:Calendar,Legistative
END:VEVENT
BEGIN:VEVENT
DTSTART;TZID=America/Chicago:20250318T190000
DTEND;TZID=America/Chicago:20250318T203000
DTSTAMP:20260423T184357
CREATED:20250116T190919Z
LAST-MODIFIED:20250116T190919Z
UID:5614-1742324400-1742329800@post594.org
SUMMARY:Membership Meeting – March 2025
DESCRIPTION:Come join other Post 594 members as the Post Officers present information about and for the Post membership on March  18\, 2025.  It will be held at Cedarvale Lanes in Eagan starting at 19:00 (7:00 pm). \nThe meetings are held in the banquet room at Cedarvale Lanes in the banquet room downstairs. Once you enter the building\, the easiest access to get downstairs is by the OnTrack pro shop. \nAddress: Cedarvale Lanes and Fitz’s Bar & Grill\n3883 Cedar Grove Parkway\nEagan\, MN 55122
URL:https://post594.org/event/membership-meeting-march-2025/
LOCATION:Cedarvale Lanes\, 3883 Cedar Grove Parkway\, Eagan\, MN\, 55122\, United States
CATEGORIES:Meeting
ORGANIZER;CN="John Rayman":MAILTO:jpretiredle05@gmail.com
END:VEVENT
BEGIN:VEVENT
DTSTART;TZID=America/Chicago:20250218T180000
DTEND;TZID=America/Chicago:20250218T190000
DTSTAMP:20260423T184357
CREATED:20250212T182059Z
LAST-MODIFIED:20250212T182415Z
UID:5675-1739901600-1739905200@post594.org
SUMMARY:Core Team Leadership Meeting –  Feb 2025
DESCRIPTION:There will be a Post 594 Core Team Leadership Meeting on Tuesday\, February 18\, 2025 at 18:00.  The meeting will be held in the lower meeting room at Cedarvale Lanes\, 3883 Cedar Grove Parkway\, Eagan\, MN.
URL:https://post594.org/event/core-team-leadership-meeting-feb-2024-2/
LOCATION:Cedarvale Lanes\, 3883 Cedar Grove Parkway\, Eagan\, MN\, 55122\, United States
CATEGORIES:Meeting
ORGANIZER;CN="John Rayman":MAILTO:jpretiredle05@gmail.com
END:VEVENT
BEGIN:VEVENT
DTSTART;TZID=America/Chicago:20250121T190000
DTEND;TZID=America/Chicago:20250121T203000
DTSTAMP:20260423T184357
CREATED:20250116T190719Z
LAST-MODIFIED:20250116T190719Z
UID:5612-1737486000-1737491400@post594.org
SUMMARY:Membership Meeting – January 2025
DESCRIPTION:Come join other Post 594 members as the Post Officers present information about and for the Post membership on January  21\, 2025.  It will be held at Cedarvale Lanes in Eagan starting at 19:00 (7:00 pm). \nThe meetings are held in the banquet room at Cedarvale Lanes in the banquet room downstairs. Once you enter the building\, the easiest access to get downstairs is by the OnTrack pro shop. \nAddress: Cedarvale Lanes and Fitz’s Bar & Grill\n3883 Cedar Grove Parkway\nEagan\, MN 55122
URL:https://post594.org/event/membership-meeting-january-2025/
LOCATION:Cedarvale Lanes\, 3883 Cedar Grove Parkway\, Eagan\, MN\, 55122\, United States
CATEGORIES:Meeting
ORGANIZER;CN="John Rayman":MAILTO:jpretiredle05@gmail.com
END:VEVENT
BEGIN:VEVENT
DTSTART;TZID=America/Chicago:20250121T183000
DTEND;TZID=America/Chicago:20250121T190000
DTSTAMP:20260423T184357
CREATED:20250119T225259Z
LAST-MODIFIED:20250119T225259Z
UID:5644-1737484200-1737486000@post594.org
SUMMARY:Post 594 Social Gathering
DESCRIPTION:Attend a pre-meeting Social Gathering to greet members and talk about over issues and topics. The gathering will be held in the meeting room at Cedarvale Lanes.
URL:https://post594.org/event/post-594-social-gathering/
LOCATION:Cedarvale Lanes\, 3883 Cedar Grove Parkway\, Eagan\, MN\, 55122\, United States
CATEGORIES:Meeting
ORGANIZER;CN="John Rayman":MAILTO:jpretiredle05@gmail.com
END:VEVENT
BEGIN:VEVENT
DTSTART;TZID=America/Chicago:20241217T180000
DTEND;TZID=America/Chicago:20241217T190000
DTSTAMP:20260423T184357
CREATED:20240207T234435Z
LAST-MODIFIED:20241216T211223Z
UID:4680-1734458400-1734462000@post594.org
SUMMARY:Core Team Leadership Meeting – Dec2024
DESCRIPTION:NOTE: This meeting has been cancelled. \nThere will be a Post 594 Core Team Leadership Meeting on Tuesday\, December 17\, 2024 at 18:00.  The meeting will be held at Fitz’s Bar and Grill\, 3883 Cedar Grove Parkway\, Eagan\, MN.
URL:https://post594.org/event/core-team-leadership-meeting-dec2024/
LOCATION:Cedarvale Lanes\, 3883 Cedar Grove Parkway\, Eagan\, MN\, 55122\, United States
CATEGORIES:Calendar,Meeting
ORGANIZER;CN="John Rayman":MAILTO:jpretiredle05@gmail.com
END:VEVENT
END:VCALENDAR